BEGIN:VCALENDAR
VERSION:2.0
PRODID:-//jEvents 2.0 for Joomla//EN
CALSCALE:GREGORIAN
METHOD:PUBLISH
BEGIN:VTIMEZONE
TZID:America/Denver
BEGIN:STANDARD
DTSTART:20151101T010000
RDATE:20160313T030000
TZOFFSETFROM:-0600
TZOFFSETTO:-0700
TZNAME:America/Denver MST
END:STANDARD
BEGIN:STANDARD
DTSTART:20161106T010000
RDATE:20170312T030000
TZOFFSETFROM:-0600
TZOFFSETTO:-0700
TZNAME:America/Denver MST
END:STANDARD
BEGIN:STANDARD
DTSTART:20171105T010000
RDATE:20180311T030000
TZOFFSETFROM:-0600
TZOFFSETTO:-0700
TZNAME:America/Denver MST
END:STANDARD
BEGIN:STANDARD
DTSTART:20181104T010000
RDATE:20190310T030000
TZOFFSETFROM:-0600
TZOFFSETTO:-0700
TZNAME:America/Denver MST
END:STANDARD
BEGIN:STANDARD
DTSTART:20191103T010000
RDATE:20200308T030000
TZOFFSETFROM:-0600
TZOFFSETTO:-0700
TZNAME:America/Denver MST
END:STANDARD
BEGIN:STANDARD
DTSTART:20201101T010000
RDATE:20210314T030000
TZOFFSETFROM:-0600
TZOFFSETTO:-0700
TZNAME:America/Denver MST
END:STANDARD
BEGIN:STANDARD
DTSTART:20211107T010000
RDATE:20220313T030000
TZOFFSETFROM:-0600
TZOFFSETTO:-0700
TZNAME:America/Denver MST
END:STANDARD
BEGIN:STANDARD
DTSTART:20221106T010000
RDATE:20230312T030000
TZOFFSETFROM:-0600
TZOFFSETTO:-0700
TZNAME:America/Denver MST
END:STANDARD
BEGIN:STANDARD
DTSTART:20231105T010000
RDATE:20240310T030000
TZOFFSETFROM:-0600
TZOFFSETTO:-0700
TZNAME:America/Denver MST
END:STANDARD
BEGIN:STANDARD
DTSTART:20241103T010000
RDATE:20250309T030000
TZOFFSETFROM:-0600
TZOFFSETTO:-0700
TZNAME:America/Denver MST
END:STANDARD
BEGIN:STANDARD
DTSTART:20251102T010000
RDATE:20260308T030000
TZOFFSETFROM:-0600
TZOFFSETTO:-0700
TZNAME:America/Denver MST
END:STANDARD
BEGIN:STANDARD
DTSTART:20261101T010000
RDATE:20270314T030000
TZOFFSETFROM:-0600
TZOFFSETTO:-0700
TZNAME:America/Denver MST
END:STANDARD
BEGIN:STANDARD
DTSTART:20271107T010000
RDATE:20280312T030000
TZOFFSETFROM:-0600
TZOFFSETTO:-0700
TZNAME:America/Denver MST
END:STANDARD
BEGIN:STANDARD
DTSTART:20281105T010000
RDATE:20290311T030000
TZOFFSETFROM:-0600
TZOFFSETTO:-0700
TZNAME:America/Denver MST
END:STANDARD
BEGIN:STANDARD
DTSTART:20291104T010000
RDATE:20300310T030000
TZOFFSETFROM:-0600
TZOFFSETTO:-0700
TZNAME:America/Denver MST
END:STANDARD
BEGIN:STANDARD
DTSTART:20301103T010000
RDATE:20310309T030000
TZOFFSETFROM:-0600
TZOFFSETTO:-0700
TZNAME:America/Denver MST
END:STANDARD
BEGIN:STANDARD
DTSTART:20311102T010000
RDATE:20320314T030000
TZOFFSETFROM:-0600
TZOFFSETTO:-0700
TZNAME:America/Denver MST
END:STANDARD
BEGIN:STANDARD
DTSTART:20321107T010000
RDATE:20330313T030000
TZOFFSETFROM:-0600
TZOFFSETTO:-0700
TZNAME:America/Denver MST
END:STANDARD
BEGIN:STANDARD
DTSTART:20331106T010000
RDATE:20340312T030000
TZOFFSETFROM:-0600
TZOFFSETTO:-0700
TZNAME:America/Denver MST
END:STANDARD
BEGIN:STANDARD
DTSTART:20341105T010000
RDATE:20350311T030000
TZOFFSETFROM:-0600
TZOFFSETTO:-0700
TZNAME:America/Denver MST
END:STANDARD
BEGIN:STANDARD
DTSTART:20351104T010000
RDATE:20360309T030000
TZOFFSETFROM:-0600
TZOFFSETTO:-0700
TZNAME:America/Denver MST
END:STANDARD
BEGIN:STANDARD
DTSTART:20361102T010000
RDATE:20370308T030000
TZOFFSETFROM:-0600
TZOFFSETTO:-0700
TZNAME:America/Denver MST
END:STANDARD
BEGIN:DAYLIGHT
DTSTART:20150913T180000
RDATE:20151101T010000
TZOFFSETFROM:-0700
TZOFFSETTO:-0600
TZNAME:America/Denver MDT
END:DAYLIGHT
BEGIN:DAYLIGHT
DTSTART:20160313T030000
RDATE:20161106T010000
TZOFFSETFROM:-0700
TZOFFSETTO:-0600
TZNAME:America/Denver MDT
END:DAYLIGHT
BEGIN:DAYLIGHT
DTSTART:20170312T030000
RDATE:20171105T010000
TZOFFSETFROM:-0700
TZOFFSETTO:-0600
TZNAME:America/Denver MDT
END:DAYLIGHT
BEGIN:DAYLIGHT
DTSTART:20180311T030000
RDATE:20181104T010000
TZOFFSETFROM:-0700
TZOFFSETTO:-0600
TZNAME:America/Denver MDT
END:DAYLIGHT
BEGIN:DAYLIGHT
DTSTART:20190310T030000
RDATE:20191103T010000
TZOFFSETFROM:-0700
TZOFFSETTO:-0600
TZNAME:America/Denver MDT
END:DAYLIGHT
BEGIN:DAYLIGHT
DTSTART:20200308T030000
RDATE:20201101T010000
TZOFFSETFROM:-0700
TZOFFSETTO:-0600
TZNAME:America/Denver MDT
END:DAYLIGHT
BEGIN:DAYLIGHT
DTSTART:20210314T030000
RDATE:20211107T010000
TZOFFSETFROM:-0700
TZOFFSETTO:-0600
TZNAME:America/Denver MDT
END:DAYLIGHT
BEGIN:DAYLIGHT
DTSTART:20220313T030000
RDATE:20221106T010000
TZOFFSETFROM:-0700
TZOFFSETTO:-0600
TZNAME:America/Denver MDT
END:DAYLIGHT
BEGIN:DAYLIGHT
DTSTART:20230312T030000
RDATE:20231105T010000
TZOFFSETFROM:-0700
TZOFFSETTO:-0600
TZNAME:America/Denver MDT
END:DAYLIGHT
BEGIN:DAYLIGHT
DTSTART:20240310T030000
RDATE:20241103T010000
TZOFFSETFROM:-0700
TZOFFSETTO:-0600
TZNAME:America/Denver MDT
END:DAYLIGHT
BEGIN:DAYLIGHT
DTSTART:20250309T030000
RDATE:20251102T010000
TZOFFSETFROM:-0700
TZOFFSETTO:-0600
TZNAME:America/Denver MDT
END:DAYLIGHT
BEGIN:DAYLIGHT
DTSTART:20260308T030000
RDATE:20261101T010000
TZOFFSETFROM:-0700
TZOFFSETTO:-0600
TZNAME:America/Denver MDT
END:DAYLIGHT
BEGIN:DAYLIGHT
DTSTART:20270314T030000
RDATE:20271107T010000
TZOFFSETFROM:-0700
TZOFFSETTO:-0600
TZNAME:America/Denver MDT
END:DAYLIGHT
BEGIN:DAYLIGHT
DTSTART:20280312T030000
RDATE:20281105T010000
TZOFFSETFROM:-0700
TZOFFSETTO:-0600
TZNAME:America/Denver MDT
END:DAYLIGHT
BEGIN:DAYLIGHT
DTSTART:20290311T030000
RDATE:20291104T010000
TZOFFSETFROM:-0700
TZOFFSETTO:-0600
TZNAME:America/Denver MDT
END:DAYLIGHT
BEGIN:DAYLIGHT
DTSTART:20300310T030000
RDATE:20301103T010000
TZOFFSETFROM:-0700
TZOFFSETTO:-0600
TZNAME:America/Denver MDT
END:DAYLIGHT
BEGIN:DAYLIGHT
DTSTART:20310309T030000
RDATE:20311102T010000
TZOFFSETFROM:-0700
TZOFFSETTO:-0600
TZNAME:America/Denver MDT
END:DAYLIGHT
BEGIN:DAYLIGHT
DTSTART:20320314T030000
RDATE:20321107T010000
TZOFFSETFROM:-0700
TZOFFSETTO:-0600
TZNAME:America/Denver MDT
END:DAYLIGHT
BEGIN:DAYLIGHT
DTSTART:20330313T030000
RDATE:20331106T010000
TZOFFSETFROM:-0700
TZOFFSETTO:-0600
TZNAME:America/Denver MDT
END:DAYLIGHT
BEGIN:DAYLIGHT
DTSTART:20340312T030000
RDATE:20341105T010000
TZOFFSETFROM:-0700
TZOFFSETTO:-0600
TZNAME:America/Denver MDT
END:DAYLIGHT
BEGIN:DAYLIGHT
DTSTART:20350311T030000
RDATE:20351104T010000
TZOFFSETFROM:-0700
TZOFFSETTO:-0600
TZNAME:America/Denver MDT
END:DAYLIGHT
BEGIN:DAYLIGHT
DTSTART:20360309T030000
RDATE:20361102T010000
TZOFFSETFROM:-0700
TZOFFSETTO:-0600
TZNAME:America/Denver MDT
END:DAYLIGHT
END:VTIMEZONE
BEGIN:VEVENT
UID:a866685c03a72f6df60eaf3366df95c1
CATEGORIES:Legal Notices
CREATED:20160912T211701
SUMMARY:Silver City Town Council Meeting
LOCATION:Grant County Administration Center
DESCRIPTION:1. CALL TO ORDER AND PLEDGE OF ALLEGIANCE\n2. CEREMONIES\n3. PROCLAMATIONS 
 - "Stand up, Stand out, &amp; Stand Proud Day" - September 17, 2016\n4. PUB
 LIC INPUT\n5. COUNCIL COMMENTS\n6. CHANGES TO AGENDA\n7. APPROVAL OF MINUTE
 S\nRegular Meeting - August 23, 2016\n8. REPORTS\nRaul Turrieta, Grant Coun
 ty Assessor, will report on a 4 mill increase for the hospital.\nStaff repo
 rts - 1) Manager Brown's report of the Fiscal Year 2016-2017 final budget a
 pproval by the State of New Mexico Department of Finance and Administration
 , Local Government Division.\n9. PUBLIC HEARINGS\n10. UNFINISHED BUSINESS\n
 11. NEW BUSINESS\nApproval / Disapproval of a Public Celebration Permit App
 lication and a waiver of NMSA 1978 60-6B-10 of the prohibition of dispensin
 g of alcoholic beverages within 300 feet of a church or school. Event Infor
 mation: the Red Dot Art Fest sponsored by the Silver City Art Association t
 o be held on October 7, 2016 with alcohol service from 4:00 p.m. to 8:00 p.
 m. at the Seedboat Gallery, 214 W. Yankie St., Silver City, NM, Liquor Lice
 nse Holder Information: La Esperanza Vineyard, LLC #6148, 100 De Lao, San L
 orenzo, NM 88041.\nApproval / Disapproval of Resolution No. 2016-23: Author
 izing the Town Manager to execute documents on behalf of the Town of Silver
  City pertaining to two agreements between the Town of Silver City and the 
 Interstate Stream Commission.\nApproval / Disapproval of Executive Session 
 pursuant to NMSA 1978 Section 10-15-1(H) (2) regarding limited personnel ma
 tters to discuss the Town Manager's contract.\n12. ADJOURNMENT\n
X-ALT-DESC;FMTTYPE=text/html:<p>1. CALL TO ORDER AND PLEDGE OF ALLEGIANCE</p><p>2. CEREMONIES</p><p>3. P
 ROCLAMATIONS - "Stand up, Stand out, &amp; Stand Proud Day" - September 17,
  2016</p><p>4. PUBLIC INPUT</p><p>5. COUNCIL COMMENTS</p><p>6. CHANGES TO A
 GENDA</p><p>7. APPROVAL OF MINUTES</p><p>Regular Meeting - August 23, 2016<
 br />8. REPORTS</p><p>Raul Turrieta, Grant County Assessor, will report on 
 a 4 mill increase for the hospital.<br />Staff reports - 1) Manager Brown's
  report of the Fiscal Year 2016-2017 final budget approval by the State of 
 New Mexico Department of Finance and Administration, Local Government Divis
 ion.<br />9. PUBLIC HEARINGS</p><p>10. UNFINISHED BUSINESS</p><p>11. NEW BU
 SINESS</p><p>Approval / Disapproval of a Public Celebration Permit Applicat
 ion and a waiver of NMSA 1978 60-6B-10 of the prohibition of dispensing of 
 alcoholic beverages within 300 feet of a church or school. Event Informatio
 n: the Red Dot Art Fest sponsored by the Silver City Art Association to be 
 held on October 7, 2016 with alcohol service from 4:00 p.m. to 8:00 p.m. at
  the Seedboat Gallery, 214 W. Yankie St., Silver City, NM, Liquor License H
 older Information: La Esperanza Vineyard, LLC #6148, 100 De Lao, San Lorenz
 o, NM 88041.<br />Approval / Disapproval of Resolution No. 2016-23: Authori
 zing the Town Manager to execute documents on behalf of the Town of Silver 
 City pertaining to two agreements between the Town of Silver City and the I
 nterstate Stream Commission.<br />Approval / Disapproval of Executive Sessi
 on pursuant to NMSA 1978 Section 10-15-1(H) (2) regarding limited personnel
  matters to discuss the Town Manager's contract.<br />12. ADJOURNMENT</p>
CONTACT:www.townofsilvercity.org or 575-534-6348 or 575-534-6346
DTSTAMP:20260420T194615
DTSTART;TZID=America/Denver:20160913T180000
SEQUENCE:0
TRANSP:OPAQUE
END:VEVENT
END:VCALENDAR