BEGIN:VCALENDAR
VERSION:2.0
PRODID:-//jEvents 2.0 for Joomla//EN
CALSCALE:GREGORIAN
METHOD:PUBLISH
BEGIN:VTIMEZONE
TZID:America/Denver
BEGIN:STANDARD
DTSTART:20151119T000000
RDATE:20160313T030000
TZOFFSETFROM:-0600
TZOFFSETTO:-0700
TZNAME:America/Denver MST
END:STANDARD
BEGIN:STANDARD
DTSTART:20161106T010000
RDATE:20170312T030000
TZOFFSETFROM:-0600
TZOFFSETTO:-0700
TZNAME:America/Denver MST
END:STANDARD
BEGIN:STANDARD
DTSTART:20171105T010000
RDATE:20180311T030000
TZOFFSETFROM:-0600
TZOFFSETTO:-0700
TZNAME:America/Denver MST
END:STANDARD
BEGIN:STANDARD
DTSTART:20181104T010000
RDATE:20190310T030000
TZOFFSETFROM:-0600
TZOFFSETTO:-0700
TZNAME:America/Denver MST
END:STANDARD
BEGIN:STANDARD
DTSTART:20191103T010000
RDATE:20200308T030000
TZOFFSETFROM:-0600
TZOFFSETTO:-0700
TZNAME:America/Denver MST
END:STANDARD
BEGIN:STANDARD
DTSTART:20201101T010000
RDATE:20210314T030000
TZOFFSETFROM:-0600
TZOFFSETTO:-0700
TZNAME:America/Denver MST
END:STANDARD
BEGIN:STANDARD
DTSTART:20211107T010000
RDATE:20220313T030000
TZOFFSETFROM:-0600
TZOFFSETTO:-0700
TZNAME:America/Denver MST
END:STANDARD
BEGIN:STANDARD
DTSTART:20221106T010000
RDATE:20230312T030000
TZOFFSETFROM:-0600
TZOFFSETTO:-0700
TZNAME:America/Denver MST
END:STANDARD
BEGIN:STANDARD
DTSTART:20231105T010000
RDATE:20240310T030000
TZOFFSETFROM:-0600
TZOFFSETTO:-0700
TZNAME:America/Denver MST
END:STANDARD
BEGIN:STANDARD
DTSTART:20241103T010000
RDATE:20250309T030000
TZOFFSETFROM:-0600
TZOFFSETTO:-0700
TZNAME:America/Denver MST
END:STANDARD
BEGIN:STANDARD
DTSTART:20251102T010000
RDATE:20260308T030000
TZOFFSETFROM:-0600
TZOFFSETTO:-0700
TZNAME:America/Denver MST
END:STANDARD
BEGIN:STANDARD
DTSTART:20261101T010000
RDATE:20270314T030000
TZOFFSETFROM:-0600
TZOFFSETTO:-0700
TZNAME:America/Denver MST
END:STANDARD
BEGIN:STANDARD
DTSTART:20271107T010000
RDATE:20280312T030000
TZOFFSETFROM:-0600
TZOFFSETTO:-0700
TZNAME:America/Denver MST
END:STANDARD
BEGIN:STANDARD
DTSTART:20281105T010000
RDATE:20290311T030000
TZOFFSETFROM:-0600
TZOFFSETTO:-0700
TZNAME:America/Denver MST
END:STANDARD
BEGIN:STANDARD
DTSTART:20291104T010000
RDATE:20300310T030000
TZOFFSETFROM:-0600
TZOFFSETTO:-0700
TZNAME:America/Denver MST
END:STANDARD
BEGIN:STANDARD
DTSTART:20301103T010000
RDATE:20310309T030000
TZOFFSETFROM:-0600
TZOFFSETTO:-0700
TZNAME:America/Denver MST
END:STANDARD
BEGIN:STANDARD
DTSTART:20311102T010000
RDATE:20320314T030000
TZOFFSETFROM:-0600
TZOFFSETTO:-0700
TZNAME:America/Denver MST
END:STANDARD
BEGIN:STANDARD
DTSTART:20321107T010000
RDATE:20330313T030000
TZOFFSETFROM:-0600
TZOFFSETTO:-0700
TZNAME:America/Denver MST
END:STANDARD
BEGIN:STANDARD
DTSTART:20331106T010000
RDATE:20340312T030000
TZOFFSETFROM:-0600
TZOFFSETTO:-0700
TZNAME:America/Denver MST
END:STANDARD
BEGIN:STANDARD
DTSTART:20341105T010000
RDATE:20350311T030000
TZOFFSETFROM:-0600
TZOFFSETTO:-0700
TZNAME:America/Denver MST
END:STANDARD
BEGIN:STANDARD
DTSTART:20351104T010000
RDATE:20360309T030000
TZOFFSETFROM:-0600
TZOFFSETTO:-0700
TZNAME:America/Denver MST
END:STANDARD
BEGIN:STANDARD
DTSTART:20361102T010000
RDATE:20370308T030000
TZOFFSETFROM:-0600
TZOFFSETTO:-0700
TZNAME:America/Denver MST
END:STANDARD
BEGIN:DAYLIGHT
DTSTART:20160313T030000
RDATE:20161106T010000
TZOFFSETFROM:-0700
TZOFFSETTO:-0600
TZNAME:America/Denver MDT
END:DAYLIGHT
BEGIN:DAYLIGHT
DTSTART:20170312T030000
RDATE:20171105T010000
TZOFFSETFROM:-0700
TZOFFSETTO:-0600
TZNAME:America/Denver MDT
END:DAYLIGHT
BEGIN:DAYLIGHT
DTSTART:20180311T030000
RDATE:20181104T010000
TZOFFSETFROM:-0700
TZOFFSETTO:-0600
TZNAME:America/Denver MDT
END:DAYLIGHT
BEGIN:DAYLIGHT
DTSTART:20190310T030000
RDATE:20191103T010000
TZOFFSETFROM:-0700
TZOFFSETTO:-0600
TZNAME:America/Denver MDT
END:DAYLIGHT
BEGIN:DAYLIGHT
DTSTART:20200308T030000
RDATE:20201101T010000
TZOFFSETFROM:-0700
TZOFFSETTO:-0600
TZNAME:America/Denver MDT
END:DAYLIGHT
BEGIN:DAYLIGHT
DTSTART:20210314T030000
RDATE:20211107T010000
TZOFFSETFROM:-0700
TZOFFSETTO:-0600
TZNAME:America/Denver MDT
END:DAYLIGHT
BEGIN:DAYLIGHT
DTSTART:20220313T030000
RDATE:20221106T010000
TZOFFSETFROM:-0700
TZOFFSETTO:-0600
TZNAME:America/Denver MDT
END:DAYLIGHT
BEGIN:DAYLIGHT
DTSTART:20230312T030000
RDATE:20231105T010000
TZOFFSETFROM:-0700
TZOFFSETTO:-0600
TZNAME:America/Denver MDT
END:DAYLIGHT
BEGIN:DAYLIGHT
DTSTART:20240310T030000
RDATE:20241103T010000
TZOFFSETFROM:-0700
TZOFFSETTO:-0600
TZNAME:America/Denver MDT
END:DAYLIGHT
BEGIN:DAYLIGHT
DTSTART:20250309T030000
RDATE:20251102T010000
TZOFFSETFROM:-0700
TZOFFSETTO:-0600
TZNAME:America/Denver MDT
END:DAYLIGHT
BEGIN:DAYLIGHT
DTSTART:20260308T030000
RDATE:20261101T010000
TZOFFSETFROM:-0700
TZOFFSETTO:-0600
TZNAME:America/Denver MDT
END:DAYLIGHT
BEGIN:DAYLIGHT
DTSTART:20270314T030000
RDATE:20271107T010000
TZOFFSETFROM:-0700
TZOFFSETTO:-0600
TZNAME:America/Denver MDT
END:DAYLIGHT
BEGIN:DAYLIGHT
DTSTART:20280312T030000
RDATE:20281105T010000
TZOFFSETFROM:-0700
TZOFFSETTO:-0600
TZNAME:America/Denver MDT
END:DAYLIGHT
BEGIN:DAYLIGHT
DTSTART:20290311T030000
RDATE:20291104T010000
TZOFFSETFROM:-0700
TZOFFSETTO:-0600
TZNAME:America/Denver MDT
END:DAYLIGHT
BEGIN:DAYLIGHT
DTSTART:20300310T030000
RDATE:20301103T010000
TZOFFSETFROM:-0700
TZOFFSETTO:-0600
TZNAME:America/Denver MDT
END:DAYLIGHT
BEGIN:DAYLIGHT
DTSTART:20310309T030000
RDATE:20311102T010000
TZOFFSETFROM:-0700
TZOFFSETTO:-0600
TZNAME:America/Denver MDT
END:DAYLIGHT
BEGIN:DAYLIGHT
DTSTART:20320314T030000
RDATE:20321107T010000
TZOFFSETFROM:-0700
TZOFFSETTO:-0600
TZNAME:America/Denver MDT
END:DAYLIGHT
BEGIN:DAYLIGHT
DTSTART:20330313T030000
RDATE:20331106T010000
TZOFFSETFROM:-0700
TZOFFSETTO:-0600
TZNAME:America/Denver MDT
END:DAYLIGHT
BEGIN:DAYLIGHT
DTSTART:20340312T030000
RDATE:20341105T010000
TZOFFSETFROM:-0700
TZOFFSETTO:-0600
TZNAME:America/Denver MDT
END:DAYLIGHT
BEGIN:DAYLIGHT
DTSTART:20350311T030000
RDATE:20351104T010000
TZOFFSETFROM:-0700
TZOFFSETTO:-0600
TZNAME:America/Denver MDT
END:DAYLIGHT
BEGIN:DAYLIGHT
DTSTART:20360309T030000
RDATE:20361102T010000
TZOFFSETFROM:-0700
TZOFFSETTO:-0600
TZNAME:America/Denver MDT
END:DAYLIGHT
END:VTIMEZONE
BEGIN:VEVENT
UID:1b07f65bef7ff8264d79042306c46df7
CATEGORIES:Rural Roads
CREATED:20161114T173544
SUMMARY:Holiday Season Shopping Event in Rodeo, New Mexico
DESCRIPTION:The spectacular San Simon Valley, straddling the Arizona/New Mexico state l
 ine 50 miles north of Douglas, AZ features classic bajadas that extend west
  to the Chiricahua Mountain Range in AZ and east to the Peloncillo Mountain
  Range in NM. In the middle of that picturesque landscape lies the town of 
 Rodeo....New Mexico's most western (and sleepy) little town. And, many say,
  the most friendly! There’s no better time to visit this magical place than
  the weekend before Thanksgiving, when community artisans and businesses ho
 pe to meet regional residents and visitors during the community's annual Ho
 liday Season Shopping Event! Don’t miss these shopping opportunities availa
 ble November 19-20: Chiricahua Gallery Holiday Show Downtown Rodeo on Highw
 ay 80; Nov. 19th and 20th; Open Daily 10 a.m.-4pm.  Refreshments will be se
 rved.\nhttps://www.facebook.com/ChiricahuaGallery/?fref=ts (https://www.fac
 ebook.com/ChiricahuaGallery/?fref=ts)  http://www.chiricahuagallery.org/eve
 nt-details.html (http://www.chiricahuagallery.org/event-details.html) Chiri
 cahua Desert Museum Holiday Sale, 2 miles north of Rodeo on Highway 80; Nov
 . 19-20; Open Daily 9 a.m. to 5:30 p.m. Refreshments will be served  https:
 //www.facebook.com/ChiricahuaDesertMuseum/? (https://www.facebook.com/Chiri
 cahuaDesertMuseum/) fref=ts (https://www.facebook.com/ChiricahuaDesertMuseu
 m/?fref=ts) http://www.chiricahuadesertmuseum.com/ (http://www.chiricahuade
 sertmuseum.com/) Rodeo Community Association's Annual Arts and Crafts Festi
 val, Rodeo Community Center, 1 block east of Hwy 80 on Hickory St. Nov. 19t
 h from 9 a.m. to 3 p.m. Visit 30 vendors offering Fudge, Gifts, Food and Ho
 liday Cheer! Homemade lunch will be served at the Rodeo Community Center.  
 https://www.facebook.com/events/206841366410747/ Rodeo, NM is located on Sc
 enic NM Highway 80. Traveling north from Douglas, AZ on NM 80, You'll trave
 rse the gorgeous San Bernardino Valley, home of Geronimo's surrender site. 
 Travelling south from I-10 at the NM exit 5, you'll pass through Granite Ga
 p, and gasp at the towering Chiricahuas Mountains! There are many options f
 or overnight stays or even longer.\n
X-ALT-DESC;FMTTYPE=text/html:<p>The spectacular San Simon Valley, straddling the Arizona/New Mexico stat
 e line 50 miles north of Douglas, AZ features classic bajadas that extend w
 est to the Chiricahua Mountain Range in AZ and east to the Peloncillo Mount
 ain Range in NM. In the middle of that picturesque landscape lies the town 
 of Rodeo....New Mexico's most western (and sleepy) little town. And, many s
 ay, the most friendly! There’s no better time to visit this magical place t
 han the weekend before Thanksgiving, when community artisans and businesses
  hope to meet regional residents and visitors during the community's annual
  Holiday Season Shopping Event!&nbsp;Don’t miss these shopping opportunitie
 s available November 19-20:&nbsp;Chiricahua Gallery Holiday Show&nbsp;Downt
 own Rodeo on Highway 80; Nov. 19th and 20th; Open Daily 10 a.m.-4pm. &nbsp;
 Refreshments will be served.<br /><a href="https://www.facebook.com/Chirica
 huaGallery/?fref=ts">https://www.facebook.com/ChiricahuaGallery/?fref=ts</a
 >&nbsp; <a href="http://www.chiricahuagallery.org/event-details.html">http:
 //www.chiricahuagallery.org/event-details.html</a>&nbsp;Chiricahua Desert M
 useum Holiday Sale, 2 miles north of Rodeo on Highway 80; Nov. 19-20; Open 
 Daily 9 a.m. to 5:30 p.m. Refreshments will be served &nbsp;<a href="https:
 //www.facebook.com/ChiricahuaDesertMuseum/">https://www.facebook.com/Chiric
 ahuaDesertMuseum/?</a><a href="https://www.facebook.com/ChiricahuaDesertMus
 eum/?fref=ts"> fref=ts</a>&nbsp;<a href="http://www.chiricahuadesertmuseum.
 com/">http://www.chiricahuadesertmuseum.com/</a>&nbsp;Rodeo Community Assoc
 iation's Annual Arts and Crafts Festival,&nbsp;Rodeo Community Center, 1 bl
 ock east of Hwy 80 on Hickory St.&nbsp;Nov. 19th from 9 a.m. to 3 p.m.&nbsp
 ;Visit 30 vendors offering Fudge, Gifts, Food and Holiday Cheer! Homemade l
 unch will be served at the Rodeo Community Center. &nbsp;<a href="https://w
 ww.facebook.com/events/206841366410747/">https://www.facebook.com/events/20
 6841366410747/</a>&nbsp;Rodeo, NM is located on Scenic NM Highway 80. Trave
 ling north from Douglas, AZ on NM 80, You'll traverse the gorgeous San Bern
 ardino Valley, home of Geronimo's surrender site. Travelling south from I-1
 0 at the NM exit 5, you'll pass through Granite Gap, and gasp at the toweri
 ng Chiricahuas Mountains! There are many options for overnight stays or eve
 n longer.</p>
CONTACT:For Lodging Information call 575-557-1400
DTSTAMP:20260421T073839
DTSTART;TZID=America/Denver;VALUE=DATE:20161119
DTEND;TZID=America/Denver;VALUE=DATE:20161121
SEQUENCE:0
TRANSP:OPAQUE
END:VEVENT
END:VCALENDAR