BEGIN:VCALENDAR
VERSION:2.0
PRODID:-//jEvents 2.0 for Joomla//EN
CALSCALE:GREGORIAN
METHOD:PUBLISH
BEGIN:VTIMEZONE
TZID:America/Denver
BEGIN:STANDARD
DTSTART:20160112T090000
RDATE:20160313T030000
TZOFFSETFROM:-0600
TZOFFSETTO:-0700
TZNAME:America/Denver MST
END:STANDARD
BEGIN:STANDARD
DTSTART:20161106T010000
RDATE:20170312T030000
TZOFFSETFROM:-0600
TZOFFSETTO:-0700
TZNAME:America/Denver MST
END:STANDARD
BEGIN:STANDARD
DTSTART:20171105T010000
RDATE:20180311T030000
TZOFFSETFROM:-0600
TZOFFSETTO:-0700
TZNAME:America/Denver MST
END:STANDARD
BEGIN:STANDARD
DTSTART:20181104T010000
RDATE:20190310T030000
TZOFFSETFROM:-0600
TZOFFSETTO:-0700
TZNAME:America/Denver MST
END:STANDARD
BEGIN:STANDARD
DTSTART:20191103T010000
RDATE:20200308T030000
TZOFFSETFROM:-0600
TZOFFSETTO:-0700
TZNAME:America/Denver MST
END:STANDARD
BEGIN:STANDARD
DTSTART:20201101T010000
RDATE:20210314T030000
TZOFFSETFROM:-0600
TZOFFSETTO:-0700
TZNAME:America/Denver MST
END:STANDARD
BEGIN:STANDARD
DTSTART:20211107T010000
RDATE:20220313T030000
TZOFFSETFROM:-0600
TZOFFSETTO:-0700
TZNAME:America/Denver MST
END:STANDARD
BEGIN:STANDARD
DTSTART:20221106T010000
RDATE:20230312T030000
TZOFFSETFROM:-0600
TZOFFSETTO:-0700
TZNAME:America/Denver MST
END:STANDARD
BEGIN:STANDARD
DTSTART:20231105T010000
RDATE:20240310T030000
TZOFFSETFROM:-0600
TZOFFSETTO:-0700
TZNAME:America/Denver MST
END:STANDARD
BEGIN:STANDARD
DTSTART:20241103T010000
RDATE:20250309T030000
TZOFFSETFROM:-0600
TZOFFSETTO:-0700
TZNAME:America/Denver MST
END:STANDARD
BEGIN:STANDARD
DTSTART:20251102T010000
RDATE:20260308T030000
TZOFFSETFROM:-0600
TZOFFSETTO:-0700
TZNAME:America/Denver MST
END:STANDARD
BEGIN:STANDARD
DTSTART:20261101T010000
RDATE:20270314T030000
TZOFFSETFROM:-0600
TZOFFSETTO:-0700
TZNAME:America/Denver MST
END:STANDARD
BEGIN:STANDARD
DTSTART:20271107T010000
RDATE:20280312T030000
TZOFFSETFROM:-0600
TZOFFSETTO:-0700
TZNAME:America/Denver MST
END:STANDARD
BEGIN:STANDARD
DTSTART:20281105T010000
RDATE:20290311T030000
TZOFFSETFROM:-0600
TZOFFSETTO:-0700
TZNAME:America/Denver MST
END:STANDARD
BEGIN:STANDARD
DTSTART:20291104T010000
RDATE:20300310T030000
TZOFFSETFROM:-0600
TZOFFSETTO:-0700
TZNAME:America/Denver MST
END:STANDARD
BEGIN:STANDARD
DTSTART:20301103T010000
RDATE:20310309T030000
TZOFFSETFROM:-0600
TZOFFSETTO:-0700
TZNAME:America/Denver MST
END:STANDARD
BEGIN:STANDARD
DTSTART:20311102T010000
RDATE:20320314T030000
TZOFFSETFROM:-0600
TZOFFSETTO:-0700
TZNAME:America/Denver MST
END:STANDARD
BEGIN:STANDARD
DTSTART:20321107T010000
RDATE:20330313T030000
TZOFFSETFROM:-0600
TZOFFSETTO:-0700
TZNAME:America/Denver MST
END:STANDARD
BEGIN:STANDARD
DTSTART:20331106T010000
RDATE:20340312T030000
TZOFFSETFROM:-0600
TZOFFSETTO:-0700
TZNAME:America/Denver MST
END:STANDARD
BEGIN:STANDARD
DTSTART:20341105T010000
RDATE:20350311T030000
TZOFFSETFROM:-0600
TZOFFSETTO:-0700
TZNAME:America/Denver MST
END:STANDARD
BEGIN:STANDARD
DTSTART:20351104T010000
RDATE:20360309T030000
TZOFFSETFROM:-0600
TZOFFSETTO:-0700
TZNAME:America/Denver MST
END:STANDARD
BEGIN:STANDARD
DTSTART:20361102T010000
RDATE:20370308T030000
TZOFFSETFROM:-0600
TZOFFSETTO:-0700
TZNAME:America/Denver MST
END:STANDARD
BEGIN:DAYLIGHT
DTSTART:20160313T030000
RDATE:20161106T010000
TZOFFSETFROM:-0700
TZOFFSETTO:-0600
TZNAME:America/Denver MDT
END:DAYLIGHT
BEGIN:DAYLIGHT
DTSTART:20170312T030000
RDATE:20171105T010000
TZOFFSETFROM:-0700
TZOFFSETTO:-0600
TZNAME:America/Denver MDT
END:DAYLIGHT
BEGIN:DAYLIGHT
DTSTART:20180311T030000
RDATE:20181104T010000
TZOFFSETFROM:-0700
TZOFFSETTO:-0600
TZNAME:America/Denver MDT
END:DAYLIGHT
BEGIN:DAYLIGHT
DTSTART:20190310T030000
RDATE:20191103T010000
TZOFFSETFROM:-0700
TZOFFSETTO:-0600
TZNAME:America/Denver MDT
END:DAYLIGHT
BEGIN:DAYLIGHT
DTSTART:20200308T030000
RDATE:20201101T010000
TZOFFSETFROM:-0700
TZOFFSETTO:-0600
TZNAME:America/Denver MDT
END:DAYLIGHT
BEGIN:DAYLIGHT
DTSTART:20210314T030000
RDATE:20211107T010000
TZOFFSETFROM:-0700
TZOFFSETTO:-0600
TZNAME:America/Denver MDT
END:DAYLIGHT
BEGIN:DAYLIGHT
DTSTART:20220313T030000
RDATE:20221106T010000
TZOFFSETFROM:-0700
TZOFFSETTO:-0600
TZNAME:America/Denver MDT
END:DAYLIGHT
BEGIN:DAYLIGHT
DTSTART:20230312T030000
RDATE:20231105T010000
TZOFFSETFROM:-0700
TZOFFSETTO:-0600
TZNAME:America/Denver MDT
END:DAYLIGHT
BEGIN:DAYLIGHT
DTSTART:20240310T030000
RDATE:20241103T010000
TZOFFSETFROM:-0700
TZOFFSETTO:-0600
TZNAME:America/Denver MDT
END:DAYLIGHT
BEGIN:DAYLIGHT
DTSTART:20250309T030000
RDATE:20251102T010000
TZOFFSETFROM:-0700
TZOFFSETTO:-0600
TZNAME:America/Denver MDT
END:DAYLIGHT
BEGIN:DAYLIGHT
DTSTART:20260308T030000
RDATE:20261101T010000
TZOFFSETFROM:-0700
TZOFFSETTO:-0600
TZNAME:America/Denver MDT
END:DAYLIGHT
BEGIN:DAYLIGHT
DTSTART:20270314T030000
RDATE:20271107T010000
TZOFFSETFROM:-0700
TZOFFSETTO:-0600
TZNAME:America/Denver MDT
END:DAYLIGHT
BEGIN:DAYLIGHT
DTSTART:20280312T030000
RDATE:20281105T010000
TZOFFSETFROM:-0700
TZOFFSETTO:-0600
TZNAME:America/Denver MDT
END:DAYLIGHT
BEGIN:DAYLIGHT
DTSTART:20290311T030000
RDATE:20291104T010000
TZOFFSETFROM:-0700
TZOFFSETTO:-0600
TZNAME:America/Denver MDT
END:DAYLIGHT
BEGIN:DAYLIGHT
DTSTART:20300310T030000
RDATE:20301103T010000
TZOFFSETFROM:-0700
TZOFFSETTO:-0600
TZNAME:America/Denver MDT
END:DAYLIGHT
BEGIN:DAYLIGHT
DTSTART:20310309T030000
RDATE:20311102T010000
TZOFFSETFROM:-0700
TZOFFSETTO:-0600
TZNAME:America/Denver MDT
END:DAYLIGHT
BEGIN:DAYLIGHT
DTSTART:20320314T030000
RDATE:20321107T010000
TZOFFSETFROM:-0700
TZOFFSETTO:-0600
TZNAME:America/Denver MDT
END:DAYLIGHT
BEGIN:DAYLIGHT
DTSTART:20330313T030000
RDATE:20331106T010000
TZOFFSETFROM:-0700
TZOFFSETTO:-0600
TZNAME:America/Denver MDT
END:DAYLIGHT
BEGIN:DAYLIGHT
DTSTART:20340312T030000
RDATE:20341105T010000
TZOFFSETFROM:-0700
TZOFFSETTO:-0600
TZNAME:America/Denver MDT
END:DAYLIGHT
BEGIN:DAYLIGHT
DTSTART:20350311T030000
RDATE:20351104T010000
TZOFFSETFROM:-0700
TZOFFSETTO:-0600
TZNAME:America/Denver MDT
END:DAYLIGHT
BEGIN:DAYLIGHT
DTSTART:20360309T030000
RDATE:20361102T010000
TZOFFSETFROM:-0700
TZOFFSETTO:-0600
TZNAME:America/Denver MDT
END:DAYLIGHT
END:VTIMEZONE
BEGIN:VEVENT
UID:4149e09ed8d09800fad401bc616dce69
CATEGORIES:Public Meetings
CREATED:20170109T193733
SUMMARY:Grant County Board of Commissioners Regular Meeting
LOCATION:Grant County Administration Center
DESCRIPTION:I. Call to Order; II. Pledge of Allegiance &amp; Salute to State Flag; III.
  Election and Approval of 2017 Chairperson and Vice Chairperson; IV. Approv
 al of Regular Meeting Agenda; V. Public Input -  During this portion of our
  meeting, we welcome your suggestions and want to hear your concerns. This 
 is not a question and answer period; speakers will be limited to five (5) m
 inutes. Any individual who would like to discuss an item in more depth may 
 request to be placed on a future agenda. Request forms are available in the
  County Manager’s Office. VI. Public Hearing - Open Public Hearing and Disc
 ussion regarding any objection to the regularity, validity and correctness 
 of the following for the Fleming Tank Road and Wind Canyon Estates Improvem
 ent; District Assessment Roll Hearing: 1. the proceedings; 2. the assessmen
 t roll; 3. each assessment contained on the assessment roll; or 4. the amou
 nt of the assessment levied against each tract or parcel of land. Close Pub
 lic Hearing. VII. Minutes a. Approve/Disapprove December 13, 2016, Work Ses
 sion Minutes. b. Approve/Disapprove December 15, 2016, Regular Meeting Minu
 tes. VIII. Financial Reports - c. Approve/Disapprove January 6, 2017, Expen
 diture Report. IX. New Business - d. High Desert Humane Society Annual Repo
 rt - Heidi Ogas; e. Approve/Disapprove Inventory Deletion of four (4) print
 ers for the Grant County Sheriff’s Department; f. Approve/Disapprove 2017 C
 ommittee Assignments; g. Approve/Disapprove the 2017 Volunteer Fire and Res
 cue Annual Elections of Officers (Consent Agenda Item): 1. Pinos Altos Volu
 nteer Fire and Rescue      2. Sapillo Creek Volunteer Fire and Rescue 3. Sa
 nta Rita Volunteer Fire and Rescue 4. Whiskey Creek Volunteer Fire and Resc
 ue 5. Tyrone Volunteer Fire and Rescue 6. Fort Bayard Volunteer Fire Depart
 ment 7. Lower Mimbres Volunteer Fire Department 8. Upper Mimbres Volunteer 
 Fire Department 9. Cliff/Gila Volunteer Fire Department h. Approve/Disappro
 ve the Annual Service Report and EMS Fund Act Local Funding Program Applica
 tion for Fiscal Year 2018 (Consent Agenda Item): 1. Gila Valley EMS 2. Pino
 s Altos EMS 3. Whiskey Creek EMS 4. Gila Regional EMS 5. Tyrone White Signa
 l District 1 EMS 6. Tyrone Flying A and Wind Canyon District 2 EMS 7. Tyron
 e Hachita District 3 EMS i. Discussion regarding Gila Regional Medical Cent
 er - Commissioners j. 2017 Annual Assessor’s Report pursuant to NMSA 7-36-1
 6-E - Raul Turrieta.  X. Agreements -                         k. Approve/Di
 sapprove Amendment No. 1 to Agreement No. A-16-20; Grant Agreement with the
  Department of Finance and Administration Local Government Division for the
  Fiscal Year 2017 DWI Grant No. 17-D-J-G-10. XI. Resolutions - l. Approve/D
 isapprove Resolution No. R-17-01; Open Meetings Act for 2017 m. Approve/Dis
 approve Resolution No. R-17-02; Notice of Intent to Consider Low Income Reb
 ate Ordinance n. Approve/Disapprove Resolution No. R-17-03; Fleming Tank Ro
 ad and Wind Canyon Estates Subdivision Community Area Improvement District 
 Confirmation of the Assessment Roll o. Approve/Disapprove Resolution No. R-
 17-04; Publication of a Legal Notice of Intent to Adopt Ordinance No. O-17-
 01; Fleming Tank Road and Wind Canyon Estates Improvement District Assessme
 nt Levy. XII. Recess as the Grant County Board of County Commissioners and 
 Convene as the Grant County Indigent Hospital and Health Care Claims Board 
 p. Approve/Disapprove December 2016, Health Plan Claims (Indigent Fund) in 
 the amount of $ 29,445.91. XIII. Adjourn as the Grant County Indigent Hospi
 tal and Health Care Claims Board and Reconvene as the Grant County Board of
  Commissioners. XIV. Elected Officials’ Reports. XV. Commissioners’ Reports
 . XVI. Adjournment\n
X-ALT-DESC;FMTTYPE=text/html:<p>I. Call to Order;&nbsp;II. Pledge of Allegiance &amp; Salute to State Fl
 ag;&nbsp;III. Election and Approval of 2017 Chairperson and Vice Chairperso
 n;&nbsp;IV. Approval of Regular Meeting Agenda;&nbsp;V. Public Input - &nbs
 p;During this portion of our meeting, we welcome your suggestions and want 
 to hear your concerns. This is not a question and answer period; speakers w
 ill be limited to five (5) minutes. Any individual who would like to discus
 s an item in more depth may request to be placed on a future agenda. Reques
 t forms are available in the County Manager’s Office.&nbsp;VI. Public Heari
 ng -&nbsp;Open Public Hearing and Discussion regarding any objection to the
  regularity, validity and correctness of the following for the Fleming Tank
  Road and Wind Canyon Estates Improvement; District Assessment Roll Hearing
 :&nbsp;1. the proceedings;&nbsp;2. the assessment roll;&nbsp;3. each assess
 ment contained on the assessment roll; or&nbsp;4. the amount of the assessm
 ent levied against each tract or parcel of land.&nbsp;Close Public Hearing.
 &nbsp;VII. Minutes&nbsp;a. Approve/Disapprove December 13, 2016, Work Sessi
 on Minutes.&nbsp;b. Approve/Disapprove December 15, 2016, Regular Meeting M
 inutes.&nbsp;VIII. Financial Reports -&nbsp;c. Approve/Disapprove January 6
 , 2017, Expenditure Report.&nbsp;IX. New Business -&nbsp;d. High Desert Hum
 ane Society Annual Report - Heidi Ogas;&nbsp;e. Approve/Disapprove Inventor
 y Deletion of four (4) printers for the Grant County Sheriff’s Department;&
 nbsp;f. Approve/Disapprove 2017 Committee Assignments;&nbsp;g. Approve/Disa
 pprove the 2017 Volunteer Fire and Rescue Annual Elections of Officers (Con
 sent Agenda Item):&nbsp;1. Pinos Altos Volunteer Fire and Rescue &nbsp; &nb
 sp; &nbsp;2. Sapillo Creek Volunteer Fire and Rescue&nbsp;3. Santa Rita Vol
 unteer Fire and Rescue&nbsp;4. Whiskey Creek Volunteer Fire and Rescue&nbsp
 ;5. Tyrone Volunteer Fire and Rescue&nbsp;6. Fort Bayard Volunteer Fire Dep
 artment&nbsp;7. Lower Mimbres Volunteer Fire Department&nbsp;8. Upper Mimbr
 es Volunteer Fire Department&nbsp;9. Cliff/Gila Volunteer Fire Department&n
 bsp;h. Approve/Disapprove the Annual Service Report and EMS Fund Act Local 
 Funding Program Application for Fiscal Year 2018 (Consent Agenda Item):&nbs
 p;1. Gila Valley EMS&nbsp;2. Pinos Altos EMS&nbsp;3. Whiskey Creek EMS&nbsp
 ;4. Gila Regional EMS&nbsp;5. Tyrone White Signal District 1 EMS&nbsp;6. Ty
 rone Flying A and Wind Canyon District 2 EMS&nbsp;7. Tyrone Hachita Distric
 t 3 EMS&nbsp;i. Discussion regarding Gila Regional Medical Center - Commiss
 ioners&nbsp;j. 2017 Annual Assessor’s Report pursuant to NMSA 7-36-16-E - R
 aul Turrieta. &nbsp;X. Agreements - &nbsp; &nbsp; &nbsp; &nbsp; &nbsp; &nbs
 p; &nbsp; &nbsp; &nbsp; &nbsp; &nbsp; &nbsp;&nbsp;k. Approve/Disapprove Ame
 ndment No. 1 to Agreement No. A-16-20; Grant Agreement with the Department 
 of Finance and Administration Local Government Division for the Fiscal Year
  2017 DWI Grant No. 17-D-J-G-10.&nbsp;XI. Resolutions -&nbsp;l. Approve/Dis
 approve Resolution No. R-17-01; Open Meetings Act for 2017&nbsp;m. Approve/
 Disapprove Resolution No. R-17-02; Notice of Intent to Consider Low Income 
 Rebate Ordinance&nbsp;n. Approve/Disapprove Resolution No. R-17-03; Fleming
  Tank Road and Wind Canyon Estates Subdivision Community Area Improvement D
 istrict Confirmation of the Assessment Roll&nbsp;o. Approve/Disapprove Reso
 lution No. R-17-04; Publication of a Legal Notice of Intent to Adopt Ordina
 nce No. O-17-01; Fleming Tank Road and Wind Canyon Estates Improvement Dist
 rict Assessment Levy.&nbsp;XII. Recess as the Grant County Board of County 
 Commissioners and Convene as the Grant County Indigent Hospital and Health 
 Care Claims Board&nbsp;p. Approve/Disapprove December 2016, Health Plan Cla
 ims (Indigent Fund) in the amount of $ 29,445.91.&nbsp;XIII. Adjourn as the
  Grant County Indigent Hospital and Health Care Claims Board and Reconvene 
 as the Grant County Board of Commissioners.&nbsp;XIV. Elected Officials’ Re
 ports.&nbsp;XV. Commissioners’ Reports.&nbsp;XVI. Adjournment</p>
CONTACT:www.grantcountynm.com
DTSTAMP:20260421T054519
DTSTART;TZID=America/Denver:20170112T090000
SEQUENCE:0
TRANSP:OPAQUE
END:VEVENT
END:VCALENDAR