BEGIN:VCALENDAR
VERSION:2.0
PRODID:-//jEvents 2.0 for Joomla//EN
CALSCALE:GREGORIAN
METHOD:PUBLISH
BEGIN:VTIMEZONE
TZID:America/Denver
BEGIN:STANDARD
DTSTART:20161106T010000
RDATE:20170312T030000
TZOFFSETFROM:-0600
TZOFFSETTO:-0700
TZNAME:America/Denver MST
END:STANDARD
BEGIN:STANDARD
DTSTART:20171105T010000
RDATE:20180311T030000
TZOFFSETFROM:-0600
TZOFFSETTO:-0700
TZNAME:America/Denver MST
END:STANDARD
BEGIN:STANDARD
DTSTART:20181104T010000
RDATE:20190310T030000
TZOFFSETFROM:-0600
TZOFFSETTO:-0700
TZNAME:America/Denver MST
END:STANDARD
BEGIN:STANDARD
DTSTART:20191103T010000
RDATE:20200308T030000
TZOFFSETFROM:-0600
TZOFFSETTO:-0700
TZNAME:America/Denver MST
END:STANDARD
BEGIN:STANDARD
DTSTART:20201101T010000
RDATE:20210314T030000
TZOFFSETFROM:-0600
TZOFFSETTO:-0700
TZNAME:America/Denver MST
END:STANDARD
BEGIN:STANDARD
DTSTART:20211107T010000
RDATE:20220313T030000
TZOFFSETFROM:-0600
TZOFFSETTO:-0700
TZNAME:America/Denver MST
END:STANDARD
BEGIN:STANDARD
DTSTART:20221106T010000
RDATE:20230312T030000
TZOFFSETFROM:-0600
TZOFFSETTO:-0700
TZNAME:America/Denver MST
END:STANDARD
BEGIN:STANDARD
DTSTART:20231105T010000
RDATE:20240310T030000
TZOFFSETFROM:-0600
TZOFFSETTO:-0700
TZNAME:America/Denver MST
END:STANDARD
BEGIN:STANDARD
DTSTART:20241103T010000
RDATE:20250309T030000
TZOFFSETFROM:-0600
TZOFFSETTO:-0700
TZNAME:America/Denver MST
END:STANDARD
BEGIN:STANDARD
DTSTART:20251102T010000
RDATE:20260308T030000
TZOFFSETFROM:-0600
TZOFFSETTO:-0700
TZNAME:America/Denver MST
END:STANDARD
BEGIN:STANDARD
DTSTART:20261101T010000
RDATE:20270314T030000
TZOFFSETFROM:-0600
TZOFFSETTO:-0700
TZNAME:America/Denver MST
END:STANDARD
BEGIN:STANDARD
DTSTART:20271107T010000
RDATE:20280312T030000
TZOFFSETFROM:-0600
TZOFFSETTO:-0700
TZNAME:America/Denver MST
END:STANDARD
BEGIN:STANDARD
DTSTART:20281105T010000
RDATE:20290311T030000
TZOFFSETFROM:-0600
TZOFFSETTO:-0700
TZNAME:America/Denver MST
END:STANDARD
BEGIN:STANDARD
DTSTART:20291104T010000
RDATE:20300310T030000
TZOFFSETFROM:-0600
TZOFFSETTO:-0700
TZNAME:America/Denver MST
END:STANDARD
BEGIN:STANDARD
DTSTART:20301103T010000
RDATE:20310309T030000
TZOFFSETFROM:-0600
TZOFFSETTO:-0700
TZNAME:America/Denver MST
END:STANDARD
BEGIN:STANDARD
DTSTART:20311102T010000
RDATE:20320314T030000
TZOFFSETFROM:-0600
TZOFFSETTO:-0700
TZNAME:America/Denver MST
END:STANDARD
BEGIN:STANDARD
DTSTART:20321107T010000
RDATE:20330313T030000
TZOFFSETFROM:-0600
TZOFFSETTO:-0700
TZNAME:America/Denver MST
END:STANDARD
BEGIN:STANDARD
DTSTART:20331106T010000
RDATE:20340312T030000
TZOFFSETFROM:-0600
TZOFFSETTO:-0700
TZNAME:America/Denver MST
END:STANDARD
BEGIN:STANDARD
DTSTART:20341105T010000
RDATE:20350311T030000
TZOFFSETFROM:-0600
TZOFFSETTO:-0700
TZNAME:America/Denver MST
END:STANDARD
BEGIN:STANDARD
DTSTART:20351104T010000
RDATE:20360309T030000
TZOFFSETFROM:-0600
TZOFFSETTO:-0700
TZNAME:America/Denver MST
END:STANDARD
BEGIN:STANDARD
DTSTART:20361102T010000
RDATE:20370308T030000
TZOFFSETFROM:-0600
TZOFFSETTO:-0700
TZNAME:America/Denver MST
END:STANDARD
BEGIN:DAYLIGHT
DTSTART:20160410T180000
RDATE:20161106T010000
TZOFFSETFROM:-0700
TZOFFSETTO:-0600
TZNAME:America/Denver MDT
END:DAYLIGHT
BEGIN:DAYLIGHT
DTSTART:20170312T030000
RDATE:20171105T010000
TZOFFSETFROM:-0700
TZOFFSETTO:-0600
TZNAME:America/Denver MDT
END:DAYLIGHT
BEGIN:DAYLIGHT
DTSTART:20180311T030000
RDATE:20181104T010000
TZOFFSETFROM:-0700
TZOFFSETTO:-0600
TZNAME:America/Denver MDT
END:DAYLIGHT
BEGIN:DAYLIGHT
DTSTART:20190310T030000
RDATE:20191103T010000
TZOFFSETFROM:-0700
TZOFFSETTO:-0600
TZNAME:America/Denver MDT
END:DAYLIGHT
BEGIN:DAYLIGHT
DTSTART:20200308T030000
RDATE:20201101T010000
TZOFFSETFROM:-0700
TZOFFSETTO:-0600
TZNAME:America/Denver MDT
END:DAYLIGHT
BEGIN:DAYLIGHT
DTSTART:20210314T030000
RDATE:20211107T010000
TZOFFSETFROM:-0700
TZOFFSETTO:-0600
TZNAME:America/Denver MDT
END:DAYLIGHT
BEGIN:DAYLIGHT
DTSTART:20220313T030000
RDATE:20221106T010000
TZOFFSETFROM:-0700
TZOFFSETTO:-0600
TZNAME:America/Denver MDT
END:DAYLIGHT
BEGIN:DAYLIGHT
DTSTART:20230312T030000
RDATE:20231105T010000
TZOFFSETFROM:-0700
TZOFFSETTO:-0600
TZNAME:America/Denver MDT
END:DAYLIGHT
BEGIN:DAYLIGHT
DTSTART:20240310T030000
RDATE:20241103T010000
TZOFFSETFROM:-0700
TZOFFSETTO:-0600
TZNAME:America/Denver MDT
END:DAYLIGHT
BEGIN:DAYLIGHT
DTSTART:20250309T030000
RDATE:20251102T010000
TZOFFSETFROM:-0700
TZOFFSETTO:-0600
TZNAME:America/Denver MDT
END:DAYLIGHT
BEGIN:DAYLIGHT
DTSTART:20260308T030000
RDATE:20261101T010000
TZOFFSETFROM:-0700
TZOFFSETTO:-0600
TZNAME:America/Denver MDT
END:DAYLIGHT
BEGIN:DAYLIGHT
DTSTART:20270314T030000
RDATE:20271107T010000
TZOFFSETFROM:-0700
TZOFFSETTO:-0600
TZNAME:America/Denver MDT
END:DAYLIGHT
BEGIN:DAYLIGHT
DTSTART:20280312T030000
RDATE:20281105T010000
TZOFFSETFROM:-0700
TZOFFSETTO:-0600
TZNAME:America/Denver MDT
END:DAYLIGHT
BEGIN:DAYLIGHT
DTSTART:20290311T030000
RDATE:20291104T010000
TZOFFSETFROM:-0700
TZOFFSETTO:-0600
TZNAME:America/Denver MDT
END:DAYLIGHT
BEGIN:DAYLIGHT
DTSTART:20300310T030000
RDATE:20301103T010000
TZOFFSETFROM:-0700
TZOFFSETTO:-0600
TZNAME:America/Denver MDT
END:DAYLIGHT
BEGIN:DAYLIGHT
DTSTART:20310309T030000
RDATE:20311102T010000
TZOFFSETFROM:-0700
TZOFFSETTO:-0600
TZNAME:America/Denver MDT
END:DAYLIGHT
BEGIN:DAYLIGHT
DTSTART:20320314T030000
RDATE:20321107T010000
TZOFFSETFROM:-0700
TZOFFSETTO:-0600
TZNAME:America/Denver MDT
END:DAYLIGHT
BEGIN:DAYLIGHT
DTSTART:20330313T030000
RDATE:20331106T010000
TZOFFSETFROM:-0700
TZOFFSETTO:-0600
TZNAME:America/Denver MDT
END:DAYLIGHT
BEGIN:DAYLIGHT
DTSTART:20340312T030000
RDATE:20341105T010000
TZOFFSETFROM:-0700
TZOFFSETTO:-0600
TZNAME:America/Denver MDT
END:DAYLIGHT
BEGIN:DAYLIGHT
DTSTART:20350311T030000
RDATE:20351104T010000
TZOFFSETFROM:-0700
TZOFFSETTO:-0600
TZNAME:America/Denver MDT
END:DAYLIGHT
BEGIN:DAYLIGHT
DTSTART:20360309T030000
RDATE:20361102T010000
TZOFFSETFROM:-0700
TZOFFSETTO:-0600
TZNAME:America/Denver MDT
END:DAYLIGHT
END:VTIMEZONE
BEGIN:VEVENT
UID:fa63a008a4a470ba9a20db135f045e69
CATEGORIES:Legal Notices
CREATED:20170410T223122
SUMMARY:Town of Silver City Council Regular Meeting
LOCATION:Grant County Administration Center
DESCRIPTION:1. CALL TO ORDER AND PLEDGE OF ALLEGIANCE\n2. CEREMONIES\n3. PROCLAMATIONS\
 nA. "Fair Housing Month" - April 2017\nB. "Copper Country Senior Olympics D
 ay" - April 22, 2017\nC. "A Reaffirmation and Celebration of the Core Value
 s of the Town of Silver City"\n4. PUBLIC INPUT\n5. COUNCIL COMMENTS\n6. CHA
 NGES TO AGENDA\n7. APPROVAL OF MINUTES\n Regular Meeting - March 21, 2017\
 n8. REPORTS\nA. Legislative report by Senator Howie C. Morales.\nB. Staff r
 eports.\n9. PUBLIC HEARINGS\nA. Approval / Disapproval of a Restaurant Beer
  and Wine Liquor License with On Premise\nConsumption Only with Patio Servi
 ce. License Application No. 1033863, Applicant Name:\nRevel, LLC, DBA Revel
 , Proposed Location: 304 N. Bullard St., Silver City, NM 88061.\n10. UNFINI
 SHED BUSINESS\nA. Approval / Disapproval of Ordinance No. 1255: an Ordinanc
 e approving an Operating and Lease\nAgreement providing for a long-term lea
 se with Hidalgo Medical Services, Inc. to manage and\nprovide services to t
 he Silver City Senior Citizens Center, under the provisions of Chapter 48,\
 nSection 48-24 of the Town of Silver City Municipal Code.\n11. NEW BUSINESS
 \nA. Approval / Disapproval of two public celebration permits applications 
 for the annual Toadfest\nBrewers Guild Tap Takeover on Saturday, April 29, 
 2017 with alcohol service from 2 pm to 11\npm at 200 N. Bullard Street, Sil
 ver City, NM. Sponsor: Little Toad Creek Brewery &amp; Distillery.\nLiquor 
 License Holder Information: 1) Little Toad Creek LLC, DBA Little Toad Creek
  Brewery,\nLicense No. 67085, HC 68 Box 134, Silver City, NM, and 2) Little
  Toad Creek LLC, DBA Little\nToad Creek Distillery, License No. 63013, HC 6
 8 Box 134, Silver City, NM.\nB. Approval / Disapproval of two public celebr
 ation permits applications for the 22nd Anniversary\nof the Silver City Blu
 es Festival to be held from May 26-28, 2017 on Pope Street between 11th\nan
 d 12th Streets. Alcohol will be served on May 26 from 5 pm to 10 pm, on May
  27 from noon to\n10 pm, and on May 28 from noon to 5 pm. Sponsor: Mimbres 
 Region Arts Council. Liquor\n(Agenda continued on page 2)\nApril 11, 2017 T
 own Council Agenda Page 2 of 3\nLicense Holder Information: 1) Little Toad 
 Creek LLC, DBA Little Toad Creek Brewery,\nLicense No. 67085, HC 68 Box 134
 , Silver City, NM, and 2) Little Toad Creek LLC, DBA Little\nToad Creek Dis
 tillery, License No. 63013, HC 68 Box 134, Silver City, NM.\nC. Approval / 
 Disapproval of one special dispenser permit application for the Tour of the
  Gila V.I.P.\nReception on Saturday, April 22, 2017 from 2 pm to 6 pm at 60
 1 N. Bullard St., Silver City, NM.\nSponsor: W&amp;N Enterprises, Inc. Liqu
 or License Holder Information: W&amp;N Enterprises, Inc.,\nDBA Snappy Mart 
 #204, P.O. Box559, Silver City, NM.\nD. Approval / Disapproval of Resolutio
 n No. 2017-10: Amendment to the Town of Silver City\nEmployees Personnel Ma
 nual.\nE. Approval / Disapproval of Resolution No. 2017-13: a Resolution su
 pporting a Public -Private\nEconomic Development MainStreet Project.\nF. Ap
 proval / Disapproval of Bid #16-17-4: CDBG Water System Improvements.\nG. B
 udget discussion for Fiscal Year 2017-2018.\nH. Appointments to the Cemeter
 y Board.\n12. ADJOURNMENT\n
X-ALT-DESC;FMTTYPE=text/html:<p>1. CALL TO ORDER AND PLEDGE OF ALLEGIANCE<br />2. CEREMONIES<br />3. PRO
 CLAMATIONS<br />A. "Fair Housing Month" - April 2017<br />B. "Copper Countr
 y Senior Olympics Day" - April 22, 2017<br />C. "A Reaffirmation and Celebr
 ation of the Core Values of the Town of Silver City"<br />4. PUBLIC INPUT<b
 r />5. COUNCIL COMMENTS<br />6. CHANGES TO AGENDA<br />7. APPROVAL OF MINUT
 ES<br /> Regular Meeting - March 21, 2017<br />8. REPORTS<br />A. Legislat
 ive report by Senator Howie C. Morales.<br />B. Staff reports.<br />9. PUBL
 IC HEARINGS<br />A. Approval / Disapproval of a Restaurant Beer and Wine Li
 quor License with On Premise<br />Consumption Only with Patio Service. Lice
 nse Application No. 1033863, Applicant Name:<br />Revel, LLC, DBA Revel, Pr
 oposed Location: 304 N. Bullard St., Silver City, NM 88061.<br />10. UNFINI
 SHED BUSINESS<br />A. Approval / Disapproval of Ordinance No. 1255: an Ordi
 nance approving an Operating and Lease<br />Agreement providing for a long-
 term lease with Hidalgo Medical Services, Inc. to manage and<br />provide s
 ervices to the Silver City Senior Citizens Center, under the provisions of 
 Chapter 48,<br />Section 48-24 of the Town of Silver City Municipal Code.<b
 r />11. NEW BUSINESS<br />A. Approval / Disapproval of two public celebrati
 on permits applications for the annual Toadfest<br />Brewers Guild Tap Take
 over on Saturday, April 29, 2017 with alcohol service from 2 pm to 11<br />
 pm at 200 N. Bullard Street, Silver City, NM. Sponsor: Little Toad Creek Br
 ewery &amp; Distillery.<br />Liquor License Holder Information: 1) Little T
 oad Creek LLC, DBA Little Toad Creek Brewery,<br />License No. 67085, HC 68
  Box 134, Silver City, NM, and 2) Little Toad Creek LLC, DBA Little<br />To
 ad Creek Distillery, License No. 63013, HC 68 Box 134, Silver City, NM.<br 
 />B. Approval / Disapproval of two public celebration permits applications 
 for the 22nd Anniversary<br />of the Silver City Blues Festival to be held 
 from May 26-28, 2017 on Pope Street between 11th<br />and 12th Streets. Alc
 ohol will be served on May 26 from 5 pm to 10 pm, on May 27 from noon to<br
  />10 pm, and on May 28 from noon to 5 pm. Sponsor: Mimbres Region Arts Cou
 ncil. Liquor<br />(Agenda continued on page 2)<br />April 11, 2017 Town Cou
 ncil Agenda Page 2 of 3<br />License Holder Information: 1) Little Toad Cre
 ek LLC, DBA Little Toad Creek Brewery,<br />License No. 67085, HC 68 Box 13
 4, Silver City, NM, and 2) Little Toad Creek LLC, DBA Little<br />Toad Cree
 k Distillery, License No. 63013, HC 68 Box 134, Silver City, NM.<br />C. Ap
 proval / Disapproval of one special dispenser permit application for the To
 ur of the Gila V.I.P.<br />Reception on Saturday, April 22, 2017 from 2 pm 
 to 6 pm at 601 N. Bullard St., Silver City, NM.<br />Sponsor: W&amp;N Enter
 prises, Inc. Liquor License Holder Information: W&amp;N Enterprises, Inc.,<
 br />DBA Snappy Mart #204, P.O. Box559, Silver City, NM.<br />D. Approval /
  Disapproval of Resolution No. 2017-10: Amendment to the Town of Silver Cit
 y<br />Employees Personnel Manual.<br />E. Approval / Disapproval of Resolu
 tion No. 2017-13: a Resolution supporting a Public -Private<br />Economic D
 evelopment MainStreet Project.<br />F. Approval / Disapproval of Bid #16-17
 -4: CDBG Water System Improvements.<br />G. Budget discussion for Fiscal Ye
 ar 2017-2018.<br />H. Appointments to the Cemetery Board.<br />12. ADJOURNM
 ENT</p>
CONTACT:www.townofsilvercity.org or 575-534-6348 or 575-534-6346
DTSTAMP:20260420T191115
DTSTART;TZID=America/Denver:20170411T180000
SEQUENCE:0
TRANSP:OPAQUE
END:VEVENT
END:VCALENDAR