BEGIN:VCALENDAR
VERSION:2.0
PRODID:-//jEvents 2.0 for Joomla//EN
CALSCALE:GREGORIAN
METHOD:PUBLISH
BEGIN:VTIMEZONE
TZID:America/Denver
BEGIN:STANDARD
DTSTART:20161106T010000
RDATE:20170312T030000
TZOFFSETFROM:-0600
TZOFFSETTO:-0700
TZNAME:America/Denver MST
END:STANDARD
BEGIN:STANDARD
DTSTART:20171105T010000
RDATE:20180311T030000
TZOFFSETFROM:-0600
TZOFFSETTO:-0700
TZNAME:America/Denver MST
END:STANDARD
BEGIN:STANDARD
DTSTART:20181104T010000
RDATE:20190310T030000
TZOFFSETFROM:-0600
TZOFFSETTO:-0700
TZNAME:America/Denver MST
END:STANDARD
BEGIN:STANDARD
DTSTART:20191103T010000
RDATE:20200308T030000
TZOFFSETFROM:-0600
TZOFFSETTO:-0700
TZNAME:America/Denver MST
END:STANDARD
BEGIN:STANDARD
DTSTART:20201101T010000
RDATE:20210314T030000
TZOFFSETFROM:-0600
TZOFFSETTO:-0700
TZNAME:America/Denver MST
END:STANDARD
BEGIN:STANDARD
DTSTART:20211107T010000
RDATE:20220313T030000
TZOFFSETFROM:-0600
TZOFFSETTO:-0700
TZNAME:America/Denver MST
END:STANDARD
BEGIN:STANDARD
DTSTART:20221106T010000
RDATE:20230312T030000
TZOFFSETFROM:-0600
TZOFFSETTO:-0700
TZNAME:America/Denver MST
END:STANDARD
BEGIN:STANDARD
DTSTART:20231105T010000
RDATE:20240310T030000
TZOFFSETFROM:-0600
TZOFFSETTO:-0700
TZNAME:America/Denver MST
END:STANDARD
BEGIN:STANDARD
DTSTART:20241103T010000
RDATE:20250309T030000
TZOFFSETFROM:-0600
TZOFFSETTO:-0700
TZNAME:America/Denver MST
END:STANDARD
BEGIN:STANDARD
DTSTART:20251102T010000
RDATE:20260308T030000
TZOFFSETFROM:-0600
TZOFFSETTO:-0700
TZNAME:America/Denver MST
END:STANDARD
BEGIN:STANDARD
DTSTART:20261101T010000
RDATE:20270314T030000
TZOFFSETFROM:-0600
TZOFFSETTO:-0700
TZNAME:America/Denver MST
END:STANDARD
BEGIN:STANDARD
DTSTART:20271107T010000
RDATE:20280312T030000
TZOFFSETFROM:-0600
TZOFFSETTO:-0700
TZNAME:America/Denver MST
END:STANDARD
BEGIN:STANDARD
DTSTART:20281105T010000
RDATE:20290311T030000
TZOFFSETFROM:-0600
TZOFFSETTO:-0700
TZNAME:America/Denver MST
END:STANDARD
BEGIN:STANDARD
DTSTART:20291104T010000
RDATE:20300310T030000
TZOFFSETFROM:-0600
TZOFFSETTO:-0700
TZNAME:America/Denver MST
END:STANDARD
BEGIN:STANDARD
DTSTART:20301103T010000
RDATE:20310309T030000
TZOFFSETFROM:-0600
TZOFFSETTO:-0700
TZNAME:America/Denver MST
END:STANDARD
BEGIN:STANDARD
DTSTART:20311102T010000
RDATE:20320314T030000
TZOFFSETFROM:-0600
TZOFFSETTO:-0700
TZNAME:America/Denver MST
END:STANDARD
BEGIN:STANDARD
DTSTART:20321107T010000
RDATE:20330313T030000
TZOFFSETFROM:-0600
TZOFFSETTO:-0700
TZNAME:America/Denver MST
END:STANDARD
BEGIN:STANDARD
DTSTART:20331106T010000
RDATE:20340312T030000
TZOFFSETFROM:-0600
TZOFFSETTO:-0700
TZNAME:America/Denver MST
END:STANDARD
BEGIN:STANDARD
DTSTART:20341105T010000
RDATE:20350311T030000
TZOFFSETFROM:-0600
TZOFFSETTO:-0700
TZNAME:America/Denver MST
END:STANDARD
BEGIN:STANDARD
DTSTART:20351104T010000
RDATE:20360309T030000
TZOFFSETFROM:-0600
TZOFFSETTO:-0700
TZNAME:America/Denver MST
END:STANDARD
BEGIN:STANDARD
DTSTART:20361102T010000
RDATE:20370308T030000
TZOFFSETFROM:-0600
TZOFFSETTO:-0700
TZNAME:America/Denver MST
END:STANDARD
BEGIN:DAYLIGHT
DTSTART:20160412T150000
RDATE:20161106T010000
TZOFFSETFROM:-0700
TZOFFSETTO:-0600
TZNAME:America/Denver MDT
END:DAYLIGHT
BEGIN:DAYLIGHT
DTSTART:20170312T030000
RDATE:20171105T010000
TZOFFSETFROM:-0700
TZOFFSETTO:-0600
TZNAME:America/Denver MDT
END:DAYLIGHT
BEGIN:DAYLIGHT
DTSTART:20180311T030000
RDATE:20181104T010000
TZOFFSETFROM:-0700
TZOFFSETTO:-0600
TZNAME:America/Denver MDT
END:DAYLIGHT
BEGIN:DAYLIGHT
DTSTART:20190310T030000
RDATE:20191103T010000
TZOFFSETFROM:-0700
TZOFFSETTO:-0600
TZNAME:America/Denver MDT
END:DAYLIGHT
BEGIN:DAYLIGHT
DTSTART:20200308T030000
RDATE:20201101T010000
TZOFFSETFROM:-0700
TZOFFSETTO:-0600
TZNAME:America/Denver MDT
END:DAYLIGHT
BEGIN:DAYLIGHT
DTSTART:20210314T030000
RDATE:20211107T010000
TZOFFSETFROM:-0700
TZOFFSETTO:-0600
TZNAME:America/Denver MDT
END:DAYLIGHT
BEGIN:DAYLIGHT
DTSTART:20220313T030000
RDATE:20221106T010000
TZOFFSETFROM:-0700
TZOFFSETTO:-0600
TZNAME:America/Denver MDT
END:DAYLIGHT
BEGIN:DAYLIGHT
DTSTART:20230312T030000
RDATE:20231105T010000
TZOFFSETFROM:-0700
TZOFFSETTO:-0600
TZNAME:America/Denver MDT
END:DAYLIGHT
BEGIN:DAYLIGHT
DTSTART:20240310T030000
RDATE:20241103T010000
TZOFFSETFROM:-0700
TZOFFSETTO:-0600
TZNAME:America/Denver MDT
END:DAYLIGHT
BEGIN:DAYLIGHT
DTSTART:20250309T030000
RDATE:20251102T010000
TZOFFSETFROM:-0700
TZOFFSETTO:-0600
TZNAME:America/Denver MDT
END:DAYLIGHT
BEGIN:DAYLIGHT
DTSTART:20260308T030000
RDATE:20261101T010000
TZOFFSETFROM:-0700
TZOFFSETTO:-0600
TZNAME:America/Denver MDT
END:DAYLIGHT
BEGIN:DAYLIGHT
DTSTART:20270314T030000
RDATE:20271107T010000
TZOFFSETFROM:-0700
TZOFFSETTO:-0600
TZNAME:America/Denver MDT
END:DAYLIGHT
BEGIN:DAYLIGHT
DTSTART:20280312T030000
RDATE:20281105T010000
TZOFFSETFROM:-0700
TZOFFSETTO:-0600
TZNAME:America/Denver MDT
END:DAYLIGHT
BEGIN:DAYLIGHT
DTSTART:20290311T030000
RDATE:20291104T010000
TZOFFSETFROM:-0700
TZOFFSETTO:-0600
TZNAME:America/Denver MDT
END:DAYLIGHT
BEGIN:DAYLIGHT
DTSTART:20300310T030000
RDATE:20301103T010000
TZOFFSETFROM:-0700
TZOFFSETTO:-0600
TZNAME:America/Denver MDT
END:DAYLIGHT
BEGIN:DAYLIGHT
DTSTART:20310309T030000
RDATE:20311102T010000
TZOFFSETFROM:-0700
TZOFFSETTO:-0600
TZNAME:America/Denver MDT
END:DAYLIGHT
BEGIN:DAYLIGHT
DTSTART:20320314T030000
RDATE:20321107T010000
TZOFFSETFROM:-0700
TZOFFSETTO:-0600
TZNAME:America/Denver MDT
END:DAYLIGHT
BEGIN:DAYLIGHT
DTSTART:20330313T030000
RDATE:20331106T010000
TZOFFSETFROM:-0700
TZOFFSETTO:-0600
TZNAME:America/Denver MDT
END:DAYLIGHT
BEGIN:DAYLIGHT
DTSTART:20340312T030000
RDATE:20341105T010000
TZOFFSETFROM:-0700
TZOFFSETTO:-0600
TZNAME:America/Denver MDT
END:DAYLIGHT
BEGIN:DAYLIGHT
DTSTART:20350311T030000
RDATE:20351104T010000
TZOFFSETFROM:-0700
TZOFFSETTO:-0600
TZNAME:America/Denver MDT
END:DAYLIGHT
BEGIN:DAYLIGHT
DTSTART:20360309T030000
RDATE:20361102T010000
TZOFFSETFROM:-0700
TZOFFSETTO:-0600
TZNAME:America/Denver MDT
END:DAYLIGHT
END:VTIMEZONE
BEGIN:VEVENT
UID:b4040670859af90ce0d7fd9b817d9aea
CATEGORIES:Legal Notices
CREATED:20170411T195019
SUMMARY:Village of Santa Clara Regular Meeting
LOCATION:Santa Clara Village Hall
DESCRIPTION:I. Call Meeting to Order\nII. Pledge of Allegiance\nIII. Roll Call\nIV. App
 roval of Agenda\nV. Approval of Department Reports and Minutes for Regular 
 Meeting March 30, 2017\nVI. Mayor Pro-Tem Albert Esparza- Safety Committee 
 Report\nVII. Trustee Olga Amador- Action Committee Report\nVIII. Trustee Ri
 chard Esparza- Cemetery Committee Report\nIX. Chairperson Neta Pope/Maria E
 lena Sanchez – Historical Committee Report\nX. Chairperson Robert Pedilla –
  Neighbor Hood Watch Report\nXI. Mayor’s Report\nXII. Old Business (Possibl
 e Action)\n1. Los Compas Proposal to rent Armory kitchen\nXIII. New Busines
 s (Possible Action) –NONE\n1. Senator Howie Morals- 2017 Legislative sessio
 n\n2. Poms and Associates\nXIV. Resolutions – (Approve or Disapprove) NONE\
 n1. Resolution 2017-21 A Resolution to request a time extension on Local Go
 vernment Road\nFund Project Number MAP -7517(900), Control Number HW2 L1002
 01\nXV. Proclamations (Approve or Disapprove) NONE\n1. Recognizing the One 
 Hundreth Anniversary of the Public Service Company of New Mexico\n2. Give G
 randly\nXVI. Ordinances (Approve or Disapprove) NONE\nXVII. Public Comments
 \nXVIII. Closed Session Limited to Personnel Matters Pursuant to 10-5-1 H (
 2) NMSA 1978 for Anticipated\nand Pending Litigation, Police, Administratio
 n, Maintenance and Fire Departments.\nXIX. Open Session\nXX. Roll Call\nXXI
 . Hiring, Raises, Terminations, etc. (Possible Action)\nXXII. Next Regular 
 Meeting to be held Thursday April 27, 2017 at 6:00 pm\nXXIII. Adjournment\n
 If you are an individual with a disability who is in need of a reader, ampl
 ifier, qualified sign language interpreter, or any other form of auxiliary 
 aid or service to attend or participate in the hearing or meeting, please c
 ontact the office of the Clerk/Treasurer at (575) 537-2443 at least one (1)
  week prior to the meeting or as soon as possible. Public documents, includ
 ing the agenda and\nminutes can be provided in various accessible formats. 
 Please contact the Clerk/Treasurer at (575) 537-2443 if a summary or other 
 type of accessible format is needed.\n
X-ALT-DESC;FMTTYPE=text/html:<p>I. Call Meeting to Order<br />II. Pledge of Allegiance<br />III. Roll Ca
 ll<br />IV. Approval of Agenda<br />V. Approval of Department Reports and M
 inutes for Regular Meeting March 30, 2017<br />VI. Mayor Pro-Tem Albert Esp
 arza- Safety Committee Report<br />VII. Trustee Olga Amador- Action Committ
 ee Report<br />VIII. Trustee Richard Esparza- Cemetery Committee Report<br 
 />IX. Chairperson Neta Pope/Maria Elena Sanchez – Historical Committee Repo
 rt<br />X. Chairperson Robert Pedilla – Neighbor Hood Watch Report<br />XI.
  Mayor’s Report<br />XII. Old Business (Possible Action)<br />1. Los Compas
  Proposal to rent Armory kitchen<br />XIII. New Business (Possible Action) 
 –NONE<br />1. Senator Howie Morals- 2017 Legislative session<br />2. Poms a
 nd Associates<br />XIV. Resolutions – (Approve or Disapprove) NONE<br />1. 
 Resolution 2017-21 A Resolution to request a time extension on Local Govern
 ment Road<br />Fund Project Number MAP -7517(900), Control Number HW2 L1002
 01<br />XV. Proclamations (Approve or Disapprove) NONE<br />1. Recognizing 
 the One Hundreth Anniversary of the Public Service Company of New Mexico<br
  />2. Give Grandly<br />XVI. Ordinances (Approve or Disapprove) NONE<br />X
 VII. Public Comments<br />XVIII. Closed Session Limited to Personnel Matter
 s Pursuant to 10-5-1 H (2) NMSA 1978 for Anticipated<br />and Pending Litig
 ation, Police, Administration, Maintenance and Fire Departments.<br />XIX. 
 Open Session<br />XX. Roll Call<br />XXI. Hiring, Raises, Terminations, etc
 . (Possible Action)<br />XXII. Next Regular Meeting to be held Thursday Apr
 il 27, 2017 at 6:00 pm<br />XXIII. Adjournment<br />If you are an individua
 l with a disability who is in need of a reader, amplifier, qualified sign l
 anguage interpreter, or any other form of auxiliary aid or service to atten
 d or participate in the hearing or meeting, please contact the office of th
 e Clerk/Treasurer at (575) 537-2443 at least one (1) week prior to the meet
 ing or as soon as possible. Public documents, including the agenda and<br /
 >minutes can be provided in various accessible formats. Please contact the 
 Clerk/Treasurer at (575) 537-2443 if a summary or other type of accessible 
 format is needed.</p>
CONTACT:575-537-2443
DTSTAMP:20260420T190814
DTSTART;TZID=America/Denver:20170413T150000
SEQUENCE:0
TRANSP:OPAQUE
END:VEVENT
END:VCALENDAR