BEGIN:VCALENDAR
VERSION:2.0
PRODID:-//jEvents 2.0 for Joomla//EN
CALSCALE:GREGORIAN
METHOD:PUBLISH
BEGIN:VTIMEZONE
TZID:America/Denver
BEGIN:STANDARD
DTSTART:20161106T010000
RDATE:20170312T030000
TZOFFSETFROM:-0600
TZOFFSETTO:-0700
TZNAME:America/Denver MST
END:STANDARD
BEGIN:STANDARD
DTSTART:20171105T010000
RDATE:20180311T030000
TZOFFSETFROM:-0600
TZOFFSETTO:-0700
TZNAME:America/Denver MST
END:STANDARD
BEGIN:STANDARD
DTSTART:20181104T010000
RDATE:20190310T030000
TZOFFSETFROM:-0600
TZOFFSETTO:-0700
TZNAME:America/Denver MST
END:STANDARD
BEGIN:STANDARD
DTSTART:20191103T010000
RDATE:20200308T030000
TZOFFSETFROM:-0600
TZOFFSETTO:-0700
TZNAME:America/Denver MST
END:STANDARD
BEGIN:STANDARD
DTSTART:20201101T010000
RDATE:20210314T030000
TZOFFSETFROM:-0600
TZOFFSETTO:-0700
TZNAME:America/Denver MST
END:STANDARD
BEGIN:STANDARD
DTSTART:20211107T010000
RDATE:20220313T030000
TZOFFSETFROM:-0600
TZOFFSETTO:-0700
TZNAME:America/Denver MST
END:STANDARD
BEGIN:STANDARD
DTSTART:20221106T010000
RDATE:20230312T030000
TZOFFSETFROM:-0600
TZOFFSETTO:-0700
TZNAME:America/Denver MST
END:STANDARD
BEGIN:STANDARD
DTSTART:20231105T010000
RDATE:20240310T030000
TZOFFSETFROM:-0600
TZOFFSETTO:-0700
TZNAME:America/Denver MST
END:STANDARD
BEGIN:STANDARD
DTSTART:20241103T010000
RDATE:20250309T030000
TZOFFSETFROM:-0600
TZOFFSETTO:-0700
TZNAME:America/Denver MST
END:STANDARD
BEGIN:STANDARD
DTSTART:20251102T010000
RDATE:20260308T030000
TZOFFSETFROM:-0600
TZOFFSETTO:-0700
TZNAME:America/Denver MST
END:STANDARD
BEGIN:STANDARD
DTSTART:20261101T010000
RDATE:20270314T030000
TZOFFSETFROM:-0600
TZOFFSETTO:-0700
TZNAME:America/Denver MST
END:STANDARD
BEGIN:STANDARD
DTSTART:20271107T010000
RDATE:20280312T030000
TZOFFSETFROM:-0600
TZOFFSETTO:-0700
TZNAME:America/Denver MST
END:STANDARD
BEGIN:STANDARD
DTSTART:20281105T010000
RDATE:20290311T030000
TZOFFSETFROM:-0600
TZOFFSETTO:-0700
TZNAME:America/Denver MST
END:STANDARD
BEGIN:STANDARD
DTSTART:20291104T010000
RDATE:20300310T030000
TZOFFSETFROM:-0600
TZOFFSETTO:-0700
TZNAME:America/Denver MST
END:STANDARD
BEGIN:STANDARD
DTSTART:20301103T010000
RDATE:20310309T030000
TZOFFSETFROM:-0600
TZOFFSETTO:-0700
TZNAME:America/Denver MST
END:STANDARD
BEGIN:STANDARD
DTSTART:20311102T010000
RDATE:20320314T030000
TZOFFSETFROM:-0600
TZOFFSETTO:-0700
TZNAME:America/Denver MST
END:STANDARD
BEGIN:STANDARD
DTSTART:20321107T010000
RDATE:20330313T030000
TZOFFSETFROM:-0600
TZOFFSETTO:-0700
TZNAME:America/Denver MST
END:STANDARD
BEGIN:STANDARD
DTSTART:20331106T010000
RDATE:20340312T030000
TZOFFSETFROM:-0600
TZOFFSETTO:-0700
TZNAME:America/Denver MST
END:STANDARD
BEGIN:STANDARD
DTSTART:20341105T010000
RDATE:20350311T030000
TZOFFSETFROM:-0600
TZOFFSETTO:-0700
TZNAME:America/Denver MST
END:STANDARD
BEGIN:STANDARD
DTSTART:20351104T010000
RDATE:20360309T030000
TZOFFSETFROM:-0600
TZOFFSETTO:-0700
TZNAME:America/Denver MST
END:STANDARD
BEGIN:STANDARD
DTSTART:20361102T010000
RDATE:20370308T030000
TZOFFSETFROM:-0600
TZOFFSETTO:-0700
TZNAME:America/Denver MST
END:STANDARD
BEGIN:DAYLIGHT
DTSTART:20160517T090000
RDATE:20161106T010000
TZOFFSETFROM:-0700
TZOFFSETTO:-0600
TZNAME:America/Denver MDT
END:DAYLIGHT
BEGIN:DAYLIGHT
DTSTART:20170312T030000
RDATE:20171105T010000
TZOFFSETFROM:-0700
TZOFFSETTO:-0600
TZNAME:America/Denver MDT
END:DAYLIGHT
BEGIN:DAYLIGHT
DTSTART:20180311T030000
RDATE:20181104T010000
TZOFFSETFROM:-0700
TZOFFSETTO:-0600
TZNAME:America/Denver MDT
END:DAYLIGHT
BEGIN:DAYLIGHT
DTSTART:20190310T030000
RDATE:20191103T010000
TZOFFSETFROM:-0700
TZOFFSETTO:-0600
TZNAME:America/Denver MDT
END:DAYLIGHT
BEGIN:DAYLIGHT
DTSTART:20200308T030000
RDATE:20201101T010000
TZOFFSETFROM:-0700
TZOFFSETTO:-0600
TZNAME:America/Denver MDT
END:DAYLIGHT
BEGIN:DAYLIGHT
DTSTART:20210314T030000
RDATE:20211107T010000
TZOFFSETFROM:-0700
TZOFFSETTO:-0600
TZNAME:America/Denver MDT
END:DAYLIGHT
BEGIN:DAYLIGHT
DTSTART:20220313T030000
RDATE:20221106T010000
TZOFFSETFROM:-0700
TZOFFSETTO:-0600
TZNAME:America/Denver MDT
END:DAYLIGHT
BEGIN:DAYLIGHT
DTSTART:20230312T030000
RDATE:20231105T010000
TZOFFSETFROM:-0700
TZOFFSETTO:-0600
TZNAME:America/Denver MDT
END:DAYLIGHT
BEGIN:DAYLIGHT
DTSTART:20240310T030000
RDATE:20241103T010000
TZOFFSETFROM:-0700
TZOFFSETTO:-0600
TZNAME:America/Denver MDT
END:DAYLIGHT
BEGIN:DAYLIGHT
DTSTART:20250309T030000
RDATE:20251102T010000
TZOFFSETFROM:-0700
TZOFFSETTO:-0600
TZNAME:America/Denver MDT
END:DAYLIGHT
BEGIN:DAYLIGHT
DTSTART:20260308T030000
RDATE:20261101T010000
TZOFFSETFROM:-0700
TZOFFSETTO:-0600
TZNAME:America/Denver MDT
END:DAYLIGHT
BEGIN:DAYLIGHT
DTSTART:20270314T030000
RDATE:20271107T010000
TZOFFSETFROM:-0700
TZOFFSETTO:-0600
TZNAME:America/Denver MDT
END:DAYLIGHT
BEGIN:DAYLIGHT
DTSTART:20280312T030000
RDATE:20281105T010000
TZOFFSETFROM:-0700
TZOFFSETTO:-0600
TZNAME:America/Denver MDT
END:DAYLIGHT
BEGIN:DAYLIGHT
DTSTART:20290311T030000
RDATE:20291104T010000
TZOFFSETFROM:-0700
TZOFFSETTO:-0600
TZNAME:America/Denver MDT
END:DAYLIGHT
BEGIN:DAYLIGHT
DTSTART:20300310T030000
RDATE:20301103T010000
TZOFFSETFROM:-0700
TZOFFSETTO:-0600
TZNAME:America/Denver MDT
END:DAYLIGHT
BEGIN:DAYLIGHT
DTSTART:20310309T030000
RDATE:20311102T010000
TZOFFSETFROM:-0700
TZOFFSETTO:-0600
TZNAME:America/Denver MDT
END:DAYLIGHT
BEGIN:DAYLIGHT
DTSTART:20320314T030000
RDATE:20321107T010000
TZOFFSETFROM:-0700
TZOFFSETTO:-0600
TZNAME:America/Denver MDT
END:DAYLIGHT
BEGIN:DAYLIGHT
DTSTART:20330313T030000
RDATE:20331106T010000
TZOFFSETFROM:-0700
TZOFFSETTO:-0600
TZNAME:America/Denver MDT
END:DAYLIGHT
BEGIN:DAYLIGHT
DTSTART:20340312T030000
RDATE:20341105T010000
TZOFFSETFROM:-0700
TZOFFSETTO:-0600
TZNAME:America/Denver MDT
END:DAYLIGHT
BEGIN:DAYLIGHT
DTSTART:20350311T030000
RDATE:20351104T010000
TZOFFSETFROM:-0700
TZOFFSETTO:-0600
TZNAME:America/Denver MDT
END:DAYLIGHT
BEGIN:DAYLIGHT
DTSTART:20360309T030000
RDATE:20361102T010000
TZOFFSETFROM:-0700
TZOFFSETTO:-0600
TZNAME:America/Denver MDT
END:DAYLIGHT
END:VTIMEZONE
BEGIN:VEVENT
UID:3a27d784a3ee548086b5e7ea968ac656
CATEGORIES:Legal Notices
CREATED:20170511T203431
SUMMARY:Grant County Board of Commissioners Regular Meeting
LOCATION:Grant County Administration Center
DESCRIPTION:The agenda for this meeting may be altered up to seventy-two (72) hours pri
 or to the meeting; copies can be obtained from the County Manager’s Office 
 or viewed online at www.grantcountynm.com. If you are an individual with a 
 disability in need of a reader, amplifier, qualified sign language interpre
 ter or any other form of auxiliary aide or service to attend or participate
  in the meeting or hearing, please contact the Grant County Manager at 1400
  Highway 180 East, Silver City, New Mexico at least one (1) week prior to t
 he meeting or as soon as possible. The tentative agenda is as follows:\nI. 
 Call to Order\nII. Pledge of Allegiance &amp; Salute to State Flag\nIII. Ap
 proval of Regular Meeting Agenda\nIV. Public Input\n• During this portion o
 f our meeting, we welcome your suggestions and want to hear your concerns. 
 This is not a question and answer period; speakers will be limited to five 
 (5) minutes. Any individual who would like to discuss an item in more depth
  may request to be placed on a future agenda. Request forms are available i
 n the County Manager’s Office.\nV. Minutes\na. Approve/Disapprove April 18,
  2017, Work Session Meeting Minutes\nb. Approve/Disapprove April 20, 2017, 
 Regular Meeting Minutes\nVI. Financial Reports\nc. Approve/Disapprove May 1
 0, 2017, Expenditure Report\nVII. New Business\nd. Update on Secure Rural S
 chools and Payments in Lieu of Taxes (PILT) Funding Program – Melanie Goodm
 an (Senator Tom Udall)\ne. Approve/Disapprove Proclamation declaring June 1
 6 – 18, 2017 as “Fiesta Latina”\nf. Approve/Disapprove Delinquent Solid Was
 te Accounts\ng. Regional Transportation Planning Organization Presentation 
 and Road Safety Audit Update – Cerisse Grijalva (SWNM Council of Government
 s)\nh. Approve/Disapprove Appointment of seven individuals to the Grant Cou
 nty Public Shooting Range Advisory Board\nVIII. Agreements\ni. Approve/Disa
 pprove Agreement No. A-17-14; Memorandum of Understanding Supporting Commun
 ity Development of Ft. Bayard, Grant County, New Mexico\nIX. Resolutions\nj
 . Approve/Disapprove Resolution No. R-17-18; Authorizing and Approving Subm
 ission of a Completed Application for Financial Assistance and Project Appr
 oval to the New Mexico Finance Authority for bringing roads in Wind Canyon 
 and Fleming Tank to County standards.\nk. Approve/Disapprove Resolution No.
  R-17-19; Preliminary Budget for Fiscal Year 2017-2018\nX. Bids and Request
  for Proposals (RFP)\nl. Approve/Disapprove Bid B-16-08; Santa Rita Volunte
 er Fire Station\nXI. Recess as the Grant County Board of Commissioners and 
 Convene as the Grant County Health Care Claims Board\nm. Approve/Disapprove
  April 2017, Health Plan Claims (Indigent Fund) in the amount of $8,078.12\
 nn. Approve/Disapprove Indigent Burial from Terrazas Funeral Chapels\nXII. 
 Adjourn as the Grant County Health Care Claims Board and Reconvene as the G
 rant County Board of Commissioners\nXIII. Elected Officials’ Reports\nXIV. 
 Commissioners’ Reports\nXV. Executive Session in Accordance with NMSA 1978 
 10-15-1 (H) (8)\n• Discussion of disposal of Real Property currently owned 
 by Grant County\nXVI. Adjournment\n
X-ALT-DESC;FMTTYPE=text/html:<p>The agenda for this meeting may be altered up to seventy-two (72) hours 
 prior to the meeting; copies can be obtained from the County Manager’s Offi
 ce or viewed online at www.grantcountynm.com. If you are an individual with
  a disability in need of a reader, amplifier, qualified sign language inter
 preter or any other form of auxiliary aide or service to attend or particip
 ate in the meeting or hearing, please contact the Grant County Manager at 1
 400 Highway 180 East, Silver City, New Mexico at least one (1) week prior t
 o the meeting or as soon as possible. The tentative agenda is as follows:<b
 r />I. Call to Order<br />II. Pledge of Allegiance &amp; Salute to State Fl
 ag<br />III. Approval of Regular Meeting Agenda<br />IV. Public Input<br />
 • During this portion of our meeting, we welcome your suggestions and want 
 to hear your concerns. This is not a question and answer period; speakers w
 ill be limited to five (5) minutes. Any individual who would like to discus
 s an item in more depth may request to be placed on a future agenda. Reques
 t forms are available in the County Manager’s Office.<br />V. Minutes<br />
 a. Approve/Disapprove April 18, 2017, Work Session Meeting Minutes<br />b. 
 Approve/Disapprove April 20, 2017, Regular Meeting Minutes<br />VI. Financi
 al Reports<br />c. Approve/Disapprove May 10, 2017, Expenditure Report<br /
 >VII. New Business<br />d. Update on Secure Rural Schools and Payments in L
 ieu of Taxes (PILT) Funding Program – Melanie Goodman (Senator Tom Udall)<b
 r />e. Approve/Disapprove Proclamation declaring June 16 – 18, 2017 as “Fie
 sta Latina”<br />f. Approve/Disapprove Delinquent Solid Waste Accounts<br /
 >g. Regional Transportation Planning Organization Presentation and Road Saf
 ety Audit Update – Cerisse Grijalva (SWNM Council of Governments)<br />h. A
 pprove/Disapprove Appointment of seven individuals to the Grant County Publ
 ic Shooting Range Advisory Board<br />VIII. Agreements<br />i. Approve/Disa
 pprove Agreement No. A-17-14; Memorandum of Understanding Supporting Commun
 ity Development of Ft. Bayard, Grant County, New Mexico<br />IX. Resolution
 s<br />j. Approve/Disapprove Resolution No. R-17-18; Authorizing and Approv
 ing Submission of a Completed Application for Financial Assistance and Proj
 ect Approval to the New Mexico Finance Authority for bringing roads in Wind
  Canyon and Fleming Tank to County standards.<br />k. Approve/Disapprove Re
 solution No. R-17-19; Preliminary Budget for Fiscal Year 2017-2018<br />X. 
 Bids and Request for Proposals (RFP)<br />l. Approve/Disapprove Bid B-16-08
 ; Santa Rita Volunteer Fire Station<br />XI. Recess as the Grant County Boa
 rd of Commissioners and Convene as the Grant County Health Care Claims Boar
 d<br />m. Approve/Disapprove April 2017, Health Plan Claims (Indigent Fund)
  in the amount of $8,078.12<br />n. Approve/Disapprove Indigent Burial from
  Terrazas Funeral Chapels<br />XII. Adjourn as the Grant County Health Care
  Claims Board and Reconvene as the Grant County Board of Commissioners<br /
 >XIII. Elected Officials’ Reports<br />XIV. Commissioners’ Reports<br />XV.
  Executive Session in Accordance with NMSA 1978 10-15-1 (H) (8)<br />• Disc
 ussion of disposal of Real Property currently owned by Grant County<br />XV
 I. Adjournment</p>
CONTACT:www.grantcountynm.com
DTSTAMP:20260420T223603
DTSTART;TZID=America/Denver:20170518T090000
SEQUENCE:0
TRANSP:OPAQUE
END:VEVENT
END:VCALENDAR