BEGIN:VCALENDAR
VERSION:2.0
PRODID:-//jEvents 2.0 for Joomla//EN
CALSCALE:GREGORIAN
METHOD:PUBLISH
BEGIN:VTIMEZONE
TZID:America/Denver
BEGIN:STANDARD
DTSTART:20161108T090000
RDATE:20170312T030000
TZOFFSETFROM:-0600
TZOFFSETTO:-0700
TZNAME:America/Denver MST
END:STANDARD
BEGIN:STANDARD
DTSTART:20171105T010000
RDATE:20180311T030000
TZOFFSETFROM:-0600
TZOFFSETTO:-0700
TZNAME:America/Denver MST
END:STANDARD
BEGIN:STANDARD
DTSTART:20181104T010000
RDATE:20190310T030000
TZOFFSETFROM:-0600
TZOFFSETTO:-0700
TZNAME:America/Denver MST
END:STANDARD
BEGIN:STANDARD
DTSTART:20191103T010000
RDATE:20200308T030000
TZOFFSETFROM:-0600
TZOFFSETTO:-0700
TZNAME:America/Denver MST
END:STANDARD
BEGIN:STANDARD
DTSTART:20201101T010000
RDATE:20210314T030000
TZOFFSETFROM:-0600
TZOFFSETTO:-0700
TZNAME:America/Denver MST
END:STANDARD
BEGIN:STANDARD
DTSTART:20211107T010000
RDATE:20220313T030000
TZOFFSETFROM:-0600
TZOFFSETTO:-0700
TZNAME:America/Denver MST
END:STANDARD
BEGIN:STANDARD
DTSTART:20221106T010000
RDATE:20230312T030000
TZOFFSETFROM:-0600
TZOFFSETTO:-0700
TZNAME:America/Denver MST
END:STANDARD
BEGIN:STANDARD
DTSTART:20231105T010000
RDATE:20240310T030000
TZOFFSETFROM:-0600
TZOFFSETTO:-0700
TZNAME:America/Denver MST
END:STANDARD
BEGIN:STANDARD
DTSTART:20241103T010000
RDATE:20250309T030000
TZOFFSETFROM:-0600
TZOFFSETTO:-0700
TZNAME:America/Denver MST
END:STANDARD
BEGIN:STANDARD
DTSTART:20251102T010000
RDATE:20260308T030000
TZOFFSETFROM:-0600
TZOFFSETTO:-0700
TZNAME:America/Denver MST
END:STANDARD
BEGIN:STANDARD
DTSTART:20261101T010000
RDATE:20270314T030000
TZOFFSETFROM:-0600
TZOFFSETTO:-0700
TZNAME:America/Denver MST
END:STANDARD
BEGIN:STANDARD
DTSTART:20271107T010000
RDATE:20280312T030000
TZOFFSETFROM:-0600
TZOFFSETTO:-0700
TZNAME:America/Denver MST
END:STANDARD
BEGIN:STANDARD
DTSTART:20281105T010000
RDATE:20290311T030000
TZOFFSETFROM:-0600
TZOFFSETTO:-0700
TZNAME:America/Denver MST
END:STANDARD
BEGIN:STANDARD
DTSTART:20291104T010000
RDATE:20300310T030000
TZOFFSETFROM:-0600
TZOFFSETTO:-0700
TZNAME:America/Denver MST
END:STANDARD
BEGIN:STANDARD
DTSTART:20301103T010000
RDATE:20310309T030000
TZOFFSETFROM:-0600
TZOFFSETTO:-0700
TZNAME:America/Denver MST
END:STANDARD
BEGIN:STANDARD
DTSTART:20311102T010000
RDATE:20320314T030000
TZOFFSETFROM:-0600
TZOFFSETTO:-0700
TZNAME:America/Denver MST
END:STANDARD
BEGIN:STANDARD
DTSTART:20321107T010000
RDATE:20330313T030000
TZOFFSETFROM:-0600
TZOFFSETTO:-0700
TZNAME:America/Denver MST
END:STANDARD
BEGIN:STANDARD
DTSTART:20331106T010000
RDATE:20340312T030000
TZOFFSETFROM:-0600
TZOFFSETTO:-0700
TZNAME:America/Denver MST
END:STANDARD
BEGIN:STANDARD
DTSTART:20341105T010000
RDATE:20350311T030000
TZOFFSETFROM:-0600
TZOFFSETTO:-0700
TZNAME:America/Denver MST
END:STANDARD
BEGIN:STANDARD
DTSTART:20351104T010000
RDATE:20360309T030000
TZOFFSETFROM:-0600
TZOFFSETTO:-0700
TZNAME:America/Denver MST
END:STANDARD
BEGIN:STANDARD
DTSTART:20361102T010000
RDATE:20370308T030000
TZOFFSETFROM:-0600
TZOFFSETTO:-0700
TZNAME:America/Denver MST
END:STANDARD
BEGIN:DAYLIGHT
DTSTART:20170312T030000
RDATE:20171105T010000
TZOFFSETFROM:-0700
TZOFFSETTO:-0600
TZNAME:America/Denver MDT
END:DAYLIGHT
BEGIN:DAYLIGHT
DTSTART:20180311T030000
RDATE:20181104T010000
TZOFFSETFROM:-0700
TZOFFSETTO:-0600
TZNAME:America/Denver MDT
END:DAYLIGHT
BEGIN:DAYLIGHT
DTSTART:20190310T030000
RDATE:20191103T010000
TZOFFSETFROM:-0700
TZOFFSETTO:-0600
TZNAME:America/Denver MDT
END:DAYLIGHT
BEGIN:DAYLIGHT
DTSTART:20200308T030000
RDATE:20201101T010000
TZOFFSETFROM:-0700
TZOFFSETTO:-0600
TZNAME:America/Denver MDT
END:DAYLIGHT
BEGIN:DAYLIGHT
DTSTART:20210314T030000
RDATE:20211107T010000
TZOFFSETFROM:-0700
TZOFFSETTO:-0600
TZNAME:America/Denver MDT
END:DAYLIGHT
BEGIN:DAYLIGHT
DTSTART:20220313T030000
RDATE:20221106T010000
TZOFFSETFROM:-0700
TZOFFSETTO:-0600
TZNAME:America/Denver MDT
END:DAYLIGHT
BEGIN:DAYLIGHT
DTSTART:20230312T030000
RDATE:20231105T010000
TZOFFSETFROM:-0700
TZOFFSETTO:-0600
TZNAME:America/Denver MDT
END:DAYLIGHT
BEGIN:DAYLIGHT
DTSTART:20240310T030000
RDATE:20241103T010000
TZOFFSETFROM:-0700
TZOFFSETTO:-0600
TZNAME:America/Denver MDT
END:DAYLIGHT
BEGIN:DAYLIGHT
DTSTART:20250309T030000
RDATE:20251102T010000
TZOFFSETFROM:-0700
TZOFFSETTO:-0600
TZNAME:America/Denver MDT
END:DAYLIGHT
BEGIN:DAYLIGHT
DTSTART:20260308T030000
RDATE:20261101T010000
TZOFFSETFROM:-0700
TZOFFSETTO:-0600
TZNAME:America/Denver MDT
END:DAYLIGHT
BEGIN:DAYLIGHT
DTSTART:20270314T030000
RDATE:20271107T010000
TZOFFSETFROM:-0700
TZOFFSETTO:-0600
TZNAME:America/Denver MDT
END:DAYLIGHT
BEGIN:DAYLIGHT
DTSTART:20280312T030000
RDATE:20281105T010000
TZOFFSETFROM:-0700
TZOFFSETTO:-0600
TZNAME:America/Denver MDT
END:DAYLIGHT
BEGIN:DAYLIGHT
DTSTART:20290311T030000
RDATE:20291104T010000
TZOFFSETFROM:-0700
TZOFFSETTO:-0600
TZNAME:America/Denver MDT
END:DAYLIGHT
BEGIN:DAYLIGHT
DTSTART:20300310T030000
RDATE:20301103T010000
TZOFFSETFROM:-0700
TZOFFSETTO:-0600
TZNAME:America/Denver MDT
END:DAYLIGHT
BEGIN:DAYLIGHT
DTSTART:20310309T030000
RDATE:20311102T010000
TZOFFSETFROM:-0700
TZOFFSETTO:-0600
TZNAME:America/Denver MDT
END:DAYLIGHT
BEGIN:DAYLIGHT
DTSTART:20320314T030000
RDATE:20321107T010000
TZOFFSETFROM:-0700
TZOFFSETTO:-0600
TZNAME:America/Denver MDT
END:DAYLIGHT
BEGIN:DAYLIGHT
DTSTART:20330313T030000
RDATE:20331106T010000
TZOFFSETFROM:-0700
TZOFFSETTO:-0600
TZNAME:America/Denver MDT
END:DAYLIGHT
BEGIN:DAYLIGHT
DTSTART:20340312T030000
RDATE:20341105T010000
TZOFFSETFROM:-0700
TZOFFSETTO:-0600
TZNAME:America/Denver MDT
END:DAYLIGHT
BEGIN:DAYLIGHT
DTSTART:20350311T030000
RDATE:20351104T010000
TZOFFSETFROM:-0700
TZOFFSETTO:-0600
TZNAME:America/Denver MDT
END:DAYLIGHT
BEGIN:DAYLIGHT
DTSTART:20360309T030000
RDATE:20361102T010000
TZOFFSETFROM:-0700
TZOFFSETTO:-0600
TZNAME:America/Denver MDT
END:DAYLIGHT
END:VTIMEZONE
BEGIN:VEVENT
UID:d556edc91561e25165611939395cfaea
CATEGORIES:Legal Notices
CREATED:20171106T205346
SUMMARY:Grant County Board of Commissioners Regular Meeting
LOCATION:Grant County Administration Center
DESCRIPTION:<p>I. Call to Order</p><p>&nbsp;</p><p>II. Pledge of Allegiance &amp; Salut
 e to State Flag</p><p>&nbsp;</p><p>III. Approval of Regular Meeting Agenda<
 /p><p>&nbsp;</p><p>IV. Gila Regional Medical Center Reports – Taffy Arias</
 p><p>&nbsp;</p><p>V. Public Input</p><p>· During this portion of our meetin
 g, we welcome your suggestions and want to hear your concerns. This is not 
 a question and answer period; speakers will be limited to five (5) minutes.
  Any individual who would like to discuss an item in more depth may request
  to be placed on a future agenda. Request forms are available in the County
  Manager’s Office.</p><p>VI. Minutes</p><p>&nbsp;</p><p>a. Approve/Disappro
 ve October 17, 2017, Work Session Meeting Minutes</p><p>b. Approve/Disappro
 ve October 19, 2017, Regular Meeting Minutes</p><p>VII. Financial Reports</
 p><p>c. Approve/Disapprove Financial Report Ending September 30, 2017</p><p
 >d. Approve/Disapprove November 1, 2017, Expenditure Report</p><p>VIII. New
  Business</p><p>&nbsp;</p><p>e. Approve/Disapprove Vacation of Turnerville 
 Plat</p><p>f. Approve/Disapprove Lodgers Tax Advisory Board Reappointment</
 p><p>g. Approve/Disapprove OHV Letter to New Mexico Department of Transport
 ation</p><p>h. Approve/Disapprove Dedication of Roads in Branding Iron Subd
 ivision</p><p>i. Approve/Disapprove Inventory Removed from the Grant County
  Road Department to be Slated for Auction – Earl Moore</p><p>j. Approve/Dis
 approve Sublease of Space in the Mimbres Senior Center in regards to the Le
 ase Agreement between HMS and Grant County - Verbal</p><p>k. Approve/Disapp
 rove Distribution Reversion Funding Application for the Fiscal Year 2018 DW
 I Grant Agreement Project 18-D-G-10</p><p>IX. Agreements</p><p>&nbsp;</p><p
 >l. Approve/Disapprove Amendment No. 2 to Agreement No. A-15-08; with New M
 exico Department of Homeland Security &amp; Emergency Management Sub-Grant 
 No. PDMC-PL-NM-2014-006 for Hazard Mitigation Plan</p><p>m. Approve/Disappr
 ove Agreement No. A-17-41; Grant County Bus Drivers Bargaining Unit Contrac
 t 2017-2019</p><p>n. Approve/Disapprove Agreement No. A-17-42; Lease Agreem
 ent with Matthew Ormand for a Hangar Site at the Grant County Airport</p><p
 >o. Approve/Disapprove Agreement No. A-17-43; Lease Agreement with John She
 rman for a Hangar Site at the Grant County Airport</p><p>X. Resolutions</p>
 <p>&nbsp;</p><p>p. Approve/Disapprove Resolution No. R-17-52; Allocation of
  Funding for the 2018 Colonias Application</p><p>q. Approve/Disapproved Res
 olution No. R-17-53; A Resolution Authorizing Grant County to Enter into a 
 Lease – Purchase Agreement with Caterpillar Financial Corporation</p><p>r. 
 Approve/Disapprove Resolution No. R-17-54; A Resolution Stepping Up to Redu
 ce the Number of Mental Illnesses in Jails</p><p>s. Approve/Disapprove Reso
 lution No. R-17-55; Fiscal Year 2018 Budget Adjustment</p><p>XI. Bids and R
 equests for Proposals (RFP)</p><p>&nbsp;</p><p>t. Approve/Disapprove IFB: B
 id No. B-17-05; Hauling and Delivery of Pit Run and other Road Material for
  the Grant County Road Department</p><p>u. Approve/Disapprove IFB: Bid No. 
 B-17-06; Road Materials for the Grant County Road Department</p><p>&nbsp;</
 p><p>XII. Recess as the Grant County Board of Commissioners and Convene as 
 the Grant County Health Care Claims Board</p><p>&nbsp;</p><p>v. Approve/Dis
 approve October 2017, Health Plan Claims (Indigent Fund) in the amount of $
 28,723.08</p><p>&nbsp;</p><p>XIII. Adjourn as the Grant County Health Care 
 Claims Board and Reconvene as the Grant County Board of Commissioners</p><p
 >&nbsp;</p><p>XIV. Elected Officials’ Reports</p><p>&nbsp;</p><p>XV. Commis
 sioners’ Reports</p><p>&nbsp;</p><p>XVI. Adjournment</p><p>&nbsp;</p>
CONTACT:http://www.grantcountynm.com/ (http://www.grantcountynm.com/)
DTSTAMP:20260421T044355
DTSTART;TZID=America/Denver:20171109T090000
SEQUENCE:0
TRANSP:OPAQUE
END:VEVENT
END:VCALENDAR