BEGIN:VCALENDAR
VERSION:2.0
PRODID:-//jEvents 2.0 for Joomla//EN
CALSCALE:GREGORIAN
METHOD:PUBLISH
BEGIN:VTIMEZONE
TZID:America/Denver
BEGIN:STANDARD
DTSTART:20170307T090000
RDATE:20170312T030000
TZOFFSETFROM:-0600
TZOFFSETTO:-0700
TZNAME:America/Denver MST
END:STANDARD
BEGIN:STANDARD
DTSTART:20171105T010000
RDATE:20180311T030000
TZOFFSETFROM:-0600
TZOFFSETTO:-0700
TZNAME:America/Denver MST
END:STANDARD
BEGIN:STANDARD
DTSTART:20181104T010000
RDATE:20190310T030000
TZOFFSETFROM:-0600
TZOFFSETTO:-0700
TZNAME:America/Denver MST
END:STANDARD
BEGIN:STANDARD
DTSTART:20191103T010000
RDATE:20200308T030000
TZOFFSETFROM:-0600
TZOFFSETTO:-0700
TZNAME:America/Denver MST
END:STANDARD
BEGIN:STANDARD
DTSTART:20201101T010000
RDATE:20210314T030000
TZOFFSETFROM:-0600
TZOFFSETTO:-0700
TZNAME:America/Denver MST
END:STANDARD
BEGIN:STANDARD
DTSTART:20211107T010000
RDATE:20220313T030000
TZOFFSETFROM:-0600
TZOFFSETTO:-0700
TZNAME:America/Denver MST
END:STANDARD
BEGIN:STANDARD
DTSTART:20221106T010000
RDATE:20230312T030000
TZOFFSETFROM:-0600
TZOFFSETTO:-0700
TZNAME:America/Denver MST
END:STANDARD
BEGIN:STANDARD
DTSTART:20231105T010000
RDATE:20240310T030000
TZOFFSETFROM:-0600
TZOFFSETTO:-0700
TZNAME:America/Denver MST
END:STANDARD
BEGIN:STANDARD
DTSTART:20241103T010000
RDATE:20250309T030000
TZOFFSETFROM:-0600
TZOFFSETTO:-0700
TZNAME:America/Denver MST
END:STANDARD
BEGIN:STANDARD
DTSTART:20251102T010000
RDATE:20260308T030000
TZOFFSETFROM:-0600
TZOFFSETTO:-0700
TZNAME:America/Denver MST
END:STANDARD
BEGIN:STANDARD
DTSTART:20261101T010000
RDATE:20270314T030000
TZOFFSETFROM:-0600
TZOFFSETTO:-0700
TZNAME:America/Denver MST
END:STANDARD
BEGIN:STANDARD
DTSTART:20271107T010000
RDATE:20280312T030000
TZOFFSETFROM:-0600
TZOFFSETTO:-0700
TZNAME:America/Denver MST
END:STANDARD
BEGIN:STANDARD
DTSTART:20281105T010000
RDATE:20290311T030000
TZOFFSETFROM:-0600
TZOFFSETTO:-0700
TZNAME:America/Denver MST
END:STANDARD
BEGIN:STANDARD
DTSTART:20291104T010000
RDATE:20300310T030000
TZOFFSETFROM:-0600
TZOFFSETTO:-0700
TZNAME:America/Denver MST
END:STANDARD
BEGIN:STANDARD
DTSTART:20301103T010000
RDATE:20310309T030000
TZOFFSETFROM:-0600
TZOFFSETTO:-0700
TZNAME:America/Denver MST
END:STANDARD
BEGIN:STANDARD
DTSTART:20311102T010000
RDATE:20320314T030000
TZOFFSETFROM:-0600
TZOFFSETTO:-0700
TZNAME:America/Denver MST
END:STANDARD
BEGIN:STANDARD
DTSTART:20321107T010000
RDATE:20330313T030000
TZOFFSETFROM:-0600
TZOFFSETTO:-0700
TZNAME:America/Denver MST
END:STANDARD
BEGIN:STANDARD
DTSTART:20331106T010000
RDATE:20340312T030000
TZOFFSETFROM:-0600
TZOFFSETTO:-0700
TZNAME:America/Denver MST
END:STANDARD
BEGIN:STANDARD
DTSTART:20341105T010000
RDATE:20350311T030000
TZOFFSETFROM:-0600
TZOFFSETTO:-0700
TZNAME:America/Denver MST
END:STANDARD
BEGIN:STANDARD
DTSTART:20351104T010000
RDATE:20360309T030000
TZOFFSETFROM:-0600
TZOFFSETTO:-0700
TZNAME:America/Denver MST
END:STANDARD
BEGIN:STANDARD
DTSTART:20361102T010000
RDATE:20370308T030000
TZOFFSETFROM:-0600
TZOFFSETTO:-0700
TZNAME:America/Denver MST
END:STANDARD
BEGIN:DAYLIGHT
DTSTART:20170312T030000
RDATE:20171105T010000
TZOFFSETFROM:-0700
TZOFFSETTO:-0600
TZNAME:America/Denver MDT
END:DAYLIGHT
BEGIN:DAYLIGHT
DTSTART:20180311T030000
RDATE:20181104T010000
TZOFFSETFROM:-0700
TZOFFSETTO:-0600
TZNAME:America/Denver MDT
END:DAYLIGHT
BEGIN:DAYLIGHT
DTSTART:20190310T030000
RDATE:20191103T010000
TZOFFSETFROM:-0700
TZOFFSETTO:-0600
TZNAME:America/Denver MDT
END:DAYLIGHT
BEGIN:DAYLIGHT
DTSTART:20200308T030000
RDATE:20201101T010000
TZOFFSETFROM:-0700
TZOFFSETTO:-0600
TZNAME:America/Denver MDT
END:DAYLIGHT
BEGIN:DAYLIGHT
DTSTART:20210314T030000
RDATE:20211107T010000
TZOFFSETFROM:-0700
TZOFFSETTO:-0600
TZNAME:America/Denver MDT
END:DAYLIGHT
BEGIN:DAYLIGHT
DTSTART:20220313T030000
RDATE:20221106T010000
TZOFFSETFROM:-0700
TZOFFSETTO:-0600
TZNAME:America/Denver MDT
END:DAYLIGHT
BEGIN:DAYLIGHT
DTSTART:20230312T030000
RDATE:20231105T010000
TZOFFSETFROM:-0700
TZOFFSETTO:-0600
TZNAME:America/Denver MDT
END:DAYLIGHT
BEGIN:DAYLIGHT
DTSTART:20240310T030000
RDATE:20241103T010000
TZOFFSETFROM:-0700
TZOFFSETTO:-0600
TZNAME:America/Denver MDT
END:DAYLIGHT
BEGIN:DAYLIGHT
DTSTART:20250309T030000
RDATE:20251102T010000
TZOFFSETFROM:-0700
TZOFFSETTO:-0600
TZNAME:America/Denver MDT
END:DAYLIGHT
BEGIN:DAYLIGHT
DTSTART:20260308T030000
RDATE:20261101T010000
TZOFFSETFROM:-0700
TZOFFSETTO:-0600
TZNAME:America/Denver MDT
END:DAYLIGHT
BEGIN:DAYLIGHT
DTSTART:20270314T030000
RDATE:20271107T010000
TZOFFSETFROM:-0700
TZOFFSETTO:-0600
TZNAME:America/Denver MDT
END:DAYLIGHT
BEGIN:DAYLIGHT
DTSTART:20280312T030000
RDATE:20281105T010000
TZOFFSETFROM:-0700
TZOFFSETTO:-0600
TZNAME:America/Denver MDT
END:DAYLIGHT
BEGIN:DAYLIGHT
DTSTART:20290311T030000
RDATE:20291104T010000
TZOFFSETFROM:-0700
TZOFFSETTO:-0600
TZNAME:America/Denver MDT
END:DAYLIGHT
BEGIN:DAYLIGHT
DTSTART:20300310T030000
RDATE:20301103T010000
TZOFFSETFROM:-0700
TZOFFSETTO:-0600
TZNAME:America/Denver MDT
END:DAYLIGHT
BEGIN:DAYLIGHT
DTSTART:20310309T030000
RDATE:20311102T010000
TZOFFSETFROM:-0700
TZOFFSETTO:-0600
TZNAME:America/Denver MDT
END:DAYLIGHT
BEGIN:DAYLIGHT
DTSTART:20320314T030000
RDATE:20321107T010000
TZOFFSETFROM:-0700
TZOFFSETTO:-0600
TZNAME:America/Denver MDT
END:DAYLIGHT
BEGIN:DAYLIGHT
DTSTART:20330313T030000
RDATE:20331106T010000
TZOFFSETFROM:-0700
TZOFFSETTO:-0600
TZNAME:America/Denver MDT
END:DAYLIGHT
BEGIN:DAYLIGHT
DTSTART:20340312T030000
RDATE:20341105T010000
TZOFFSETFROM:-0700
TZOFFSETTO:-0600
TZNAME:America/Denver MDT
END:DAYLIGHT
BEGIN:DAYLIGHT
DTSTART:20350311T030000
RDATE:20351104T010000
TZOFFSETFROM:-0700
TZOFFSETTO:-0600
TZNAME:America/Denver MDT
END:DAYLIGHT
BEGIN:DAYLIGHT
DTSTART:20360309T030000
RDATE:20361102T010000
TZOFFSETFROM:-0700
TZOFFSETTO:-0600
TZNAME:America/Denver MDT
END:DAYLIGHT
END:VTIMEZONE
BEGIN:VEVENT
UID:315a077b3fe64ffc8e4dc477fb1548c2
CATEGORIES:Legal Notices
CREATED:20180305T203821
SUMMARY:Grant County Board of Commissioners Regular Meeting
LOCATION:Grant County Administration Center
DESCRIPTION:<p>I. Call to Order</p><p>II. Pledge of Allegiance &amp; Salute to State Fl
 ag</p><p>III. Approval of Regular Meeting Agenda</p><p>IV. Gila Regional Me
 dical Center Reports – Taffy Arias</p><p>V. Public Input</p><p>• During thi
 s portion of our meeting, we welcome your suggestions and want to hear your
  concerns. This is not a question and answer period; speakers will be limit
 ed to five (5) minutes. Any individual who would like to discuss an item in
  more depth may request to be placed on a future agenda. Request forms are 
 available in the County Manager’s Office.</p><p>VI. Minutes</p><p>a. Approv
 e/Disapprove February 13, 2018, Special Meeting Minutes</p><p>b. Approve/Di
 sapprove February 13, 2018, Work Session Meeting Minutes</p><p>c. Approve/D
 isapprove February 15, 2018, Regular Meeting Minutes</p><p>VII. Financial R
 eports</p><p>d. Approve/Disapprove March 2, 2018, Expenditure Report</p><p>
 VIII. New Business</p><p>e. Approve/Disapprove Proclamation Recognizing the
  “Silver High School Wrestling Team” for winning the 2018 Class A – AAAA St
 ate Championship – Luis Alvarado</p><p>f. Approve/Disapprove Proclamation P
 roclaiming March 21, 2018 to be Grant County DWI Prevention Program and Ald
 o Leopold Charter School “Kick Butts Day” – Cindy Blackman</p><p>g. Approve
 /Disapprove the 2018 Volunteer Firefighters Annual Reporting for PERA (Cons
 ent Agenda Item):<br />1. Cliff/Gila<br />2. Fort Bayard<br />3. Lower Mimb
 res <br />4. Pinos Altos<br />5. Santa Rita<br />6. Sapillo Creek<br />7. T
 yrone<br />8. Upper Mimbres<br />9. Whiskey Creek</p><p>h. Approve/Disappro
 ve Reappointments of Lodgers Tax Advisory Board</p><p>i. Approve/Disapprove
  Appointment of nine (9) Individuals to the Tu Casa Advisory Board</p><p>j.
  Approve/Disapprove Appointment of three (3) Road Abandonment Committee Mem
 bers</p><p>k. Approve/Disapprove Law Enforcement Protection Fund 2018-2019<
 /p><p>l. Approve/Disapprove Consent for Right of Entry Regarding Proposed B
 oston Hill Mining District Safeguard Project</p><p>IX. Resolutions</p><p>m.
  Approve/Disapprove Resolution No. R-18-06; A Resolution Authorizing Submis
 sion of an Application for Airport Aid to the Federal Aviation Administrati
 on (FAA), Obligation of Sponsor Matching Funds and Authorizing to Accept th
 e Resulting Grant Offers and the Execution of Contract Documents for the Fo
 llowing Project: Prepare Preliminary Engineering Report – Evaluating the Co
 mmercial Service Terminal and GA Aprons Rehabilitation and Repairs at the G
 rant County – Silver City Airport</p><p>n. Approve/Disapprove Resolution No
 . R-18-07; A Resolution Authorizing Submission of an Application for Airpor
 t Aid to the Federal Aviation Administration (FAA), Obligation of Sponsor M
 atching Funds and Authorizing to Accept the Resulting Grant Offers and the 
 Execution of Contract Documents for the Following Project: Prepare Prelimin
 ary Engineering Report – Evaluating the Commercial Service Terminal Code Co
 mpliance Rehabilitation and Repairs at the Grant County – Silver City Airpo
 rt</p><p>X. Recess as the Grant County Board of Commissioners and Convene a
 s the Grant County Health Care Claims Board</p><p>o. Approve/Disapprove Feb
 ruary 2018, Health Plan Claims (Indigent Fund) in the amount of $10,303.08<
 /p><p>XI. Adjourn as the Grant County Health Care Claims Board and Reconven
 e as the Grant County Board of Commissioners</p><p>XII. Elected Officials’ 
 Reports</p><p>XIII. Commissioners’ Reports</p><p>XIV. Executive Session in 
 Accordance with NMSA 1978 10-15-1 (H)</p><p>p. Disposal of Real Property - 
 NMSA 1978 10-15-1 (H) (8)</p><p>q. Any Action Necessary as a Result of Clos
 ed Executive Session</p><p>XV. Adjournment</p><p>Note: In accordance with C
 ounty Resolution 18-01, Work Session and Regular Meeting agendas may be alt
 ered up to thirty-six (36) hours prior to the meeting. Special Meeting agen
 das may be altered up to seventy-two (72) hours prior to the meeting. Copie
 s can be obtained from the Office of the county Manager.</p><p>&nbsp;</p>
CONTACT:http://www.grantcountynm.com/ (http://www.grantcountynm.com/)
DTSTAMP:20260423T224910
DTSTART;TZID=America/Denver:20180308T090000
SEQUENCE:0
TRANSP:OPAQUE
END:VEVENT
END:VCALENDAR