BEGIN:VCALENDAR
VERSION:2.0
PRODID:-//jEvents 2.0 for Joomla//EN
CALSCALE:GREGORIAN
METHOD:PUBLISH
BEGIN:VTIMEZONE
TZID:America/Denver
BEGIN:STANDARD
DTSTART:20171105T010000
RDATE:20180311T030000
TZOFFSETFROM:-0600
TZOFFSETTO:-0700
TZNAME:America/Denver MST
END:STANDARD
BEGIN:STANDARD
DTSTART:20181104T010000
RDATE:20190310T030000
TZOFFSETFROM:-0600
TZOFFSETTO:-0700
TZNAME:America/Denver MST
END:STANDARD
BEGIN:STANDARD
DTSTART:20191103T010000
RDATE:20200308T030000
TZOFFSETFROM:-0600
TZOFFSETTO:-0700
TZNAME:America/Denver MST
END:STANDARD
BEGIN:STANDARD
DTSTART:20201101T010000
RDATE:20210314T030000
TZOFFSETFROM:-0600
TZOFFSETTO:-0700
TZNAME:America/Denver MST
END:STANDARD
BEGIN:STANDARD
DTSTART:20211107T010000
RDATE:20220313T030000
TZOFFSETFROM:-0600
TZOFFSETTO:-0700
TZNAME:America/Denver MST
END:STANDARD
BEGIN:STANDARD
DTSTART:20221106T010000
RDATE:20230312T030000
TZOFFSETFROM:-0600
TZOFFSETTO:-0700
TZNAME:America/Denver MST
END:STANDARD
BEGIN:STANDARD
DTSTART:20231105T010000
RDATE:20240310T030000
TZOFFSETFROM:-0600
TZOFFSETTO:-0700
TZNAME:America/Denver MST
END:STANDARD
BEGIN:STANDARD
DTSTART:20241103T010000
RDATE:20250309T030000
TZOFFSETFROM:-0600
TZOFFSETTO:-0700
TZNAME:America/Denver MST
END:STANDARD
BEGIN:STANDARD
DTSTART:20251102T010000
RDATE:20260308T030000
TZOFFSETFROM:-0600
TZOFFSETTO:-0700
TZNAME:America/Denver MST
END:STANDARD
BEGIN:STANDARD
DTSTART:20261101T010000
RDATE:20270314T030000
TZOFFSETFROM:-0600
TZOFFSETTO:-0700
TZNAME:America/Denver MST
END:STANDARD
BEGIN:STANDARD
DTSTART:20271107T010000
RDATE:20280312T030000
TZOFFSETFROM:-0600
TZOFFSETTO:-0700
TZNAME:America/Denver MST
END:STANDARD
BEGIN:STANDARD
DTSTART:20281105T010000
RDATE:20290311T030000
TZOFFSETFROM:-0600
TZOFFSETTO:-0700
TZNAME:America/Denver MST
END:STANDARD
BEGIN:STANDARD
DTSTART:20291104T010000
RDATE:20300310T030000
TZOFFSETFROM:-0600
TZOFFSETTO:-0700
TZNAME:America/Denver MST
END:STANDARD
BEGIN:STANDARD
DTSTART:20301103T010000
RDATE:20310309T030000
TZOFFSETFROM:-0600
TZOFFSETTO:-0700
TZNAME:America/Denver MST
END:STANDARD
BEGIN:STANDARD
DTSTART:20311102T010000
RDATE:20320314T030000
TZOFFSETFROM:-0600
TZOFFSETTO:-0700
TZNAME:America/Denver MST
END:STANDARD
BEGIN:STANDARD
DTSTART:20321107T010000
RDATE:20330313T030000
TZOFFSETFROM:-0600
TZOFFSETTO:-0700
TZNAME:America/Denver MST
END:STANDARD
BEGIN:STANDARD
DTSTART:20331106T010000
RDATE:20340312T030000
TZOFFSETFROM:-0600
TZOFFSETTO:-0700
TZNAME:America/Denver MST
END:STANDARD
BEGIN:STANDARD
DTSTART:20341105T010000
RDATE:20350311T030000
TZOFFSETFROM:-0600
TZOFFSETTO:-0700
TZNAME:America/Denver MST
END:STANDARD
BEGIN:STANDARD
DTSTART:20351104T010000
RDATE:20360309T030000
TZOFFSETFROM:-0600
TZOFFSETTO:-0700
TZNAME:America/Denver MST
END:STANDARD
BEGIN:STANDARD
DTSTART:20361102T010000
RDATE:20370308T030000
TZOFFSETFROM:-0600
TZOFFSETTO:-0700
TZNAME:America/Denver MST
END:STANDARD
BEGIN:DAYLIGHT
DTSTART:20170326T180000
RDATE:20171105T010000
TZOFFSETFROM:-0700
TZOFFSETTO:-0600
TZNAME:America/Denver MDT
END:DAYLIGHT
BEGIN:DAYLIGHT
DTSTART:20180311T030000
RDATE:20181104T010000
TZOFFSETFROM:-0700
TZOFFSETTO:-0600
TZNAME:America/Denver MDT
END:DAYLIGHT
BEGIN:DAYLIGHT
DTSTART:20190310T030000
RDATE:20191103T010000
TZOFFSETFROM:-0700
TZOFFSETTO:-0600
TZNAME:America/Denver MDT
END:DAYLIGHT
BEGIN:DAYLIGHT
DTSTART:20200308T030000
RDATE:20201101T010000
TZOFFSETFROM:-0700
TZOFFSETTO:-0600
TZNAME:America/Denver MDT
END:DAYLIGHT
BEGIN:DAYLIGHT
DTSTART:20210314T030000
RDATE:20211107T010000
TZOFFSETFROM:-0700
TZOFFSETTO:-0600
TZNAME:America/Denver MDT
END:DAYLIGHT
BEGIN:DAYLIGHT
DTSTART:20220313T030000
RDATE:20221106T010000
TZOFFSETFROM:-0700
TZOFFSETTO:-0600
TZNAME:America/Denver MDT
END:DAYLIGHT
BEGIN:DAYLIGHT
DTSTART:20230312T030000
RDATE:20231105T010000
TZOFFSETFROM:-0700
TZOFFSETTO:-0600
TZNAME:America/Denver MDT
END:DAYLIGHT
BEGIN:DAYLIGHT
DTSTART:20240310T030000
RDATE:20241103T010000
TZOFFSETFROM:-0700
TZOFFSETTO:-0600
TZNAME:America/Denver MDT
END:DAYLIGHT
BEGIN:DAYLIGHT
DTSTART:20250309T030000
RDATE:20251102T010000
TZOFFSETFROM:-0700
TZOFFSETTO:-0600
TZNAME:America/Denver MDT
END:DAYLIGHT
BEGIN:DAYLIGHT
DTSTART:20260308T030000
RDATE:20261101T010000
TZOFFSETFROM:-0700
TZOFFSETTO:-0600
TZNAME:America/Denver MDT
END:DAYLIGHT
BEGIN:DAYLIGHT
DTSTART:20270314T030000
RDATE:20271107T010000
TZOFFSETFROM:-0700
TZOFFSETTO:-0600
TZNAME:America/Denver MDT
END:DAYLIGHT
BEGIN:DAYLIGHT
DTSTART:20280312T030000
RDATE:20281105T010000
TZOFFSETFROM:-0700
TZOFFSETTO:-0600
TZNAME:America/Denver MDT
END:DAYLIGHT
BEGIN:DAYLIGHT
DTSTART:20290311T030000
RDATE:20291104T010000
TZOFFSETFROM:-0700
TZOFFSETTO:-0600
TZNAME:America/Denver MDT
END:DAYLIGHT
BEGIN:DAYLIGHT
DTSTART:20300310T030000
RDATE:20301103T010000
TZOFFSETFROM:-0700
TZOFFSETTO:-0600
TZNAME:America/Denver MDT
END:DAYLIGHT
BEGIN:DAYLIGHT
DTSTART:20310309T030000
RDATE:20311102T010000
TZOFFSETFROM:-0700
TZOFFSETTO:-0600
TZNAME:America/Denver MDT
END:DAYLIGHT
BEGIN:DAYLIGHT
DTSTART:20320314T030000
RDATE:20321107T010000
TZOFFSETFROM:-0700
TZOFFSETTO:-0600
TZNAME:America/Denver MDT
END:DAYLIGHT
BEGIN:DAYLIGHT
DTSTART:20330313T030000
RDATE:20331106T010000
TZOFFSETFROM:-0700
TZOFFSETTO:-0600
TZNAME:America/Denver MDT
END:DAYLIGHT
BEGIN:DAYLIGHT
DTSTART:20340312T030000
RDATE:20341105T010000
TZOFFSETFROM:-0700
TZOFFSETTO:-0600
TZNAME:America/Denver MDT
END:DAYLIGHT
BEGIN:DAYLIGHT
DTSTART:20350311T030000
RDATE:20351104T010000
TZOFFSETFROM:-0700
TZOFFSETTO:-0600
TZNAME:America/Denver MDT
END:DAYLIGHT
BEGIN:DAYLIGHT
DTSTART:20360309T030000
RDATE:20361102T010000
TZOFFSETFROM:-0700
TZOFFSETTO:-0600
TZNAME:America/Denver MDT
END:DAYLIGHT
END:VTIMEZONE
BEGIN:VEVENT
UID:8e3b15fc5b9e67d9666e4e332a1e1b0b
CATEGORIES:Legal Notices
CREATED:20180326T212019
SUMMARY:Town of Silver City Council Regular Meeting
LOCATION:Grant County Administration Center
DESCRIPTION:<p>1. CALL TO ORDER AND PLEDGE OF ALLEGIANCE</p><p>2. CHANGES TO AGENDA</p>
 <p>3. CEREMONIES</p><p>4. PROCLAMATIONS&nbsp;</p><p>"Fair Housing Month" - 
 April 2018<br />"Continental Divide Trail Days" - April 27 - 29, 2018</p><p
 >5. COUNCIL COMMENTS&nbsp;</p><p>6. APPROVAL OF MINUTES<br />Regular Meetin
 g - March 16, 2018</p><p>7. PUBLIC INPUT</p><p>8. REPORTS<br />A. Report by
  the Silver City Regional Association of Realtors by Cissy McAndrew, Presid
 ent.</p><p>B. Staff reports.</p><p>9. ORGANIZATIONAL MEETING<br />A. Electi
 on of President Pro Tempore.</p><p>B. Appointments of Councilors to committ
 ee and board positions.</p><p>10. PUBLIC HEARINGS&nbsp;</p><p>11. UNFINISHE
 D BUSINESS&nbsp;</p><p>12. NEW BUSINESS<br />A. Approval / Disapproval of t
 he Town of Silver City Audit Report for Fiscal Year ended June 30,2017.<br 
 /> <br />B. Approval / Disapproval of a Public Celebration Permit Applicati
 on for the Red Dot Studio Tour Opening Reception to be held at 209 W. Broad
 way St., Silver City, NM on May 4, 2018 withalcohol service from 4:00 p.m. 
 to 9:00 p.m. Liquor License Holder: La Esperanza Vineyard, LLC,Liquor Licen
 se # 6148, 100 De La O, San Lorenzo, NM 88041.<br />Note: To obtain a copy 
 of documents for this agenda item, please contact the Town Clerk at the Cle
 rk's office at City Hall, 101 W. Broadway Ave., Silver City, NM, or by phon
 e at (575) 534-6346.</p><p>C. Approval / Disapproval of a Public Celebratio
 n Permit Application and a waiver of NMSA 1978 Section 60-6B-10 for alcohol
  sales near a church or school for the Continental Divide Trail Dayevent at
  the Seedboat Gallery, 214 W. Yankie St., Silver City, NM on April 27, 2018
  with alcohol service from 3:30 p.m. to 11:00 p.m. Liquor License Holder: L
 a Esperanza Vineyard, LLC, Liquor License # 6148, 100 De La O, San Lorenzo,
  NM 88041.<br />Note: To obtain a copy of documents for this agenda item, p
 lease contact the Town Clerk at the Clerk's office at City Hall, 101 W. Bro
 adway Ave., Silver City, NM, or by phone at (575) 534-6346.</p><p>D. Approv
 al / Disapproval of a Public Celebration Permit Application and a waiver of
  NMSA 1978 Section 60-6B-10 for alcohol sales near a church or school for t
 he Tour of the Gila V.I.P. Reception to be held at The Hub, 601 N. Bullard 
 Street, Silver City, NM on April 21, 2018 with alcohol service from 1:00 p.
 m. to 5:00 p.m. Liquor License Holder: Little Toad Creek, LLC, DBA Little T
 oad Creek Brewery, Liquor License #67085, 203 S. Mill Rd., Silver City, NM 
 88061.<br />Note: To obtain a copy of documents for this agenda item, pleas
 e contact the Town Clerk at the Clerk's office at City Hall, 101 W. Broadwa
 y Ave., Silver City, NM, or by phone at (575) 534-6346.</p><p>E. Request fo
 r consensus on Mayor's letter to the Grant County Commission regarding loca
 l ownership and operation of Gila Regional Medical Center.<br />Note: To ob
 tain a copy of documents for this agenda item, please contact the Town Cler
 k at the Clerk's office at City Hall, 101 W. Broadway Ave., Silver City, NM
 , or by phone at (575) 534-6346.</p><p>F. Request from Washington Federal B
 ank for direction on whether the Town will renew its lease for the bank bui
 lding at 1203 N. Hudson St., Silver City, NM.<br />Note: To obtain a copy o
 f documents for this agenda item, please contact the Town Clerk at the Cler
 k's office at City Hall, 101 W. Broadway Ave., Silver City, NM, or by phone
  at (575) 534-6346.</p><p>13. ADJOURNMENT</p>
CONTACT:http://www.townofsilvercity.org (http://www.townofsilvercity.org)
DTSTAMP:20260423T224910
DTSTART;TZID=America/Denver:20180327T180000
SEQUENCE:0
TRANSP:OPAQUE
END:VEVENT
END:VCALENDAR