BEGIN:VCALENDAR
VERSION:2.0
PRODID:-//jEvents 2.0 for Joomla//EN
CALSCALE:GREGORIAN
METHOD:PUBLISH
BEGIN:VTIMEZONE
TZID:America/Denver
BEGIN:STANDARD
DTSTART:20171105T010000
RDATE:20180311T030000
TZOFFSETFROM:-0600
TZOFFSETTO:-0700
TZNAME:America/Denver MST
END:STANDARD
BEGIN:STANDARD
DTSTART:20181104T010000
RDATE:20190310T030000
TZOFFSETFROM:-0600
TZOFFSETTO:-0700
TZNAME:America/Denver MST
END:STANDARD
BEGIN:STANDARD
DTSTART:20191103T010000
RDATE:20200308T030000
TZOFFSETFROM:-0600
TZOFFSETTO:-0700
TZNAME:America/Denver MST
END:STANDARD
BEGIN:STANDARD
DTSTART:20201101T010000
RDATE:20210314T030000
TZOFFSETFROM:-0600
TZOFFSETTO:-0700
TZNAME:America/Denver MST
END:STANDARD
BEGIN:STANDARD
DTSTART:20211107T010000
RDATE:20220313T030000
TZOFFSETFROM:-0600
TZOFFSETTO:-0700
TZNAME:America/Denver MST
END:STANDARD
BEGIN:STANDARD
DTSTART:20221106T010000
RDATE:20230312T030000
TZOFFSETFROM:-0600
TZOFFSETTO:-0700
TZNAME:America/Denver MST
END:STANDARD
BEGIN:STANDARD
DTSTART:20231105T010000
RDATE:20240310T030000
TZOFFSETFROM:-0600
TZOFFSETTO:-0700
TZNAME:America/Denver MST
END:STANDARD
BEGIN:STANDARD
DTSTART:20241103T010000
RDATE:20250309T030000
TZOFFSETFROM:-0600
TZOFFSETTO:-0700
TZNAME:America/Denver MST
END:STANDARD
BEGIN:STANDARD
DTSTART:20251102T010000
RDATE:20260308T030000
TZOFFSETFROM:-0600
TZOFFSETTO:-0700
TZNAME:America/Denver MST
END:STANDARD
BEGIN:STANDARD
DTSTART:20261101T010000
RDATE:20270314T030000
TZOFFSETFROM:-0600
TZOFFSETTO:-0700
TZNAME:America/Denver MST
END:STANDARD
BEGIN:STANDARD
DTSTART:20271107T010000
RDATE:20280312T030000
TZOFFSETFROM:-0600
TZOFFSETTO:-0700
TZNAME:America/Denver MST
END:STANDARD
BEGIN:STANDARD
DTSTART:20281105T010000
RDATE:20290311T030000
TZOFFSETFROM:-0600
TZOFFSETTO:-0700
TZNAME:America/Denver MST
END:STANDARD
BEGIN:STANDARD
DTSTART:20291104T010000
RDATE:20300310T030000
TZOFFSETFROM:-0600
TZOFFSETTO:-0700
TZNAME:America/Denver MST
END:STANDARD
BEGIN:STANDARD
DTSTART:20301103T010000
RDATE:20310309T030000
TZOFFSETFROM:-0600
TZOFFSETTO:-0700
TZNAME:America/Denver MST
END:STANDARD
BEGIN:STANDARD
DTSTART:20311102T010000
RDATE:20320314T030000
TZOFFSETFROM:-0600
TZOFFSETTO:-0700
TZNAME:America/Denver MST
END:STANDARD
BEGIN:STANDARD
DTSTART:20321107T010000
RDATE:20330313T030000
TZOFFSETFROM:-0600
TZOFFSETTO:-0700
TZNAME:America/Denver MST
END:STANDARD
BEGIN:STANDARD
DTSTART:20331106T010000
RDATE:20340312T030000
TZOFFSETFROM:-0600
TZOFFSETTO:-0700
TZNAME:America/Denver MST
END:STANDARD
BEGIN:STANDARD
DTSTART:20341105T010000
RDATE:20350311T030000
TZOFFSETFROM:-0600
TZOFFSETTO:-0700
TZNAME:America/Denver MST
END:STANDARD
BEGIN:STANDARD
DTSTART:20351104T010000
RDATE:20360309T030000
TZOFFSETFROM:-0600
TZOFFSETTO:-0700
TZNAME:America/Denver MST
END:STANDARD
BEGIN:STANDARD
DTSTART:20361102T010000
RDATE:20370308T030000
TZOFFSETFROM:-0600
TZOFFSETTO:-0700
TZNAME:America/Denver MST
END:STANDARD
BEGIN:DAYLIGHT
DTSTART:20170514T180000
RDATE:20171105T010000
TZOFFSETFROM:-0700
TZOFFSETTO:-0600
TZNAME:America/Denver MDT
END:DAYLIGHT
BEGIN:DAYLIGHT
DTSTART:20180311T030000
RDATE:20181104T010000
TZOFFSETFROM:-0700
TZOFFSETTO:-0600
TZNAME:America/Denver MDT
END:DAYLIGHT
BEGIN:DAYLIGHT
DTSTART:20190310T030000
RDATE:20191103T010000
TZOFFSETFROM:-0700
TZOFFSETTO:-0600
TZNAME:America/Denver MDT
END:DAYLIGHT
BEGIN:DAYLIGHT
DTSTART:20200308T030000
RDATE:20201101T010000
TZOFFSETFROM:-0700
TZOFFSETTO:-0600
TZNAME:America/Denver MDT
END:DAYLIGHT
BEGIN:DAYLIGHT
DTSTART:20210314T030000
RDATE:20211107T010000
TZOFFSETFROM:-0700
TZOFFSETTO:-0600
TZNAME:America/Denver MDT
END:DAYLIGHT
BEGIN:DAYLIGHT
DTSTART:20220313T030000
RDATE:20221106T010000
TZOFFSETFROM:-0700
TZOFFSETTO:-0600
TZNAME:America/Denver MDT
END:DAYLIGHT
BEGIN:DAYLIGHT
DTSTART:20230312T030000
RDATE:20231105T010000
TZOFFSETFROM:-0700
TZOFFSETTO:-0600
TZNAME:America/Denver MDT
END:DAYLIGHT
BEGIN:DAYLIGHT
DTSTART:20240310T030000
RDATE:20241103T010000
TZOFFSETFROM:-0700
TZOFFSETTO:-0600
TZNAME:America/Denver MDT
END:DAYLIGHT
BEGIN:DAYLIGHT
DTSTART:20250309T030000
RDATE:20251102T010000
TZOFFSETFROM:-0700
TZOFFSETTO:-0600
TZNAME:America/Denver MDT
END:DAYLIGHT
BEGIN:DAYLIGHT
DTSTART:20260308T030000
RDATE:20261101T010000
TZOFFSETFROM:-0700
TZOFFSETTO:-0600
TZNAME:America/Denver MDT
END:DAYLIGHT
BEGIN:DAYLIGHT
DTSTART:20270314T030000
RDATE:20271107T010000
TZOFFSETFROM:-0700
TZOFFSETTO:-0600
TZNAME:America/Denver MDT
END:DAYLIGHT
BEGIN:DAYLIGHT
DTSTART:20280312T030000
RDATE:20281105T010000
TZOFFSETFROM:-0700
TZOFFSETTO:-0600
TZNAME:America/Denver MDT
END:DAYLIGHT
BEGIN:DAYLIGHT
DTSTART:20290311T030000
RDATE:20291104T010000
TZOFFSETFROM:-0700
TZOFFSETTO:-0600
TZNAME:America/Denver MDT
END:DAYLIGHT
BEGIN:DAYLIGHT
DTSTART:20300310T030000
RDATE:20301103T010000
TZOFFSETFROM:-0700
TZOFFSETTO:-0600
TZNAME:America/Denver MDT
END:DAYLIGHT
BEGIN:DAYLIGHT
DTSTART:20310309T030000
RDATE:20311102T010000
TZOFFSETFROM:-0700
TZOFFSETTO:-0600
TZNAME:America/Denver MDT
END:DAYLIGHT
BEGIN:DAYLIGHT
DTSTART:20320314T030000
RDATE:20321107T010000
TZOFFSETFROM:-0700
TZOFFSETTO:-0600
TZNAME:America/Denver MDT
END:DAYLIGHT
BEGIN:DAYLIGHT
DTSTART:20330313T030000
RDATE:20331106T010000
TZOFFSETFROM:-0700
TZOFFSETTO:-0600
TZNAME:America/Denver MDT
END:DAYLIGHT
BEGIN:DAYLIGHT
DTSTART:20340312T030000
RDATE:20341105T010000
TZOFFSETFROM:-0700
TZOFFSETTO:-0600
TZNAME:America/Denver MDT
END:DAYLIGHT
BEGIN:DAYLIGHT
DTSTART:20350311T030000
RDATE:20351104T010000
TZOFFSETFROM:-0700
TZOFFSETTO:-0600
TZNAME:America/Denver MDT
END:DAYLIGHT
BEGIN:DAYLIGHT
DTSTART:20360309T030000
RDATE:20361102T010000
TZOFFSETFROM:-0700
TZOFFSETTO:-0600
TZNAME:America/Denver MDT
END:DAYLIGHT
END:VTIMEZONE
BEGIN:VEVENT
UID:243f36d061d36aafe4496fff1a9bc202
CATEGORIES:Legal Notices
CREATED:20180514T151419
SUMMARY:Town of Silver City Council Regular Meeting
LOCATION:Grant County Administration Center
DESCRIPTION:1. CALL TO ORDER AND PLEDGE OF ALLEGIANCE\n2. CHANGES TO AGENDA\n3. CEREMON
 IES\n4. PROCLAMATIONS \n"Municipal Clerks Week" - May 6 - 12, 2018\n5. COUN
 CIL COMMENTS\n6. APPROVAL OF MINUTES\nRegular Meeting - April 24, 2018\n7. 
 PUBLIC INPUT\n8. REPORTS\nA. Update on the Community Youth Building Program
  by Gary Stailey.\n \nB. Staff reports.\n9. PUBLIC HEARINGS\n10. UNFINISHED
  BUSINESS\n11. NEW BUSINESS\nApproval / Disapproval of Special Dispenser Pe
 rmit Application for the Kneeling Nun Bike Run event at 101 E. College Ave.
 , Silver City, NM on May 25-26, 2018 with alcohol service from 4:00 pm to 1
 1:00 pm. Sponsor: Q's Southern Bistro, LLC. Liquor License Holder: Dahl Ent
 erprises, LLC, DBA Q's Southern Bistro, Liquor License # 28098, 101 E. Coll
 ege Ave. Silver City, NM.\nNote: To obtain a copy of documents for this age
 nda item, please contact the Town Clerk at the Clerk's office at City Hall,
  101 W. Broadway Ave., Silver City, NM, or by phone at (575) 534-6346.\nApp
 roval / Disapproval of an Agreement between the Town of Silver City and the
  Fraternal Order of Police Silver City Police Officers Association. The Cou
 ncil may go into Closed Session pursuant to NMSA 1978 Section 10-15-1(H)(5)
  for the discussion of bargaining strategy preliminary to collective bargai
 ning negotiations.\nNote: To obtain a copy of documents for this agenda ite
 m, please contact the Town Clerk at the Clerk's office at City Hall, 101 W.
  Broadway Ave., Silver City, NM, or by phone at (575) 534-6346.\nApproval /
  Disapproval of Notice of Intent Ordinance No. 1267: Adoption of the Town o
 f Silver City Election Code\nBudget discussion and Council direction for Fi
 scal Year 2018-2019.\nNote: To obtain a copy of documents for this agenda i
 tem, please contact the Town Clerk at the Clerk's office at City Hall, 101 
 W. Broadway Ave., Silver City, NM, or by phone at (575) 534-6346.\nApproval
  / Disapproval of Bid #17/18-6 Sale of Inventory\nNote: To obtain a copy of
  documents for this agenda item, please contact the Town Clerk at the Clerk
 's office at City Hall, 101 W. Broadway Ave., Silver City, NM, or by phone 
 at (575) 534-6346.\nApproval / Disapproval of the destruction of Town recor
 ds from the Finance Department that have met their retention period. Quanti
 ty 23 boxes.\nNote: To obtain a copy of documents for this agenda item, ple
 ase contact the Town Clerk at the Clerk's office at City Hall, 101 W. Broad
 way Ave., Silver City, NM, or by phone at (575) 534-6346. \n12. ADJOURNMENT
 \n
X-ALT-DESC;FMTTYPE=text/html:<p>1. CALL TO ORDER AND PLEDGE OF ALLEGIANCE</p><p>2. CHANGES TO AGENDA</p>
 <p>3. CEREMONIES</p><p>4. PROCLAMATIONS <br />"Municipal Clerks Week" - May
  6 - 12, 2018</p><p>5. COUNCIL COMMENTS</p><p>6. APPROVAL OF MINUTES<br />R
 egular Meeting - April 24, 2018</p><p>7. PUBLIC INPUT</p><p>8. REPORTS<br /
 >A. Update on the Community Youth Building Program by Gary Stailey.<br /> <
 br />B. Staff reports.</p><p>9. PUBLIC HEARINGS</p><p>10. UNFINISHED BUSINE
 SS</p><p>11. NEW BUSINESS<br />Approval / Disapproval of Special Dispenser 
 Permit Application for the Kneeling Nun Bike Run event at 101 E. College Av
 e., Silver City, NM on May 25-26, 2018 with alcohol service from 4:00 pm to
  11:00 pm. Sponsor: Q's Southern Bistro, LLC. Liquor License Holder: Dahl E
 nterprises, LLC, DBA Q's Southern Bistro, Liquor License # 28098, 101 E. Co
 llege Ave. Silver City, NM.<br />Note: To obtain a copy of documents for th
 is agenda item, please contact the Town Clerk at the Clerk's office at City
  Hall, 101 W. Broadway Ave., Silver City, NM, or by phone at (575) 534-6346
 .</p><p>Approval / Disapproval of an Agreement between the Town of Silver C
 ity and the Fraternal Order of Police Silver City Police Officers Associati
 on. The Council may go into Closed Session pursuant to NMSA 1978 Section 10
 -15-1(H)(5) for the discussion of bargaining strategy preliminary to collec
 tive bargaining negotiations.<br />Note: To obtain a copy of documents for 
 this agenda item, please contact the Town Clerk at the Clerk's office at Ci
 ty Hall, 101 W. Broadway Ave., Silver City, NM, or by phone at (575) 534-63
 46.</p><p>Approval / Disapproval of Notice of Intent Ordinance No. 1267: Ad
 option of the Town of Silver City Election Code</p><p>Budget discussion and
  Council direction for Fiscal Year 2018-2019.<br />Note: To obtain a copy o
 f documents for this agenda item, please contact the Town Clerk at the Cler
 k's office at City Hall, 101 W. Broadway Ave., Silver City, NM, or by phone
  at (575) 534-6346.</p><p>Approval / Disapproval of Bid #17/18-6 Sale of In
 ventory<br />Note: To obtain a copy of documents for this agenda item, plea
 se contact the Town Clerk at the Clerk's office at City Hall, 101 W. Broadw
 ay Ave., Silver City, NM, or by phone at (575) 534-6346.</p><p>Approval / D
 isapproval of the destruction of Town records from the Finance Department t
 hat have met their retention period. Quantity 23 boxes.<br />Note: To obtai
 n a copy of documents for this agenda item, please contact the Town Clerk a
 t the Clerk's office at City Hall, 101 W. Broadway Ave., Silver City, NM, o
 r by phone at (575) 534-6346.&nbsp;</p><p>12. ADJOURNMENT</p>
CONTACT:http://www.townofsilvercity.org (http://www.townofsilvercity.org)
DTSTAMP:20260420T210438
DTSTART;TZID=America/Denver:20180515T180000
SEQUENCE:0
TRANSP:OPAQUE
END:VEVENT
END:VCALENDAR