BEGIN:VCALENDAR
VERSION:2.0
PRODID:-//jEvents 2.0 for Joomla//EN
CALSCALE:GREGORIAN
METHOD:PUBLISH
BEGIN:VTIMEZONE
TZID:America/Denver
BEGIN:STANDARD
DTSTART:20171105T010000
RDATE:20180311T030000
TZOFFSETFROM:-0600
TZOFFSETTO:-0700
TZNAME:America/Denver MST
END:STANDARD
BEGIN:STANDARD
DTSTART:20181104T010000
RDATE:20190310T030000
TZOFFSETFROM:-0600
TZOFFSETTO:-0700
TZNAME:America/Denver MST
END:STANDARD
BEGIN:STANDARD
DTSTART:20191103T010000
RDATE:20200308T030000
TZOFFSETFROM:-0600
TZOFFSETTO:-0700
TZNAME:America/Denver MST
END:STANDARD
BEGIN:STANDARD
DTSTART:20201101T010000
RDATE:20210314T030000
TZOFFSETFROM:-0600
TZOFFSETTO:-0700
TZNAME:America/Denver MST
END:STANDARD
BEGIN:STANDARD
DTSTART:20211107T010000
RDATE:20220313T030000
TZOFFSETFROM:-0600
TZOFFSETTO:-0700
TZNAME:America/Denver MST
END:STANDARD
BEGIN:STANDARD
DTSTART:20221106T010000
RDATE:20230312T030000
TZOFFSETFROM:-0600
TZOFFSETTO:-0700
TZNAME:America/Denver MST
END:STANDARD
BEGIN:STANDARD
DTSTART:20231105T010000
RDATE:20240310T030000
TZOFFSETFROM:-0600
TZOFFSETTO:-0700
TZNAME:America/Denver MST
END:STANDARD
BEGIN:STANDARD
DTSTART:20241103T010000
RDATE:20250309T030000
TZOFFSETFROM:-0600
TZOFFSETTO:-0700
TZNAME:America/Denver MST
END:STANDARD
BEGIN:STANDARD
DTSTART:20251102T010000
RDATE:20260308T030000
TZOFFSETFROM:-0600
TZOFFSETTO:-0700
TZNAME:America/Denver MST
END:STANDARD
BEGIN:STANDARD
DTSTART:20261101T010000
RDATE:20270314T030000
TZOFFSETFROM:-0600
TZOFFSETTO:-0700
TZNAME:America/Denver MST
END:STANDARD
BEGIN:STANDARD
DTSTART:20271107T010000
RDATE:20280312T030000
TZOFFSETFROM:-0600
TZOFFSETTO:-0700
TZNAME:America/Denver MST
END:STANDARD
BEGIN:STANDARD
DTSTART:20281105T010000
RDATE:20290311T030000
TZOFFSETFROM:-0600
TZOFFSETTO:-0700
TZNAME:America/Denver MST
END:STANDARD
BEGIN:STANDARD
DTSTART:20291104T010000
RDATE:20300310T030000
TZOFFSETFROM:-0600
TZOFFSETTO:-0700
TZNAME:America/Denver MST
END:STANDARD
BEGIN:STANDARD
DTSTART:20301103T010000
RDATE:20310309T030000
TZOFFSETFROM:-0600
TZOFFSETTO:-0700
TZNAME:America/Denver MST
END:STANDARD
BEGIN:STANDARD
DTSTART:20311102T010000
RDATE:20320314T030000
TZOFFSETFROM:-0600
TZOFFSETTO:-0700
TZNAME:America/Denver MST
END:STANDARD
BEGIN:STANDARD
DTSTART:20321107T010000
RDATE:20330313T030000
TZOFFSETFROM:-0600
TZOFFSETTO:-0700
TZNAME:America/Denver MST
END:STANDARD
BEGIN:STANDARD
DTSTART:20331106T010000
RDATE:20340312T030000
TZOFFSETFROM:-0600
TZOFFSETTO:-0700
TZNAME:America/Denver MST
END:STANDARD
BEGIN:STANDARD
DTSTART:20341105T010000
RDATE:20350311T030000
TZOFFSETFROM:-0600
TZOFFSETTO:-0700
TZNAME:America/Denver MST
END:STANDARD
BEGIN:STANDARD
DTSTART:20351104T010000
RDATE:20360309T030000
TZOFFSETFROM:-0600
TZOFFSETTO:-0700
TZNAME:America/Denver MST
END:STANDARD
BEGIN:STANDARD
DTSTART:20361102T010000
RDATE:20370308T030000
TZOFFSETFROM:-0600
TZOFFSETTO:-0700
TZNAME:America/Denver MST
END:STANDARD
BEGIN:DAYLIGHT
DTSTART:20170516T090000
RDATE:20171105T010000
TZOFFSETFROM:-0700
TZOFFSETTO:-0600
TZNAME:America/Denver MDT
END:DAYLIGHT
BEGIN:DAYLIGHT
DTSTART:20180311T030000
RDATE:20181104T010000
TZOFFSETFROM:-0700
TZOFFSETTO:-0600
TZNAME:America/Denver MDT
END:DAYLIGHT
BEGIN:DAYLIGHT
DTSTART:20190310T030000
RDATE:20191103T010000
TZOFFSETFROM:-0700
TZOFFSETTO:-0600
TZNAME:America/Denver MDT
END:DAYLIGHT
BEGIN:DAYLIGHT
DTSTART:20200308T030000
RDATE:20201101T010000
TZOFFSETFROM:-0700
TZOFFSETTO:-0600
TZNAME:America/Denver MDT
END:DAYLIGHT
BEGIN:DAYLIGHT
DTSTART:20210314T030000
RDATE:20211107T010000
TZOFFSETFROM:-0700
TZOFFSETTO:-0600
TZNAME:America/Denver MDT
END:DAYLIGHT
BEGIN:DAYLIGHT
DTSTART:20220313T030000
RDATE:20221106T010000
TZOFFSETFROM:-0700
TZOFFSETTO:-0600
TZNAME:America/Denver MDT
END:DAYLIGHT
BEGIN:DAYLIGHT
DTSTART:20230312T030000
RDATE:20231105T010000
TZOFFSETFROM:-0700
TZOFFSETTO:-0600
TZNAME:America/Denver MDT
END:DAYLIGHT
BEGIN:DAYLIGHT
DTSTART:20240310T030000
RDATE:20241103T010000
TZOFFSETFROM:-0700
TZOFFSETTO:-0600
TZNAME:America/Denver MDT
END:DAYLIGHT
BEGIN:DAYLIGHT
DTSTART:20250309T030000
RDATE:20251102T010000
TZOFFSETFROM:-0700
TZOFFSETTO:-0600
TZNAME:America/Denver MDT
END:DAYLIGHT
BEGIN:DAYLIGHT
DTSTART:20260308T030000
RDATE:20261101T010000
TZOFFSETFROM:-0700
TZOFFSETTO:-0600
TZNAME:America/Denver MDT
END:DAYLIGHT
BEGIN:DAYLIGHT
DTSTART:20270314T030000
RDATE:20271107T010000
TZOFFSETFROM:-0700
TZOFFSETTO:-0600
TZNAME:America/Denver MDT
END:DAYLIGHT
BEGIN:DAYLIGHT
DTSTART:20280312T030000
RDATE:20281105T010000
TZOFFSETFROM:-0700
TZOFFSETTO:-0600
TZNAME:America/Denver MDT
END:DAYLIGHT
BEGIN:DAYLIGHT
DTSTART:20290311T030000
RDATE:20291104T010000
TZOFFSETFROM:-0700
TZOFFSETTO:-0600
TZNAME:America/Denver MDT
END:DAYLIGHT
BEGIN:DAYLIGHT
DTSTART:20300310T030000
RDATE:20301103T010000
TZOFFSETFROM:-0700
TZOFFSETTO:-0600
TZNAME:America/Denver MDT
END:DAYLIGHT
BEGIN:DAYLIGHT
DTSTART:20310309T030000
RDATE:20311102T010000
TZOFFSETFROM:-0700
TZOFFSETTO:-0600
TZNAME:America/Denver MDT
END:DAYLIGHT
BEGIN:DAYLIGHT
DTSTART:20320314T030000
RDATE:20321107T010000
TZOFFSETFROM:-0700
TZOFFSETTO:-0600
TZNAME:America/Denver MDT
END:DAYLIGHT
BEGIN:DAYLIGHT
DTSTART:20330313T030000
RDATE:20331106T010000
TZOFFSETFROM:-0700
TZOFFSETTO:-0600
TZNAME:America/Denver MDT
END:DAYLIGHT
BEGIN:DAYLIGHT
DTSTART:20340312T030000
RDATE:20341105T010000
TZOFFSETFROM:-0700
TZOFFSETTO:-0600
TZNAME:America/Denver MDT
END:DAYLIGHT
BEGIN:DAYLIGHT
DTSTART:20350311T030000
RDATE:20351104T010000
TZOFFSETFROM:-0700
TZOFFSETTO:-0600
TZNAME:America/Denver MDT
END:DAYLIGHT
BEGIN:DAYLIGHT
DTSTART:20360309T030000
RDATE:20361102T010000
TZOFFSETFROM:-0700
TZOFFSETTO:-0600
TZNAME:America/Denver MDT
END:DAYLIGHT
END:VTIMEZONE
BEGIN:VEVENT
UID:0ee37d70166b7ef811f449d3fff3effd
CATEGORIES:Legal Notices
CREATED:20180514T151635
SUMMARY:Grant County Board of Commissioners Regular Meeting
LOCATION:Grant County Administration Center
DESCRIPTION:I. Call to Order\nII. Pledge of Allegiance &amp; Salute to State Flag\nIII.
  Approval of Regular Meeting Agenda\nIV. Gila Regional Medical Center Repor
 ts – Taffy Arias\nV. Public Input\n During this portion of our meeting, we
  welcome your suggestions and want to hear\nyour concerns. This is not a qu
 estion and answer period; speakers will be limited to\nfive (5) minutes. An
 y individual who would like to discuss an item in more depth\nmay request t
 o be placed on a future agenda. Request forms are available in the\nCounty 
 Manager’s Office.\nVI. Minutes\na. Approve/Disapprove April 17, 2018, Work 
 Session Meeting Minutes\nb. Approve/Disapprove April 19, 2018, Regular Meet
 ing Minutes\nc. Approve/Disapprove April 30, 2018, Special Meeting Minutes\
 nd. Approve/Disapprove May 10, 2018, Budget Hearing Minutes\ne. Pursuant to
  NMSA 10-15-1 J, the Minutes of the Present Open Meeting will Reflect\nthat
  for the Following Special Meetings, the Matters Discussed were Limited Onl
 y to\nThose Specified in the Notice of that Closed Meeting:\n April 25, 20
 18 – Physicians Meeting\n April 25, 2018\nVII. Financial Reports\nf. Appro
 ve/Disapprove May 8, 2018, Expenditure Report\nBOCC Agenda Page 2 of 3\nMay
  17, 2018\nVIII. New Business\ng. Approve/Disapprove Proclamation Declaring
  the Week of June 13th through June 16th\n2018 as “First New Mexico Bank Wi
 ld, Wild West Pro Rodeo Week” – Kim Clark\nh. Presentation Regarding the Gi
 la National Forest Plan Revision Update – Matt Schultz\nand Eric Flood\ni. 
 Approve/Disapprove Delinquent Solid Waste Accounts Subject to Lien\nj. Appr
 ove/Disapprove Removal of Broken and Obsolete Fixed Assets\nk. Approve/Disa
 pprove Grant County Sheriff’s Department Intergovernmental transfer to\nthe
  Silver City Police Department for a Zebra Label Printer with Power Adapter
  and\nROV Handheld Scanner\nl. Approve/Disapprove one (1) Peer/Consumer Ind
 ividual for one (1) Year Term to the\nTu Casa Advisory Board\nm. Approve/Di
 sapprove New Mexico Association of Counties Voluntary Employee\nLoan/Credit
  Counseling Benefit Program In Partnership with TrueConnect\nn. Approve/Dis
 approve Grant County Commissioners Acceptance of Dedication of Right\nof Wa
 y for a Portion of Main Street Located in the Pinos Altos Mining District\n
 o. Approve/Disapprove Fiscal Year 2018 County Fire Protection Fund Distribu
 tion\nApplication for the following Volunteer Fire Departments (Consent Age
 nda Item):\n1. Cliff – Gila\n2. Fire Administration\n3. Ft. Bayard\n4. Lowe
 r Mimbres\n5. Pinos Altos\n6. Santa Rita/Hanover/Fierro\n7. Sapillo Creek\n
 8. Tyrone\n9. Upper Mimbres\n10. Whiskey Creek\np. Discussion and Possible 
 Action Regarding Gila Regional Medical Center Board of Trustee Selection Pr
 ocess\n
X-ALT-DESC;FMTTYPE=text/html:<p>I. Call to Order<br />II. Pledge of Allegiance &amp; Salute to State Fla
 g<br />III. Approval of Regular Meeting Agenda<br />IV. Gila Regional Medic
 al Center Reports – Taffy Arias<br />V. Public Input<br /> During this por
 tion of our meeting, we welcome your suggestions and want to hear<br />your
  concerns. This is not a question and answer period; speakers will be limit
 ed to<br />five (5) minutes. Any individual who would like to discuss an it
 em in more depth<br />may request to be placed on a future agenda. Request 
 forms are available in the<br />County Manager’s Office.<br />VI. Minutes<b
 r />a. Approve/Disapprove April 17, 2018, Work Session Meeting Minutes<br /
 >b. Approve/Disapprove April 19, 2018, Regular Meeting Minutes<br />c. Appr
 ove/Disapprove April 30, 2018, Special Meeting Minutes<br />d. Approve/Disa
 pprove May 10, 2018, Budget Hearing Minutes<br />e. Pursuant to NMSA 10-15-
 1 J, the Minutes of the Present Open Meeting will Reflect<br />that for the
  Following Special Meetings, the Matters Discussed were Limited Only to<br 
 />Those Specified in the Notice of that Closed Meeting:<br /> April 25, 20
 18 – Physicians Meeting<br /> April 25, 2018<br />VII. Financial Reports<b
 r />f. Approve/Disapprove May 8, 2018, Expenditure Report<br />BOCC Agenda 
 Page 2 of 3<br />May 17, 2018<br />VIII. New Business<br />g. Approve/Disap
 prove Proclamation Declaring the Week of June 13th through June 16th<br />2
 018 as “First New Mexico Bank Wild, Wild West Pro Rodeo Week” – Kim Clark<b
 r />h. Presentation Regarding the Gila National Forest Plan Revision Update
  – Matt Schultz<br />and Eric Flood<br />i. Approve/Disapprove Delinquent S
 olid Waste Accounts Subject to Lien<br />j. Approve/Disapprove Removal of B
 roken and Obsolete Fixed Assets<br />k. Approve/Disapprove Grant County She
 riff’s Department Intergovernmental transfer to<br />the Silver City Police
  Department for a Zebra Label Printer with Power Adapter and<br />ROV Handh
 eld Scanner<br />l. Approve/Disapprove one (1) Peer/Consumer Individual for
  one (1) Year Term to the<br />Tu Casa Advisory Board<br />m. Approve/Disap
 prove New Mexico Association of Counties Voluntary Employee<br />Loan/Credi
 t Counseling Benefit Program In Partnership with TrueConnect<br />n. Approv
 e/Disapprove Grant County Commissioners Acceptance of Dedication of Right<b
 r />of Way for a Portion of Main Street Located in the Pinos Altos Mining D
 istrict<br />o. Approve/Disapprove Fiscal Year 2018 County Fire Protection 
 Fund Distribution<br />Application for the following Volunteer Fire Departm
 ents (Consent Agenda Item):<br />1. Cliff – Gila<br />2. Fire Administratio
 n<br />3. Ft. Bayard<br />4. Lower Mimbres<br />5. Pinos Altos<br />6. Sant
 a Rita/Hanover/Fierro<br />7. Sapillo Creek<br />8. Tyrone<br />9. Upper Mi
 mbres<br />10. Whiskey Creek<br />p. Discussion and Possible Action Regardi
 ng Gila Regional Medical Center Board of Trustee Selection Process</p>
CONTACT:http://www.grantcountynm.com (http://www.grantcountynm.com)
DTSTAMP:20260420T210424
DTSTART;TZID=America/Denver:20180517T090000
SEQUENCE:0
TRANSP:OPAQUE
END:VEVENT
END:VCALENDAR