BEGIN:VCALENDAR
VERSION:2.0
PRODID:-//jEvents 2.0 for Joomla//EN
CALSCALE:GREGORIAN
METHOD:PUBLISH
BEGIN:VTIMEZONE
TZID:America/Denver
BEGIN:STANDARD
DTSTART:20171105T010000
RDATE:20180311T030000
TZOFFSETFROM:-0600
TZOFFSETTO:-0700
TZNAME:America/Denver MST
END:STANDARD
BEGIN:STANDARD
DTSTART:20181104T010000
RDATE:20190310T030000
TZOFFSETFROM:-0600
TZOFFSETTO:-0700
TZNAME:America/Denver MST
END:STANDARD
BEGIN:STANDARD
DTSTART:20191103T010000
RDATE:20200308T030000
TZOFFSETFROM:-0600
TZOFFSETTO:-0700
TZNAME:America/Denver MST
END:STANDARD
BEGIN:STANDARD
DTSTART:20201101T010000
RDATE:20210314T030000
TZOFFSETFROM:-0600
TZOFFSETTO:-0700
TZNAME:America/Denver MST
END:STANDARD
BEGIN:STANDARD
DTSTART:20211107T010000
RDATE:20220313T030000
TZOFFSETFROM:-0600
TZOFFSETTO:-0700
TZNAME:America/Denver MST
END:STANDARD
BEGIN:STANDARD
DTSTART:20221106T010000
RDATE:20230312T030000
TZOFFSETFROM:-0600
TZOFFSETTO:-0700
TZNAME:America/Denver MST
END:STANDARD
BEGIN:STANDARD
DTSTART:20231105T010000
RDATE:20240310T030000
TZOFFSETFROM:-0600
TZOFFSETTO:-0700
TZNAME:America/Denver MST
END:STANDARD
BEGIN:STANDARD
DTSTART:20241103T010000
RDATE:20250309T030000
TZOFFSETFROM:-0600
TZOFFSETTO:-0700
TZNAME:America/Denver MST
END:STANDARD
BEGIN:STANDARD
DTSTART:20251102T010000
RDATE:20260308T030000
TZOFFSETFROM:-0600
TZOFFSETTO:-0700
TZNAME:America/Denver MST
END:STANDARD
BEGIN:STANDARD
DTSTART:20261101T010000
RDATE:20270314T030000
TZOFFSETFROM:-0600
TZOFFSETTO:-0700
TZNAME:America/Denver MST
END:STANDARD
BEGIN:STANDARD
DTSTART:20271107T010000
RDATE:20280312T030000
TZOFFSETFROM:-0600
TZOFFSETTO:-0700
TZNAME:America/Denver MST
END:STANDARD
BEGIN:STANDARD
DTSTART:20281105T010000
RDATE:20290311T030000
TZOFFSETFROM:-0600
TZOFFSETTO:-0700
TZNAME:America/Denver MST
END:STANDARD
BEGIN:STANDARD
DTSTART:20291104T010000
RDATE:20300310T030000
TZOFFSETFROM:-0600
TZOFFSETTO:-0700
TZNAME:America/Denver MST
END:STANDARD
BEGIN:STANDARD
DTSTART:20301103T010000
RDATE:20310309T030000
TZOFFSETFROM:-0600
TZOFFSETTO:-0700
TZNAME:America/Denver MST
END:STANDARD
BEGIN:STANDARD
DTSTART:20311102T010000
RDATE:20320314T030000
TZOFFSETFROM:-0600
TZOFFSETTO:-0700
TZNAME:America/Denver MST
END:STANDARD
BEGIN:STANDARD
DTSTART:20321107T010000
RDATE:20330313T030000
TZOFFSETFROM:-0600
TZOFFSETTO:-0700
TZNAME:America/Denver MST
END:STANDARD
BEGIN:STANDARD
DTSTART:20331106T010000
RDATE:20340312T030000
TZOFFSETFROM:-0600
TZOFFSETTO:-0700
TZNAME:America/Denver MST
END:STANDARD
BEGIN:STANDARD
DTSTART:20341105T010000
RDATE:20350311T030000
TZOFFSETFROM:-0600
TZOFFSETTO:-0700
TZNAME:America/Denver MST
END:STANDARD
BEGIN:STANDARD
DTSTART:20351104T010000
RDATE:20360309T030000
TZOFFSETFROM:-0600
TZOFFSETTO:-0700
TZNAME:America/Denver MST
END:STANDARD
BEGIN:STANDARD
DTSTART:20361102T010000
RDATE:20370308T030000
TZOFFSETFROM:-0600
TZOFFSETTO:-0700
TZNAME:America/Denver MST
END:STANDARD
BEGIN:DAYLIGHT
DTSTART:20170813T180000
RDATE:20171105T010000
TZOFFSETFROM:-0700
TZOFFSETTO:-0600
TZNAME:America/Denver MDT
END:DAYLIGHT
BEGIN:DAYLIGHT
DTSTART:20180311T030000
RDATE:20181104T010000
TZOFFSETFROM:-0700
TZOFFSETTO:-0600
TZNAME:America/Denver MDT
END:DAYLIGHT
BEGIN:DAYLIGHT
DTSTART:20190310T030000
RDATE:20191103T010000
TZOFFSETFROM:-0700
TZOFFSETTO:-0600
TZNAME:America/Denver MDT
END:DAYLIGHT
BEGIN:DAYLIGHT
DTSTART:20200308T030000
RDATE:20201101T010000
TZOFFSETFROM:-0700
TZOFFSETTO:-0600
TZNAME:America/Denver MDT
END:DAYLIGHT
BEGIN:DAYLIGHT
DTSTART:20210314T030000
RDATE:20211107T010000
TZOFFSETFROM:-0700
TZOFFSETTO:-0600
TZNAME:America/Denver MDT
END:DAYLIGHT
BEGIN:DAYLIGHT
DTSTART:20220313T030000
RDATE:20221106T010000
TZOFFSETFROM:-0700
TZOFFSETTO:-0600
TZNAME:America/Denver MDT
END:DAYLIGHT
BEGIN:DAYLIGHT
DTSTART:20230312T030000
RDATE:20231105T010000
TZOFFSETFROM:-0700
TZOFFSETTO:-0600
TZNAME:America/Denver MDT
END:DAYLIGHT
BEGIN:DAYLIGHT
DTSTART:20240310T030000
RDATE:20241103T010000
TZOFFSETFROM:-0700
TZOFFSETTO:-0600
TZNAME:America/Denver MDT
END:DAYLIGHT
BEGIN:DAYLIGHT
DTSTART:20250309T030000
RDATE:20251102T010000
TZOFFSETFROM:-0700
TZOFFSETTO:-0600
TZNAME:America/Denver MDT
END:DAYLIGHT
BEGIN:DAYLIGHT
DTSTART:20260308T030000
RDATE:20261101T010000
TZOFFSETFROM:-0700
TZOFFSETTO:-0600
TZNAME:America/Denver MDT
END:DAYLIGHT
BEGIN:DAYLIGHT
DTSTART:20270314T030000
RDATE:20271107T010000
TZOFFSETFROM:-0700
TZOFFSETTO:-0600
TZNAME:America/Denver MDT
END:DAYLIGHT
BEGIN:DAYLIGHT
DTSTART:20280312T030000
RDATE:20281105T010000
TZOFFSETFROM:-0700
TZOFFSETTO:-0600
TZNAME:America/Denver MDT
END:DAYLIGHT
BEGIN:DAYLIGHT
DTSTART:20290311T030000
RDATE:20291104T010000
TZOFFSETFROM:-0700
TZOFFSETTO:-0600
TZNAME:America/Denver MDT
END:DAYLIGHT
BEGIN:DAYLIGHT
DTSTART:20300310T030000
RDATE:20301103T010000
TZOFFSETFROM:-0700
TZOFFSETTO:-0600
TZNAME:America/Denver MDT
END:DAYLIGHT
BEGIN:DAYLIGHT
DTSTART:20310309T030000
RDATE:20311102T010000
TZOFFSETFROM:-0700
TZOFFSETTO:-0600
TZNAME:America/Denver MDT
END:DAYLIGHT
BEGIN:DAYLIGHT
DTSTART:20320314T030000
RDATE:20321107T010000
TZOFFSETFROM:-0700
TZOFFSETTO:-0600
TZNAME:America/Denver MDT
END:DAYLIGHT
BEGIN:DAYLIGHT
DTSTART:20330313T030000
RDATE:20331106T010000
TZOFFSETFROM:-0700
TZOFFSETTO:-0600
TZNAME:America/Denver MDT
END:DAYLIGHT
BEGIN:DAYLIGHT
DTSTART:20340312T030000
RDATE:20341105T010000
TZOFFSETFROM:-0700
TZOFFSETTO:-0600
TZNAME:America/Denver MDT
END:DAYLIGHT
BEGIN:DAYLIGHT
DTSTART:20350311T030000
RDATE:20351104T010000
TZOFFSETFROM:-0700
TZOFFSETTO:-0600
TZNAME:America/Denver MDT
END:DAYLIGHT
BEGIN:DAYLIGHT
DTSTART:20360309T030000
RDATE:20361102T010000
TZOFFSETFROM:-0700
TZOFFSETTO:-0600
TZNAME:America/Denver MDT
END:DAYLIGHT
END:VTIMEZONE
BEGIN:VEVENT
UID:4f087ea0873801293b5cbf2c4a214097
CATEGORIES:Legal Notices
CREATED:20180811T192203
SUMMARY:Town of Silver City Council Regular Meeting
LOCATION:Grant County Administration Center
DESCRIPTION:Approval of Minutes: Regular Meeting on July 24, 2018\nUnfinished Business:
  \nA. Approval / Disapproval of Ordinance No. 1268: an Ordinance proposing 
 various amendments to the Municipal Code regarding boards and committees of
  the Town.\nB. Approval / Disapproval of Ordinance No. 1269: an Ordinance a
 mending Section 12-7-9 through 12-7-9.10 (Off-Highway Motor Vehicles - Defi
 nitions, et al.) of the NM Uniform Traffic Code adopted as the Silver City 
 Traffic Ordinance in Chapter 50, Section 50-1 of the Municipal Code of the 
 Town of Silver City, NM.\nNew Business: \nA. Approval / Disapproval of a Sp
 ecial Dispenser Permit Application and waiver of NMSA 1978 60-6B-10 for alc
 ohol sales near a church for a beer garden at Gough Park for the LGBTQ Prid
 e Fest on September 15, 2018 with alcohol service from noon to 9:00 p.m. Li
 quor License Holder: Dahl Enterprises, LLC, DBA Q's Southern Bistro, LLC, L
 iquor License #28098, 101 W. College Ave., Silver City, NM 88061.\nB. Appro
 val / Disapproval of Notice of Intent Ordinance No. 1271: an Ordinance to a
 pprove a lease agreement between the Town of Silver City and Washington Fed
 eral Savings and Loan pursuant to the provisions of Chapter 48, Article II,
  Sections 48-20 et seq. of the Town of Silver City Municipal Code.\nC. Appr
 oval / Disapproval of Notice of Intent Ordinance No. 1272: an Ordinance ame
 nding Chapter 6 (Animals), Article 1, Section 6-1 (Definitions) and a New S
 ection 6-15 (Keeping of Bees Prohibited) of the Code of Ordinances of the T
 own of Silver City.\nD. Approval / Disapproval of Resolution No. 2018-20: a
  Resolution of the Town of Silver City ratifying a certain agreement betwee
 n the Town of Silver City and the Southwest New Mexico Council of Governmen
 ts, dated August 8, 2017, and authorizing the execution of same by the prop
 er official of the Town of Silver City.\nE. Approval / Disapproval of Resol
 ution No. 2018-21: a Resolution adopting the 2020-2024 Infrastructure Capit
 al Improvement Plan (ICIP).\nF. Approval / Disapproval of Resolution No. 20
 18-22: a Resolution adopting the 2020-2024 Infrastructure Capital Improveme
 nt Plan (ICIP) for the Silver City Senior Center.\nG. Approval / Disapprova
 l of an Agreement between the Town of Silver City and Local 2430 Internatio
 nal Association of Firefighters, AFL-CIO from July 1, 2018 to June 30, 2021
 . Note: The Town Council may go into Executive Session pursuant to NMSA 197
 8 Section 10-15-1(H) (5) for the discussion of bargaining strategy prelimin
 ary to collective bargaining negotiations.\nH. Approval / Disapproval of ca
 ncellation of August 28, 2018 Town Council meeting due to the New Mexico Mu
 nicipal League's Annual Conference being held that same week.\nAdjournment 
 \nAgendas are available prior to the meeting and may be obtained at City Ha
 ll, 101 W. Broadway and City Hall Annex, 1203 North Hudson, or on the Town'
 s website, www.townofsilvercity.org. \nIf you are an individual with a disa
 bility who needs a reader, amplifier, qualified sign language interpreter, 
 or any other form of auxiliary aid service to attend or participate in the 
 hearing or meeting, contact the Town Clerk at 534-6346 at least one week pr
 ior to the meeting or as soon as possible. Public documents, including the 
 agenda and minutes, can be provided in various accessible formats. Please c
 ontact The Town Clerk if summary or other type of accessible format is need
 ed.\n
X-ALT-DESC;FMTTYPE=text/html:<p>Approval of Minutes: Regular Meeting on July 24, 2018<br />Unfinished Bu
 siness: <br />A. Approval / Disapproval of Ordinance No. 1268: an Ordinance
  proposing various amendments to the Municipal Code regarding boards and co
 mmittees of the Town.</p><p>B. Approval / Disapproval of Ordinance No. 1269
 : an Ordinance amending Section 12-7-9 through 12-7-9.10 (Off-Highway Motor
  Vehicles - Definitions, et al.) of the NM Uniform Traffic Code adopted as 
 the Silver City Traffic Ordinance in Chapter 50, Section 50-1 of the Munici
 pal Code of the Town of Silver City, NM.<br />New Business: <br />A. Approv
 al / Disapproval of a Special Dispenser Permit Application and waiver of NM
 SA 1978 60-6B-10 for alcohol sales near a church for a beer garden at Gough
  Park for the LGBTQ Pride Fest on September 15, 2018 with alcohol service f
 rom noon to 9:00 p.m. Liquor License Holder: Dahl Enterprises, LLC, DBA Q's
  Southern Bistro, LLC, Liquor License #28098, 101 W. College Ave., Silver C
 ity, NM 88061.<br />B. Approval / Disapproval of Notice of Intent Ordinance
  No. 1271: an Ordinance to approve a lease agreement between the Town of Si
 lver City and Washington Federal Savings and Loan pursuant to the provision
 s of Chapter 48, Article II, Sections 48-20 et seq. of the Town of Silver C
 ity Municipal Code.<br />C. Approval / Disapproval of Notice of Intent Ordi
 nance No. 1272: an Ordinance amending Chapter 6 (Animals), Article 1, Secti
 on 6-1 (Definitions) and a New Section 6-15 (Keeping of Bees Prohibited) of
  the Code of Ordinances of the Town of Silver City.<br />D. Approval / Disa
 pproval of Resolution No. 2018-20: a Resolution of the Town of Silver City 
 ratifying a certain agreement between the Town of Silver City and the South
 west New Mexico Council of Governments, dated August 8, 2017, and authorizi
 ng the execution of same by the proper official of the Town of Silver City.
 <br />E. Approval / Disapproval of Resolution No. 2018-21: a Resolution ado
 pting the 2020-2024 Infrastructure Capital Improvement Plan (ICIP).<br />F.
  Approval / Disapproval of Resolution No. 2018-22: a Resolution adopting th
 e 2020-2024 Infrastructure Capital Improvement Plan (ICIP) for the Silver C
 ity Senior Center.<br />G. Approval / Disapproval of an Agreement between t
 he Town of Silver City and Local 2430 International Association of Firefigh
 ters, AFL-CIO from July 1, 2018 to June 30, 2021. Note: The Town Council ma
 y go into Executive Session pursuant to NMSA 1978 Section 10-15-1(H) (5) fo
 r the discussion of bargaining strategy preliminary to collective bargainin
 g negotiations.<br />H. Approval / Disapproval of cancellation of August 28
 , 2018 Town Council meeting due to the New Mexico Municipal League's Annual
  Conference being held that same week.<br />Adjournment <br />Agendas are a
 vailable prior to the meeting and may be obtained at City Hall, 101 W. Broa
 dway and City Hall Annex, 1203 North Hudson, or on the Town's website, www.
 townofsilvercity.org. <br />If you are an individual with a disability who 
 needs a reader, amplifier, qualified sign language interpreter, or any othe
 r form of auxiliary aid service to attend or participate in the hearing or 
 meeting, contact the Town Clerk at 534-6346 at least one week prior to the 
 meeting or as soon as possible. Public documents, including the agenda and 
 minutes, can be provided in various accessible formats. Please contact The 
 Town Clerk if summary or other type of accessible format is needed.</p>
CONTACT:www.townofsilvercity.org
DTSTAMP:20260420T163838
DTSTART;TZID=America/Denver:20180814T180000
SEQUENCE:0
TRANSP:OPAQUE
END:VEVENT
END:VCALENDAR