BEGIN:VCALENDAR
VERSION:2.0
PRODID:-//jEvents 2.0 for Joomla//EN
CALSCALE:GREGORIAN
METHOD:PUBLISH
BEGIN:VTIMEZONE
TZID:America/Denver
BEGIN:STANDARD
DTSTART:20180225T180000
RDATE:20180311T030000
TZOFFSETFROM:-0600
TZOFFSETTO:-0700
TZNAME:America/Denver MST
END:STANDARD
BEGIN:STANDARD
DTSTART:20181104T010000
RDATE:20190310T030000
TZOFFSETFROM:-0600
TZOFFSETTO:-0700
TZNAME:America/Denver MST
END:STANDARD
BEGIN:STANDARD
DTSTART:20191103T010000
RDATE:20200308T030000
TZOFFSETFROM:-0600
TZOFFSETTO:-0700
TZNAME:America/Denver MST
END:STANDARD
BEGIN:STANDARD
DTSTART:20201101T010000
RDATE:20210314T030000
TZOFFSETFROM:-0600
TZOFFSETTO:-0700
TZNAME:America/Denver MST
END:STANDARD
BEGIN:STANDARD
DTSTART:20211107T010000
RDATE:20220313T030000
TZOFFSETFROM:-0600
TZOFFSETTO:-0700
TZNAME:America/Denver MST
END:STANDARD
BEGIN:STANDARD
DTSTART:20221106T010000
RDATE:20230312T030000
TZOFFSETFROM:-0600
TZOFFSETTO:-0700
TZNAME:America/Denver MST
END:STANDARD
BEGIN:STANDARD
DTSTART:20231105T010000
RDATE:20240310T030000
TZOFFSETFROM:-0600
TZOFFSETTO:-0700
TZNAME:America/Denver MST
END:STANDARD
BEGIN:STANDARD
DTSTART:20241103T010000
RDATE:20250309T030000
TZOFFSETFROM:-0600
TZOFFSETTO:-0700
TZNAME:America/Denver MST
END:STANDARD
BEGIN:STANDARD
DTSTART:20251102T010000
RDATE:20260308T030000
TZOFFSETFROM:-0600
TZOFFSETTO:-0700
TZNAME:America/Denver MST
END:STANDARD
BEGIN:STANDARD
DTSTART:20261101T010000
RDATE:20270314T030000
TZOFFSETFROM:-0600
TZOFFSETTO:-0700
TZNAME:America/Denver MST
END:STANDARD
BEGIN:STANDARD
DTSTART:20271107T010000
RDATE:20280312T030000
TZOFFSETFROM:-0600
TZOFFSETTO:-0700
TZNAME:America/Denver MST
END:STANDARD
BEGIN:STANDARD
DTSTART:20281105T010000
RDATE:20290311T030000
TZOFFSETFROM:-0600
TZOFFSETTO:-0700
TZNAME:America/Denver MST
END:STANDARD
BEGIN:STANDARD
DTSTART:20291104T010000
RDATE:20300310T030000
TZOFFSETFROM:-0600
TZOFFSETTO:-0700
TZNAME:America/Denver MST
END:STANDARD
BEGIN:STANDARD
DTSTART:20301103T010000
RDATE:20310309T030000
TZOFFSETFROM:-0600
TZOFFSETTO:-0700
TZNAME:America/Denver MST
END:STANDARD
BEGIN:STANDARD
DTSTART:20311102T010000
RDATE:20320314T030000
TZOFFSETFROM:-0600
TZOFFSETTO:-0700
TZNAME:America/Denver MST
END:STANDARD
BEGIN:STANDARD
DTSTART:20321107T010000
RDATE:20330313T030000
TZOFFSETFROM:-0600
TZOFFSETTO:-0700
TZNAME:America/Denver MST
END:STANDARD
BEGIN:STANDARD
DTSTART:20331106T010000
RDATE:20340312T030000
TZOFFSETFROM:-0600
TZOFFSETTO:-0700
TZNAME:America/Denver MST
END:STANDARD
BEGIN:STANDARD
DTSTART:20341105T010000
RDATE:20350311T030000
TZOFFSETFROM:-0600
TZOFFSETTO:-0700
TZNAME:America/Denver MST
END:STANDARD
BEGIN:STANDARD
DTSTART:20351104T010000
RDATE:20360309T030000
TZOFFSETFROM:-0600
TZOFFSETTO:-0700
TZNAME:America/Denver MST
END:STANDARD
BEGIN:STANDARD
DTSTART:20361102T010000
RDATE:20370308T030000
TZOFFSETFROM:-0600
TZOFFSETTO:-0700
TZNAME:America/Denver MST
END:STANDARD
BEGIN:DAYLIGHT
DTSTART:20180311T030000
RDATE:20181104T010000
TZOFFSETFROM:-0700
TZOFFSETTO:-0600
TZNAME:America/Denver MDT
END:DAYLIGHT
BEGIN:DAYLIGHT
DTSTART:20190310T030000
RDATE:20191103T010000
TZOFFSETFROM:-0700
TZOFFSETTO:-0600
TZNAME:America/Denver MDT
END:DAYLIGHT
BEGIN:DAYLIGHT
DTSTART:20200308T030000
RDATE:20201101T010000
TZOFFSETFROM:-0700
TZOFFSETTO:-0600
TZNAME:America/Denver MDT
END:DAYLIGHT
BEGIN:DAYLIGHT
DTSTART:20210314T030000
RDATE:20211107T010000
TZOFFSETFROM:-0700
TZOFFSETTO:-0600
TZNAME:America/Denver MDT
END:DAYLIGHT
BEGIN:DAYLIGHT
DTSTART:20220313T030000
RDATE:20221106T010000
TZOFFSETFROM:-0700
TZOFFSETTO:-0600
TZNAME:America/Denver MDT
END:DAYLIGHT
BEGIN:DAYLIGHT
DTSTART:20230312T030000
RDATE:20231105T010000
TZOFFSETFROM:-0700
TZOFFSETTO:-0600
TZNAME:America/Denver MDT
END:DAYLIGHT
BEGIN:DAYLIGHT
DTSTART:20240310T030000
RDATE:20241103T010000
TZOFFSETFROM:-0700
TZOFFSETTO:-0600
TZNAME:America/Denver MDT
END:DAYLIGHT
BEGIN:DAYLIGHT
DTSTART:20250309T030000
RDATE:20251102T010000
TZOFFSETFROM:-0700
TZOFFSETTO:-0600
TZNAME:America/Denver MDT
END:DAYLIGHT
BEGIN:DAYLIGHT
DTSTART:20260308T030000
RDATE:20261101T010000
TZOFFSETFROM:-0700
TZOFFSETTO:-0600
TZNAME:America/Denver MDT
END:DAYLIGHT
BEGIN:DAYLIGHT
DTSTART:20270314T030000
RDATE:20271107T010000
TZOFFSETFROM:-0700
TZOFFSETTO:-0600
TZNAME:America/Denver MDT
END:DAYLIGHT
BEGIN:DAYLIGHT
DTSTART:20280312T030000
RDATE:20281105T010000
TZOFFSETFROM:-0700
TZOFFSETTO:-0600
TZNAME:America/Denver MDT
END:DAYLIGHT
BEGIN:DAYLIGHT
DTSTART:20290311T030000
RDATE:20291104T010000
TZOFFSETFROM:-0700
TZOFFSETTO:-0600
TZNAME:America/Denver MDT
END:DAYLIGHT
BEGIN:DAYLIGHT
DTSTART:20300310T030000
RDATE:20301103T010000
TZOFFSETFROM:-0700
TZOFFSETTO:-0600
TZNAME:America/Denver MDT
END:DAYLIGHT
BEGIN:DAYLIGHT
DTSTART:20310309T030000
RDATE:20311102T010000
TZOFFSETFROM:-0700
TZOFFSETTO:-0600
TZNAME:America/Denver MDT
END:DAYLIGHT
BEGIN:DAYLIGHT
DTSTART:20320314T030000
RDATE:20321107T010000
TZOFFSETFROM:-0700
TZOFFSETTO:-0600
TZNAME:America/Denver MDT
END:DAYLIGHT
BEGIN:DAYLIGHT
DTSTART:20330313T030000
RDATE:20331106T010000
TZOFFSETFROM:-0700
TZOFFSETTO:-0600
TZNAME:America/Denver MDT
END:DAYLIGHT
BEGIN:DAYLIGHT
DTSTART:20340312T030000
RDATE:20341105T010000
TZOFFSETFROM:-0700
TZOFFSETTO:-0600
TZNAME:America/Denver MDT
END:DAYLIGHT
BEGIN:DAYLIGHT
DTSTART:20350311T030000
RDATE:20351104T010000
TZOFFSETFROM:-0700
TZOFFSETTO:-0600
TZNAME:America/Denver MDT
END:DAYLIGHT
BEGIN:DAYLIGHT
DTSTART:20360309T030000
RDATE:20361102T010000
TZOFFSETFROM:-0700
TZOFFSETTO:-0600
TZNAME:America/Denver MDT
END:DAYLIGHT
END:VTIMEZONE
BEGIN:VEVENT
UID:3e581ab4110036d0c6ae55a9332dda90
CATEGORIES:Legal Notices
CREATED:20190225T222222
SUMMARY:Silver City Town Council Meeting
LOCATION:Grant County Administration Center
DESCRIPTION:<p>1. CALL TO ORDER AND PLEDGE OF ALLEGIANCE</p><p>2. CHANGES TO AGENDA</p>
 <p>3. CEREMONIES</p><p>4. PROCLAMATIONS</p><p>“Girl Scout Week” - March 10-
 16, 2019</p><p>&nbsp;5. COUNCIL COMMENTS</p><p>6. APPROVAL OF MINUTES</p><p
 >Regular Meeting - February 12, 2019</p><p>7. PUBLIC INPUT</p><p>8. REPORTS
 </p><p>A. High Desert Humane Society’s Annual Report by Heidi Ogas.<br /> <
 br />B. Staff Reports. – 1) Fire Chief report concerning safety and fire co
 de inspections, and 2) Legislative update by Assistant Town Manager.</p><p>
 9. PUBLIC HEARINGS<br />A. Approval / Disapproval of an Ordinance amending 
 Appendix C (Land Use and Zoning Code of 2010), Article I (General Provision
 s), Sections 1.3.1, 1.5.2; Article II (Definitions), Section 2.2; Article I
 II (District Regulations), Table 3.2, Section 3.3.2 C) 3) and Section 3.4.1
  C) 14), Table 3.34.2, Section 3.4.2 A) 7); Article V (Development Standard
 s) Section 5.9.1 B, 5.9.2 A) 6), Section 5.15; Article VI (Administration),
  Section 6.2.12 A), Table 6.3.1, Section 6.3.14 of the Town of Silver City 
 Municipal Code.</p><p>10. UNFINISHED BUSINESS</p><p>11. APPROVAL OF CONSENT
  AGENDA - Note: All matters listed under Item 11, Approval of Consent Agend
 a are considered routine by the Town Council and will be enacted by one mot
 ion in the form listed below. There will be no separate discussion of these
  items. If discussion is desired, that item will be removed from the Consen
 t Agenda and will be considered separately.</p><p>A. Approval / Disapproval
  of Resolution No. 2019-05: Adopting a Fair Housing Policy.<br /> <br />B. 
 Approval / Disapproval of Resolution No. 2019-06: Citizen Participation Pla
 n CDBG Program.<br /> <br />C. Approval / Disapproval of Resolution No. 201
 9-07: Residential Anti-Displacement and Relocation Plan and Certification.<
 br /> <br />D. Approval / Disapproval of Resolution No. 2019-08: Section 3 
 Plan.<br /> <br />E. Approval / Disapproval of Resolution No. 2019-09: CDBG
  Procurement Policy.</p><p>12. NEW BUSINESS<br />A. Approval / Disapproval 
 of a Public Celebration Permit Application and waiver of NMSA 1978 60-6B-10
  for alcohol sales near a church for the Annual Meeting of the Archaeologic
 al Society of New Mexico to be held at the Murray Hotel, 200 W. Broadway, S
 ilver City, NM on April 26-27, 2019 with alcohol service from 5:00 pm to 7:
 00 pm on April 26 and from 5:00 pm to 8 pm on April 27. Liquor License Hold
 er: La Esperanza Vineyard, LLC, 100 De La O, San Lorenzo, NM<br />88041.<br
  />Note: To obtain a copy of documents for this agenda item, please contact
  the Town Clerk at the Clerk's office at City Hall, 101 W. Broadway Ave., S
 ilver City, NM, or by phone at (575) 534-6346.<br /> <br />B. Approval / Di
 sapproval to cancel the regular Council Meeting scheduled for March 12, 201
 9.</p><p>&nbsp;AJOURNMENT</p>
CONTACT:www.townofsilvercity.org
DTSTAMP:20260423T162524
DTSTART;TZID=America/Denver:20190226T180000
SEQUENCE:0
TRANSP:OPAQUE
END:VEVENT
END:VCALENDAR