BEGIN:VCALENDAR
VERSION:2.0
PRODID:-//jEvents 2.0 for Joomla//EN
CALSCALE:GREGORIAN
METHOD:PUBLISH
BEGIN:VTIMEZONE
TZID:America/Denver
BEGIN:STANDARD
DTSTART:20181104T010000
RDATE:20190310T030000
TZOFFSETFROM:-0600
TZOFFSETTO:-0700
TZNAME:America/Denver MST
END:STANDARD
BEGIN:STANDARD
DTSTART:20191103T010000
RDATE:20200308T030000
TZOFFSETFROM:-0600
TZOFFSETTO:-0700
TZNAME:America/Denver MST
END:STANDARD
BEGIN:STANDARD
DTSTART:20201101T010000
RDATE:20210314T030000
TZOFFSETFROM:-0600
TZOFFSETTO:-0700
TZNAME:America/Denver MST
END:STANDARD
BEGIN:STANDARD
DTSTART:20211107T010000
RDATE:20220313T030000
TZOFFSETFROM:-0600
TZOFFSETTO:-0700
TZNAME:America/Denver MST
END:STANDARD
BEGIN:STANDARD
DTSTART:20221106T010000
RDATE:20230312T030000
TZOFFSETFROM:-0600
TZOFFSETTO:-0700
TZNAME:America/Denver MST
END:STANDARD
BEGIN:STANDARD
DTSTART:20231105T010000
RDATE:20240310T030000
TZOFFSETFROM:-0600
TZOFFSETTO:-0700
TZNAME:America/Denver MST
END:STANDARD
BEGIN:STANDARD
DTSTART:20241103T010000
RDATE:20250309T030000
TZOFFSETFROM:-0600
TZOFFSETTO:-0700
TZNAME:America/Denver MST
END:STANDARD
BEGIN:STANDARD
DTSTART:20251102T010000
RDATE:20260308T030000
TZOFFSETFROM:-0600
TZOFFSETTO:-0700
TZNAME:America/Denver MST
END:STANDARD
BEGIN:STANDARD
DTSTART:20261101T010000
RDATE:20270314T030000
TZOFFSETFROM:-0600
TZOFFSETTO:-0700
TZNAME:America/Denver MST
END:STANDARD
BEGIN:STANDARD
DTSTART:20271107T010000
RDATE:20280312T030000
TZOFFSETFROM:-0600
TZOFFSETTO:-0700
TZNAME:America/Denver MST
END:STANDARD
BEGIN:STANDARD
DTSTART:20281105T010000
RDATE:20290311T030000
TZOFFSETFROM:-0600
TZOFFSETTO:-0700
TZNAME:America/Denver MST
END:STANDARD
BEGIN:STANDARD
DTSTART:20291104T010000
RDATE:20300310T030000
TZOFFSETFROM:-0600
TZOFFSETTO:-0700
TZNAME:America/Denver MST
END:STANDARD
BEGIN:STANDARD
DTSTART:20301103T010000
RDATE:20310309T030000
TZOFFSETFROM:-0600
TZOFFSETTO:-0700
TZNAME:America/Denver MST
END:STANDARD
BEGIN:STANDARD
DTSTART:20311102T010000
RDATE:20320314T030000
TZOFFSETFROM:-0600
TZOFFSETTO:-0700
TZNAME:America/Denver MST
END:STANDARD
BEGIN:STANDARD
DTSTART:20321107T010000
RDATE:20330313T030000
TZOFFSETFROM:-0600
TZOFFSETTO:-0700
TZNAME:America/Denver MST
END:STANDARD
BEGIN:STANDARD
DTSTART:20331106T010000
RDATE:20340312T030000
TZOFFSETFROM:-0600
TZOFFSETTO:-0700
TZNAME:America/Denver MST
END:STANDARD
BEGIN:STANDARD
DTSTART:20341105T010000
RDATE:20350311T030000
TZOFFSETFROM:-0600
TZOFFSETTO:-0700
TZNAME:America/Denver MST
END:STANDARD
BEGIN:STANDARD
DTSTART:20351104T010000
RDATE:20360309T030000
TZOFFSETFROM:-0600
TZOFFSETTO:-0700
TZNAME:America/Denver MST
END:STANDARD
BEGIN:STANDARD
DTSTART:20361102T010000
RDATE:20370308T030000
TZOFFSETFROM:-0600
TZOFFSETTO:-0700
TZNAME:America/Denver MST
END:STANDARD
BEGIN:DAYLIGHT
DTSTART:20180325T180000
RDATE:20181104T010000
TZOFFSETFROM:-0700
TZOFFSETTO:-0600
TZNAME:America/Denver MDT
END:DAYLIGHT
BEGIN:DAYLIGHT
DTSTART:20190310T030000
RDATE:20191103T010000
TZOFFSETFROM:-0700
TZOFFSETTO:-0600
TZNAME:America/Denver MDT
END:DAYLIGHT
BEGIN:DAYLIGHT
DTSTART:20200308T030000
RDATE:20201101T010000
TZOFFSETFROM:-0700
TZOFFSETTO:-0600
TZNAME:America/Denver MDT
END:DAYLIGHT
BEGIN:DAYLIGHT
DTSTART:20210314T030000
RDATE:20211107T010000
TZOFFSETFROM:-0700
TZOFFSETTO:-0600
TZNAME:America/Denver MDT
END:DAYLIGHT
BEGIN:DAYLIGHT
DTSTART:20220313T030000
RDATE:20221106T010000
TZOFFSETFROM:-0700
TZOFFSETTO:-0600
TZNAME:America/Denver MDT
END:DAYLIGHT
BEGIN:DAYLIGHT
DTSTART:20230312T030000
RDATE:20231105T010000
TZOFFSETFROM:-0700
TZOFFSETTO:-0600
TZNAME:America/Denver MDT
END:DAYLIGHT
BEGIN:DAYLIGHT
DTSTART:20240310T030000
RDATE:20241103T010000
TZOFFSETFROM:-0700
TZOFFSETTO:-0600
TZNAME:America/Denver MDT
END:DAYLIGHT
BEGIN:DAYLIGHT
DTSTART:20250309T030000
RDATE:20251102T010000
TZOFFSETFROM:-0700
TZOFFSETTO:-0600
TZNAME:America/Denver MDT
END:DAYLIGHT
BEGIN:DAYLIGHT
DTSTART:20260308T030000
RDATE:20261101T010000
TZOFFSETFROM:-0700
TZOFFSETTO:-0600
TZNAME:America/Denver MDT
END:DAYLIGHT
BEGIN:DAYLIGHT
DTSTART:20270314T030000
RDATE:20271107T010000
TZOFFSETFROM:-0700
TZOFFSETTO:-0600
TZNAME:America/Denver MDT
END:DAYLIGHT
BEGIN:DAYLIGHT
DTSTART:20280312T030000
RDATE:20281105T010000
TZOFFSETFROM:-0700
TZOFFSETTO:-0600
TZNAME:America/Denver MDT
END:DAYLIGHT
BEGIN:DAYLIGHT
DTSTART:20290311T030000
RDATE:20291104T010000
TZOFFSETFROM:-0700
TZOFFSETTO:-0600
TZNAME:America/Denver MDT
END:DAYLIGHT
BEGIN:DAYLIGHT
DTSTART:20300310T030000
RDATE:20301103T010000
TZOFFSETFROM:-0700
TZOFFSETTO:-0600
TZNAME:America/Denver MDT
END:DAYLIGHT
BEGIN:DAYLIGHT
DTSTART:20310309T030000
RDATE:20311102T010000
TZOFFSETFROM:-0700
TZOFFSETTO:-0600
TZNAME:America/Denver MDT
END:DAYLIGHT
BEGIN:DAYLIGHT
DTSTART:20320314T030000
RDATE:20321107T010000
TZOFFSETFROM:-0700
TZOFFSETTO:-0600
TZNAME:America/Denver MDT
END:DAYLIGHT
BEGIN:DAYLIGHT
DTSTART:20330313T030000
RDATE:20331106T010000
TZOFFSETFROM:-0700
TZOFFSETTO:-0600
TZNAME:America/Denver MDT
END:DAYLIGHT
BEGIN:DAYLIGHT
DTSTART:20340312T030000
RDATE:20341105T010000
TZOFFSETFROM:-0700
TZOFFSETTO:-0600
TZNAME:America/Denver MDT
END:DAYLIGHT
BEGIN:DAYLIGHT
DTSTART:20350311T030000
RDATE:20351104T010000
TZOFFSETFROM:-0700
TZOFFSETTO:-0600
TZNAME:America/Denver MDT
END:DAYLIGHT
BEGIN:DAYLIGHT
DTSTART:20360309T030000
RDATE:20361102T010000
TZOFFSETFROM:-0700
TZOFFSETTO:-0600
TZNAME:America/Denver MDT
END:DAYLIGHT
END:VTIMEZONE
BEGIN:VEVENT
UID:8d8c0fc3b18a23f3f6b3423e73d13d80
CATEGORIES:Legal Notices
CREATED:20190321T210236
SUMMARY:Silver City Town Council Meeting
LOCATION:Grant County Administration Center
DESCRIPTION:Unfinished Business: \nA. Approval / Disapproval of Ordinance No. 1277: An 
 Ordinance amending Chapter 6 (Animals), Article I, Section 6-1 (Definitions
 ), Section 6-34(a) Authority of Town Manager and Animal Control Officer), C
 hapter 6-55 b. (Administrative Enforcement; Citations) and Chapter 32 (Nuis
 ances), a new Section 32-14 (Animals), of the Municipal Code of the Town of
  Silver City.\nNew Business:\nA. Approval / Disapproval of Resolution No. 2
 019-10 for the acceptance and approval of the Fiscal Year 2018 Audit.\nB. A
 pproval / Disapproval of a Public Celebration Permit Application and waiver
  of NMSA 1978 Section 60-6B-10 for alcohol service near a church for the Co
 ntinental Divide Trail Days event on April 26, 2019 with alcohol service fr
 om 5:00 pm to 9:00 pm at the Power and Light Press, 601 N. Bullard St., Uni
 t F, Silver City, NM. Liquor License Holder: La Esperanza Vineyard, LLC, Li
 cense #6148, 100 De La O, San Lorenzo, NM 88041.\nC. Approval / Disapproval
  of two Public Celebration Permits for the Little Toad Creek’s ToadFests Ta
 pe Take Over on April 27, 2019 with alcohol service from 2:00 pm to 11:00 p
 m in the alley behind the Little Toad Creek Restaurant at 200 N. Bullard St
 ., Silver City, NM 88061. Liquor License Holder: 1) Little Toad Creek LLC, 
 DBA Little Toad Creek Distillery, License #63013, and 2) Little Toad Creek 
 LLC, DBA Little Toad Creek Brewery, License #67085, 203 S. Mill Road, Silve
 r City, NM.\nD. Approval / Disapproval of two Public Celebration Permits an
 d waiver of NMSA 1978 Section 60-6B-10 for alcohol service near a church fo
 r the Tour of the Gila VIP Beer Garden on May 4, 2019 with alcohol service 
 from noon to 5:30 p.m. at The Hub at 601 N. Bullard, Silver City, NM. Liquo
 r License Holder: 1) Little Toad Creek LLC, DBA Little Toad Creek Distiller
 y, License #63013, and 2) Little Toad Creek LLC, DBA Little Toad Creek Brew
 ery, License #67085, 203 S. Mill Road, Silver City, NM.\nE. Approval / Disa
 pproval of two Public Celebration Permits for the Tour of the Gila Beer Gar
 den on May 4, 2019 with alcohol service from noon to 7:00 p.m. at 820 N. Bu
 llard, Silver City, NM. Liquor License Holder: 1) Little Toad Creek LLC, DB
 A Little Toad Creek Distillery, License #63013, and 2) Little Toad Creek LL
 C, DBA Little Toad Creek Brewery, License #67085, 203 S. Mill Road, Silver 
 City, NM.\nAdjournment\nAgendas are available prior to the meeting and may 
 be obtained at City Hall, 101 W. Broadway and City Hall Annex, 1203 North H
 udson, or on the Town's website, www.townofsilvercity.org. If you are an in
 dividual with a disability who needs a reader, amplifier, qualified sign la
 nguage interpreter, or any other form of auxiliary aid service to attend or
  participate in the hearing or meeting, contact the Town Clerk at 534-6346 
 at least one week prior to the meeting or as soon as possible. Public docum
 ents, including the agenda and minutes, can be provided in various accessib
 le formats. Please contact The Town Clerk if summary or other type of acces
 sible format is needed.\n
X-ALT-DESC;FMTTYPE=text/html:<p>Unfinished Business: <br />A. Approval / Disapproval of Ordinance No. 12
 77: An Ordinance amending Chapter 6 (Animals), Article I, Section 6-1 (Defi
 nitions), Section 6-34(a) Authority of Town Manager and Animal Control Offi
 cer), Chapter 6-55 b. (Administrative Enforcement; Citations) and Chapter 3
 2 (Nuisances), a new Section 32-14 (Animals), of the Municipal Code of the 
 Town of Silver City.<br />New Business:<br />A. Approval / Disapproval of R
 esolution No. 2019-10 for the acceptance and approval of the Fiscal Year 20
 18 Audit.<br />B. Approval / Disapproval of a Public Celebration Permit App
 lication and waiver of NMSA 1978 Section 60-6B-10 for alcohol service near 
 a church for the Continental Divide Trail Days event on April 26, 2019 with
  alcohol service from 5:00 pm to 9:00 pm at the Power and Light Press, 601 
 N. Bullard St., Unit F, Silver City, NM. Liquor License Holder: La Esperanz
 a Vineyard, LLC, License #6148, 100 De La O, San Lorenzo, NM 88041.<br />C.
  Approval / Disapproval of two Public Celebration Permits for the Little To
 ad Creek’s ToadFests Tape Take Over on April 27, 2019 with alcohol service 
 from 2:00 pm to 11:00 pm in the alley behind the Little Toad Creek Restaura
 nt at 200 N. Bullard St., Silver City, NM 88061. Liquor License Holder: 1) 
 Little Toad Creek LLC, DBA Little Toad Creek Distillery, License #63013, an
 d 2) Little Toad Creek LLC, DBA Little Toad Creek Brewery, License #67085, 
 203 S. Mill Road, Silver City, NM.<br />D. Approval / Disapproval of two Pu
 blic Celebration Permits and waiver of NMSA 1978 Section 60-6B-10 for alcoh
 ol service near a church for the Tour of the Gila VIP Beer Garden on May 4,
  2019 with alcohol service from noon to 5:30 p.m. at The Hub at 601 N. Bull
 ard, Silver City, NM. Liquor License Holder: 1) Little Toad Creek LLC, DBA 
 Little Toad Creek Distillery, License #63013, and 2) Little Toad Creek LLC,
  DBA Little Toad Creek Brewery, License #67085, 203 S. Mill Road, Silver Ci
 ty, NM.<br />E. Approval / Disapproval of two Public Celebration Permits fo
 r the Tour of the Gila Beer Garden on May 4, 2019 with alcohol service from
  noon to 7:00 p.m. at 820 N. Bullard, Silver City, NM. Liquor License Holde
 r: 1) Little Toad Creek LLC, DBA Little Toad Creek Distillery, License #630
 13, and 2) Little Toad Creek LLC, DBA Little Toad Creek Brewery, License #6
 7085, 203 S. Mill Road, Silver City, NM.<br />Adjournment<br />Agendas are 
 available prior to the meeting and may be obtained at City Hall, 101 W. Bro
 adway and City Hall Annex, 1203 North Hudson, or on the Town's website, www
 .townofsilvercity.org. If you are an individual with a disability who needs
  a reader, amplifier, qualified sign language interpreter, or any other for
 m of auxiliary aid service to attend or participate in the hearing or meeti
 ng, contact the Town Clerk at 534-6346 at least one week prior to the meeti
 ng or as soon as possible. Public documents, including the agenda and minut
 es, can be provided in various accessible formats. Please contact The Town 
 Clerk if summary or other type of accessible format is needed.</p>
CONTACT:www.townofsilvercity.org
DTSTAMP:20260423T125558
DTSTART;TZID=America/Denver:20190326T180000
SEQUENCE:0
TRANSP:OPAQUE
END:VEVENT
END:VCALENDAR