BEGIN:VCALENDAR
VERSION:2.0
PRODID:-//jEvents 2.0 for Joomla//EN
CALSCALE:GREGORIAN
METHOD:PUBLISH
BEGIN:VTIMEZONE
TZID:America/Denver
BEGIN:STANDARD
DTSTART:20181104T010000
RDATE:20190310T030000
TZOFFSETFROM:-0600
TZOFFSETTO:-0700
TZNAME:America/Denver MST
END:STANDARD
BEGIN:STANDARD
DTSTART:20191103T010000
RDATE:20200308T030000
TZOFFSETFROM:-0600
TZOFFSETTO:-0700
TZNAME:America/Denver MST
END:STANDARD
BEGIN:STANDARD
DTSTART:20201101T010000
RDATE:20210314T030000
TZOFFSETFROM:-0600
TZOFFSETTO:-0700
TZNAME:America/Denver MST
END:STANDARD
BEGIN:STANDARD
DTSTART:20211107T010000
RDATE:20220313T030000
TZOFFSETFROM:-0600
TZOFFSETTO:-0700
TZNAME:America/Denver MST
END:STANDARD
BEGIN:STANDARD
DTSTART:20221106T010000
RDATE:20230312T030000
TZOFFSETFROM:-0600
TZOFFSETTO:-0700
TZNAME:America/Denver MST
END:STANDARD
BEGIN:STANDARD
DTSTART:20231105T010000
RDATE:20240310T030000
TZOFFSETFROM:-0600
TZOFFSETTO:-0700
TZNAME:America/Denver MST
END:STANDARD
BEGIN:STANDARD
DTSTART:20241103T010000
RDATE:20250309T030000
TZOFFSETFROM:-0600
TZOFFSETTO:-0700
TZNAME:America/Denver MST
END:STANDARD
BEGIN:STANDARD
DTSTART:20251102T010000
RDATE:20260308T030000
TZOFFSETFROM:-0600
TZOFFSETTO:-0700
TZNAME:America/Denver MST
END:STANDARD
BEGIN:STANDARD
DTSTART:20261101T010000
RDATE:20270314T030000
TZOFFSETFROM:-0600
TZOFFSETTO:-0700
TZNAME:America/Denver MST
END:STANDARD
BEGIN:STANDARD
DTSTART:20271107T010000
RDATE:20280312T030000
TZOFFSETFROM:-0600
TZOFFSETTO:-0700
TZNAME:America/Denver MST
END:STANDARD
BEGIN:STANDARD
DTSTART:20281105T010000
RDATE:20290311T030000
TZOFFSETFROM:-0600
TZOFFSETTO:-0700
TZNAME:America/Denver MST
END:STANDARD
BEGIN:STANDARD
DTSTART:20291104T010000
RDATE:20300310T030000
TZOFFSETFROM:-0600
TZOFFSETTO:-0700
TZNAME:America/Denver MST
END:STANDARD
BEGIN:STANDARD
DTSTART:20301103T010000
RDATE:20310309T030000
TZOFFSETFROM:-0600
TZOFFSETTO:-0700
TZNAME:America/Denver MST
END:STANDARD
BEGIN:STANDARD
DTSTART:20311102T010000
RDATE:20320314T030000
TZOFFSETFROM:-0600
TZOFFSETTO:-0700
TZNAME:America/Denver MST
END:STANDARD
BEGIN:STANDARD
DTSTART:20321107T010000
RDATE:20330313T030000
TZOFFSETFROM:-0600
TZOFFSETTO:-0700
TZNAME:America/Denver MST
END:STANDARD
BEGIN:STANDARD
DTSTART:20331106T010000
RDATE:20340312T030000
TZOFFSETFROM:-0600
TZOFFSETTO:-0700
TZNAME:America/Denver MST
END:STANDARD
BEGIN:STANDARD
DTSTART:20341105T010000
RDATE:20350311T030000
TZOFFSETFROM:-0600
TZOFFSETTO:-0700
TZNAME:America/Denver MST
END:STANDARD
BEGIN:STANDARD
DTSTART:20351104T010000
RDATE:20360309T030000
TZOFFSETFROM:-0600
TZOFFSETTO:-0700
TZNAME:America/Denver MST
END:STANDARD
BEGIN:STANDARD
DTSTART:20361102T010000
RDATE:20370308T030000
TZOFFSETFROM:-0600
TZOFFSETTO:-0700
TZNAME:America/Denver MST
END:STANDARD
BEGIN:DAYLIGHT
DTSTART:20180724T180000
RDATE:20181104T010000
TZOFFSETFROM:-0700
TZOFFSETTO:-0600
TZNAME:America/Denver MDT
END:DAYLIGHT
BEGIN:DAYLIGHT
DTSTART:20190310T030000
RDATE:20191103T010000
TZOFFSETFROM:-0700
TZOFFSETTO:-0600
TZNAME:America/Denver MDT
END:DAYLIGHT
BEGIN:DAYLIGHT
DTSTART:20200308T030000
RDATE:20201101T010000
TZOFFSETFROM:-0700
TZOFFSETTO:-0600
TZNAME:America/Denver MDT
END:DAYLIGHT
BEGIN:DAYLIGHT
DTSTART:20210314T030000
RDATE:20211107T010000
TZOFFSETFROM:-0700
TZOFFSETTO:-0600
TZNAME:America/Denver MDT
END:DAYLIGHT
BEGIN:DAYLIGHT
DTSTART:20220313T030000
RDATE:20221106T010000
TZOFFSETFROM:-0700
TZOFFSETTO:-0600
TZNAME:America/Denver MDT
END:DAYLIGHT
BEGIN:DAYLIGHT
DTSTART:20230312T030000
RDATE:20231105T010000
TZOFFSETFROM:-0700
TZOFFSETTO:-0600
TZNAME:America/Denver MDT
END:DAYLIGHT
BEGIN:DAYLIGHT
DTSTART:20240310T030000
RDATE:20241103T010000
TZOFFSETFROM:-0700
TZOFFSETTO:-0600
TZNAME:America/Denver MDT
END:DAYLIGHT
BEGIN:DAYLIGHT
DTSTART:20250309T030000
RDATE:20251102T010000
TZOFFSETFROM:-0700
TZOFFSETTO:-0600
TZNAME:America/Denver MDT
END:DAYLIGHT
BEGIN:DAYLIGHT
DTSTART:20260308T030000
RDATE:20261101T010000
TZOFFSETFROM:-0700
TZOFFSETTO:-0600
TZNAME:America/Denver MDT
END:DAYLIGHT
BEGIN:DAYLIGHT
DTSTART:20270314T030000
RDATE:20271107T010000
TZOFFSETFROM:-0700
TZOFFSETTO:-0600
TZNAME:America/Denver MDT
END:DAYLIGHT
BEGIN:DAYLIGHT
DTSTART:20280312T030000
RDATE:20281105T010000
TZOFFSETFROM:-0700
TZOFFSETTO:-0600
TZNAME:America/Denver MDT
END:DAYLIGHT
BEGIN:DAYLIGHT
DTSTART:20290311T030000
RDATE:20291104T010000
TZOFFSETFROM:-0700
TZOFFSETTO:-0600
TZNAME:America/Denver MDT
END:DAYLIGHT
BEGIN:DAYLIGHT
DTSTART:20300310T030000
RDATE:20301103T010000
TZOFFSETFROM:-0700
TZOFFSETTO:-0600
TZNAME:America/Denver MDT
END:DAYLIGHT
BEGIN:DAYLIGHT
DTSTART:20310309T030000
RDATE:20311102T010000
TZOFFSETFROM:-0700
TZOFFSETTO:-0600
TZNAME:America/Denver MDT
END:DAYLIGHT
BEGIN:DAYLIGHT
DTSTART:20320314T030000
RDATE:20321107T010000
TZOFFSETFROM:-0700
TZOFFSETTO:-0600
TZNAME:America/Denver MDT
END:DAYLIGHT
BEGIN:DAYLIGHT
DTSTART:20330313T030000
RDATE:20331106T010000
TZOFFSETFROM:-0700
TZOFFSETTO:-0600
TZNAME:America/Denver MDT
END:DAYLIGHT
BEGIN:DAYLIGHT
DTSTART:20340312T030000
RDATE:20341105T010000
TZOFFSETFROM:-0700
TZOFFSETTO:-0600
TZNAME:America/Denver MDT
END:DAYLIGHT
BEGIN:DAYLIGHT
DTSTART:20350311T030000
RDATE:20351104T010000
TZOFFSETFROM:-0700
TZOFFSETTO:-0600
TZNAME:America/Denver MDT
END:DAYLIGHT
BEGIN:DAYLIGHT
DTSTART:20360309T030000
RDATE:20361102T010000
TZOFFSETFROM:-0700
TZOFFSETTO:-0600
TZNAME:America/Denver MDT
END:DAYLIGHT
END:VTIMEZONE
BEGIN:VEVENT
UID:c7b6eebd6a9561524eaecd0f62f6a1ad
CATEGORIES:Legal Notices
CREATED:20190723T181632
SUMMARY:Santa Clara Village Regular Meeting
LOCATION:Santa Clara Village Administration Building
DESCRIPTION:I. Call Meeting to Order\nII. Pledge of Allegiance\nIII. Roll Call\nIV. App
 roval of Agenda\nV. Approval of Minutes for Regular Meeting of July 11, 201
 9\nI. Committee Reports\n1. Safety Committee\n2. Action Committee\n3. Cemet
 ery Committee\n4. Neighborhood Watch Committee\nII. Mayor’s Report\nIII. Ne
 w Business (Possible Action)\n1. Antonio and Dolores Silva requesting a 6 m
 onth variance for a travel trailer to be parked on property with daughter r
 esiding in it.\nIV. Old Business (Possible Action)-NONE\nV. Resolutions (Ap
 prove or Disapprove)\n1. Resolution 2019-23 Budget Adjustments FY 2018/2019
 \n2. Resolution 2019-24 Budget Adjustment Transfer FY 2018/2019\n3. Resolut
 ion 2019-25 Approval of Final Quarterly Report for FY2018/2019\n4. Resoluti
 on 2019-26 Approval of FY 2019/2020 Final Budget\n5. Resolution 2019-27Ente
 ring into a Grant Agreement with the State Of New Mexico\nEnvironment Dept.
 \nVI. Proclamations (Approve or Disapprove) - NONE\nVII. Ordinances (Approv
 e or Disapprove) -NONE\nVIII. Public Comments\nIX. Closed Session limited t
 o personnel matters pursuant to Section 10-15-1(H)(2) NMSA 1978,\nand furth
 er limited to anticipated and pending litigation pursuant to Section 10-15-
 1(H)(7)\nNMSA 1978.\nX. Open Session (Roll Call)\nXI. Hiring, Raises, Termi
 nations, etc. (Possible Action)\nXII. Next Meetings:\n1st Regular Meeting t
 o be held Thursday, August 8, 2019 at 6:00 p.m.\n2nd Regular Meeting to be 
 held Thursday, August 22, 2019 at 6:00 p.m.\nXIII. Adjournment\nIf you are 
 an individual with a disability who is in need of a reader, amplifier, qual
 ified sign language interpreter, or any other form of auxiliary aid or serv
 ice to attend or participate in the hearing or meeting, please contact the 
 office of the Clerk/Treasurer at (575) 537-2443 at least one (1) week prior
  to the meeting or as soon as possible. Public documents, including the age
 nda and minutes can be provided in various accessible formats. Please conta
 ct the Clerk/Treasurer at (575) 537-2443 if a summary or other type of acce
 ssible format is needed.\n
X-ALT-DESC;FMTTYPE=text/html:<p>I. Call Meeting to Order<br />II. Pledge of Allegiance<br />III. Roll Ca
 ll<br />IV. Approval of Agenda<br />V. Approval of Minutes for Regular Meet
 ing of July 11, 2019<br />I. Committee Reports<br />1. Safety Committee<br 
 />2. Action Committee<br />3. Cemetery Committee<br />4. Neighborhood Watch
  Committee<br />II. Mayor’s Report<br />III. New Business (Possible Action)
 <br />1. Antonio and Dolores Silva requesting a 6 month variance for a trav
 el trailer to be parked on property with daughter residing in it.<br />IV. 
 Old Business (Possible Action)-NONE<br />V. Resolutions (Approve or Disappr
 ove)<br />1. Resolution 2019-23 Budget Adjustments FY 2018/2019<br />2. Res
 olution 2019-24 Budget Adjustment Transfer FY 2018/2019<br />3. Resolution 
 2019-25 Approval of Final Quarterly Report for FY2018/2019<br />4. Resoluti
 on 2019-26 Approval of FY 2019/2020 Final Budget<br />5. Resolution 2019-27
 Entering into a Grant Agreement with the State Of New Mexico<br />Environme
 nt Dept.<br />VI. Proclamations (Approve or Disapprove) - NONE<br />VII. Or
 dinances (Approve or Disapprove) -NONE<br />VIII. Public Comments<br />IX. 
 Closed Session limited to personnel matters pursuant to Section 10-15-1(H)(
 2) NMSA 1978,<br />and further limited to anticipated and pending litigatio
 n pursuant to Section 10-15-1(H)(7)<br />NMSA 1978.<br />X. Open Session (R
 oll Call)<br />XI. Hiring, Raises, Terminations, etc. (Possible Action)<br 
 />XII. Next Meetings:<br />1st Regular Meeting to be held Thursday, August 
 8, 2019 at 6:00 p.m.<br />2nd Regular Meeting to be held Thursday, August 2
 2, 2019 at 6:00 p.m.<br />XIII. Adjournment</p><p>If you are an individual 
 with a disability who is in need of a reader, amplifier, qualified sign lan
 guage interpreter, or any other form of auxiliary aid or service to attend 
 or participate in the hearing or meeting, please contact the office of the 
 Clerk/Treasurer at (575) 537-2443 at least one (1) week prior to the meetin
 g or as soon as possible. Public documents, including the agenda and minute
 s can be provided in various accessible formats. Please contact the Clerk/T
 reasurer at (575) 537-2443 if a summary or other type of accessible format 
 is needed.</p>
DTSTAMP:20260420T122523
DTSTART;TZID=America/Denver:20190725T180000
SEQUENCE:0
TRANSP:OPAQUE
END:VEVENT
END:VCALENDAR