BEGIN:VCALENDAR
VERSION:2.0
PRODID:-//jEvents 2.0 for Joomla//EN
CALSCALE:GREGORIAN
METHOD:PUBLISH
BEGIN:VTIMEZONE
TZID:America/Denver
BEGIN:STANDARD
DTSTART:20200125T133000
RDATE:20200308T030000
TZOFFSETFROM:-0600
TZOFFSETTO:-0700
TZNAME:America/Denver MST
END:STANDARD
BEGIN:STANDARD
DTSTART:20201101T010000
RDATE:20210314T030000
TZOFFSETFROM:-0600
TZOFFSETTO:-0700
TZNAME:America/Denver MST
END:STANDARD
BEGIN:STANDARD
DTSTART:20211107T010000
RDATE:20220313T030000
TZOFFSETFROM:-0600
TZOFFSETTO:-0700
TZNAME:America/Denver MST
END:STANDARD
BEGIN:STANDARD
DTSTART:20221106T010000
RDATE:20230312T030000
TZOFFSETFROM:-0600
TZOFFSETTO:-0700
TZNAME:America/Denver MST
END:STANDARD
BEGIN:STANDARD
DTSTART:20231105T010000
RDATE:20240310T030000
TZOFFSETFROM:-0600
TZOFFSETTO:-0700
TZNAME:America/Denver MST
END:STANDARD
BEGIN:STANDARD
DTSTART:20241103T010000
RDATE:20250309T030000
TZOFFSETFROM:-0600
TZOFFSETTO:-0700
TZNAME:America/Denver MST
END:STANDARD
BEGIN:STANDARD
DTSTART:20251102T010000
RDATE:20260308T030000
TZOFFSETFROM:-0600
TZOFFSETTO:-0700
TZNAME:America/Denver MST
END:STANDARD
BEGIN:STANDARD
DTSTART:20261101T010000
RDATE:20270314T030000
TZOFFSETFROM:-0600
TZOFFSETTO:-0700
TZNAME:America/Denver MST
END:STANDARD
BEGIN:STANDARD
DTSTART:20271107T010000
RDATE:20280312T030000
TZOFFSETFROM:-0600
TZOFFSETTO:-0700
TZNAME:America/Denver MST
END:STANDARD
BEGIN:STANDARD
DTSTART:20281105T010000
RDATE:20290311T030000
TZOFFSETFROM:-0600
TZOFFSETTO:-0700
TZNAME:America/Denver MST
END:STANDARD
BEGIN:STANDARD
DTSTART:20291104T010000
RDATE:20300310T030000
TZOFFSETFROM:-0600
TZOFFSETTO:-0700
TZNAME:America/Denver MST
END:STANDARD
BEGIN:STANDARD
DTSTART:20301103T010000
RDATE:20310309T030000
TZOFFSETFROM:-0600
TZOFFSETTO:-0700
TZNAME:America/Denver MST
END:STANDARD
BEGIN:STANDARD
DTSTART:20311102T010000
RDATE:20320314T030000
TZOFFSETFROM:-0600
TZOFFSETTO:-0700
TZNAME:America/Denver MST
END:STANDARD
BEGIN:STANDARD
DTSTART:20321107T010000
RDATE:20330313T030000
TZOFFSETFROM:-0600
TZOFFSETTO:-0700
TZNAME:America/Denver MST
END:STANDARD
BEGIN:STANDARD
DTSTART:20331106T010000
RDATE:20340312T030000
TZOFFSETFROM:-0600
TZOFFSETTO:-0700
TZNAME:America/Denver MST
END:STANDARD
BEGIN:STANDARD
DTSTART:20341105T010000
RDATE:20350311T030000
TZOFFSETFROM:-0600
TZOFFSETTO:-0700
TZNAME:America/Denver MST
END:STANDARD
BEGIN:STANDARD
DTSTART:20351104T010000
RDATE:20360309T030000
TZOFFSETFROM:-0600
TZOFFSETTO:-0700
TZNAME:America/Denver MST
END:STANDARD
BEGIN:STANDARD
DTSTART:20361102T010000
RDATE:20370308T030000
TZOFFSETFROM:-0600
TZOFFSETTO:-0700
TZNAME:America/Denver MST
END:STANDARD
BEGIN:DAYLIGHT
DTSTART:20200308T030000
RDATE:20201101T010000
TZOFFSETFROM:-0700
TZOFFSETTO:-0600
TZNAME:America/Denver MDT
END:DAYLIGHT
BEGIN:DAYLIGHT
DTSTART:20210314T030000
RDATE:20211107T010000
TZOFFSETFROM:-0700
TZOFFSETTO:-0600
TZNAME:America/Denver MDT
END:DAYLIGHT
BEGIN:DAYLIGHT
DTSTART:20220313T030000
RDATE:20221106T010000
TZOFFSETFROM:-0700
TZOFFSETTO:-0600
TZNAME:America/Denver MDT
END:DAYLIGHT
BEGIN:DAYLIGHT
DTSTART:20230312T030000
RDATE:20231105T010000
TZOFFSETFROM:-0700
TZOFFSETTO:-0600
TZNAME:America/Denver MDT
END:DAYLIGHT
BEGIN:DAYLIGHT
DTSTART:20240310T030000
RDATE:20241103T010000
TZOFFSETFROM:-0700
TZOFFSETTO:-0600
TZNAME:America/Denver MDT
END:DAYLIGHT
BEGIN:DAYLIGHT
DTSTART:20250309T030000
RDATE:20251102T010000
TZOFFSETFROM:-0700
TZOFFSETTO:-0600
TZNAME:America/Denver MDT
END:DAYLIGHT
BEGIN:DAYLIGHT
DTSTART:20260308T030000
RDATE:20261101T010000
TZOFFSETFROM:-0700
TZOFFSETTO:-0600
TZNAME:America/Denver MDT
END:DAYLIGHT
BEGIN:DAYLIGHT
DTSTART:20270314T030000
RDATE:20271107T010000
TZOFFSETFROM:-0700
TZOFFSETTO:-0600
TZNAME:America/Denver MDT
END:DAYLIGHT
BEGIN:DAYLIGHT
DTSTART:20280312T030000
RDATE:20281105T010000
TZOFFSETFROM:-0700
TZOFFSETTO:-0600
TZNAME:America/Denver MDT
END:DAYLIGHT
BEGIN:DAYLIGHT
DTSTART:20290311T030000
RDATE:20291104T010000
TZOFFSETFROM:-0700
TZOFFSETTO:-0600
TZNAME:America/Denver MDT
END:DAYLIGHT
BEGIN:DAYLIGHT
DTSTART:20300310T030000
RDATE:20301103T010000
TZOFFSETFROM:-0700
TZOFFSETTO:-0600
TZNAME:America/Denver MDT
END:DAYLIGHT
BEGIN:DAYLIGHT
DTSTART:20310309T030000
RDATE:20311102T010000
TZOFFSETFROM:-0700
TZOFFSETTO:-0600
TZNAME:America/Denver MDT
END:DAYLIGHT
BEGIN:DAYLIGHT
DTSTART:20320314T030000
RDATE:20321107T010000
TZOFFSETFROM:-0700
TZOFFSETTO:-0600
TZNAME:America/Denver MDT
END:DAYLIGHT
BEGIN:DAYLIGHT
DTSTART:20330313T030000
RDATE:20331106T010000
TZOFFSETFROM:-0700
TZOFFSETTO:-0600
TZNAME:America/Denver MDT
END:DAYLIGHT
BEGIN:DAYLIGHT
DTSTART:20340312T030000
RDATE:20341105T010000
TZOFFSETFROM:-0700
TZOFFSETTO:-0600
TZNAME:America/Denver MDT
END:DAYLIGHT
BEGIN:DAYLIGHT
DTSTART:20350311T030000
RDATE:20351104T010000
TZOFFSETFROM:-0700
TZOFFSETTO:-0600
TZNAME:America/Denver MDT
END:DAYLIGHT
BEGIN:DAYLIGHT
DTSTART:20360309T030000
RDATE:20361102T010000
TZOFFSETFROM:-0700
TZOFFSETTO:-0600
TZNAME:America/Denver MDT
END:DAYLIGHT
END:VTIMEZONE
BEGIN:VEVENT
UID:8297ba63c5870bb3824f1932b5d2393f
CATEGORIES:Public Meetings
CREATED:20210117T203016
SUMMARY:Bayard City Council to hold work session and regular meeting
DESCRIPTION:<p>The Bayard City Council will conduct a work session at 1:30 a.m. and a R
 egular Meeting at 2:00 p.m. on Monday, January 25, 2021 with a combination 
 of attendance of Council members in person and by virtual attendance via Zo
 om. The agenda for this meeting may be altered up to seventy-two (72) hours
  prior to the meeting; copies can be obtained from the City Clerk's Office 
 or viewed online at <a href="https://www.cityofbayardnm.com" target="_blank
 " rel="noopener">www.cityofbayardnm.com</a>.&nbsp;</p><p>Public input will 
 be via email and comments must be submitted prior to the meeting. Comments 
 may be emailed to&nbsp;<joomla-hidden-mail  is-link="1" is-email="0" first=
 "Y2l0eWNsZXJr" last="Y2l0eW9mYmF5YXJkbm0uY29tJm5ic3A7" text="Y2l0eWNsZXJrQG
 NpdHlvZmJheWFyZG5tLmNvbSZuYnNwOw==" base=""  target="_blank">This email add
 ress is being protected from spambots. You need JavaScript enabled to view 
 it.</joomla-hidden-mail>with Public Comment January 25, 2021 noted in the s
 ubject line.</p><p>A separate Special Meeting for Closed Executive Session 
 will be held at 5:30 p.m. pursuant to 10-15-1 NMSA for personnel to discuss
  Public Works Department Employees. Any action will be available for public
  view upon completion of the closed meeting. The agenda for this meeting ma
 y be altered up to seventy-two (72) hours prior to the meeting; copies can 
 be obtained from the City Clerk's Office or viewed online at <a href="https
 ://www.cityofbayardnm.com" target="_blank" rel="noopener">www.cityofbayardn
 m.com</a>&nbsp;</p><p>Due to the Coronavirus (COVID-19) Emergency declared 
 by Governor Michelle Lujan Grisham and the limits on the number of persons 
 gathering, except for essential functions, the meeting will be a virtual pu
 blic meeting open to the public.</p><p>Regular Meeting Registration -- The 
 public may register at&nbsp;<a href="https://zoom.us/webinar/register/WN_o6
 8QbJmPQ7Wa5FC7suqh6A" target="_blank" rel="noopener">https://zoom.us/webina
 r/register/WN_o68QbJmPQ7Wa5FC7suqh6A</a>.&nbsp;</p><p>Special Meeting Actio
 n for Closed Executive Session Registration -- The public may register at:<
 br /><a href="https://zoom.us/webinar/register/WN_5k4eXBJcTieCPBYhF-P85A" t
 arget="_blank" rel="noopener">https://zoom.us/webinar/register/WN_5k4eXBJcT
 ieCPBYhF-P85A</a>&nbsp;</p><p>Both meetings may be viewed live on the City'
 s Facebook Account&nbsp;<a href="https://www.facebook.com/bayardnewmexico/&
 nbsp;" target="_blank" rel="noopener">https://www.facebook.com/bayardnewmex
 ico/&nbsp;</a>.&nbsp;</p><p>Public input will be via email and comments mus
 t be submitted prior to the meeting. Comments may be emailed to&nbsp;<jooml
 a-hidden-mail  is-link="1" is-email="1" first="Y2l0eWNsZXJr" last="Y2l0eW9m
 YmF5YXJkbm0uY29t" text="Y2l0eWNsZXJrQGNpdHlvZmJheWFyZG5tLmNvbQ==" base=""  
 target="_blank">This email address is being protected from spambots. You ne
 ed JavaScript enabled to view it.</joomla-hidden-mail>&nbsp;with Public Com
 ment January 25, 2021 noted in the subject line.</p>
CONTACT:This email address is being protected from spambots. You need JavaScript enabled to view it.
DTSTAMP:20260421T003841
DTSTART;TZID=America/Denver:20210125T133000
SEQUENCE:0
TRANSP:OPAQUE
END:VEVENT
END:VCALENDAR