BEGIN:VCALENDAR
VERSION:2.0
PRODID:-//jEvents 2.0 for Joomla//EN
CALSCALE:GREGORIAN
METHOD:PUBLISH
BEGIN:VTIMEZONE
TZID:America/Denver
BEGIN:STANDARD
DTSTART:20211107T010000
RDATE:20220313T030000
TZOFFSETFROM:-0600
TZOFFSETTO:-0700
TZNAME:America/Denver MST
END:STANDARD
BEGIN:STANDARD
DTSTART:20221106T010000
RDATE:20230312T030000
TZOFFSETFROM:-0600
TZOFFSETTO:-0700
TZNAME:America/Denver MST
END:STANDARD
BEGIN:STANDARD
DTSTART:20231105T010000
RDATE:20240310T030000
TZOFFSETFROM:-0600
TZOFFSETTO:-0700
TZNAME:America/Denver MST
END:STANDARD
BEGIN:STANDARD
DTSTART:20241103T010000
RDATE:20250309T030000
TZOFFSETFROM:-0600
TZOFFSETTO:-0700
TZNAME:America/Denver MST
END:STANDARD
BEGIN:STANDARD
DTSTART:20251102T010000
RDATE:20260308T030000
TZOFFSETFROM:-0600
TZOFFSETTO:-0700
TZNAME:America/Denver MST
END:STANDARD
BEGIN:STANDARD
DTSTART:20261101T010000
RDATE:20270314T030000
TZOFFSETFROM:-0600
TZOFFSETTO:-0700
TZNAME:America/Denver MST
END:STANDARD
BEGIN:STANDARD
DTSTART:20271107T010000
RDATE:20280312T030000
TZOFFSETFROM:-0600
TZOFFSETTO:-0700
TZNAME:America/Denver MST
END:STANDARD
BEGIN:STANDARD
DTSTART:20281105T010000
RDATE:20290311T030000
TZOFFSETFROM:-0600
TZOFFSETTO:-0700
TZNAME:America/Denver MST
END:STANDARD
BEGIN:STANDARD
DTSTART:20291104T010000
RDATE:20300310T030000
TZOFFSETFROM:-0600
TZOFFSETTO:-0700
TZNAME:America/Denver MST
END:STANDARD
BEGIN:STANDARD
DTSTART:20301103T010000
RDATE:20310309T030000
TZOFFSETFROM:-0600
TZOFFSETTO:-0700
TZNAME:America/Denver MST
END:STANDARD
BEGIN:STANDARD
DTSTART:20311102T010000
RDATE:20320314T030000
TZOFFSETFROM:-0600
TZOFFSETTO:-0700
TZNAME:America/Denver MST
END:STANDARD
BEGIN:STANDARD
DTSTART:20321107T010000
RDATE:20330313T030000
TZOFFSETFROM:-0600
TZOFFSETTO:-0700
TZNAME:America/Denver MST
END:STANDARD
BEGIN:STANDARD
DTSTART:20331106T010000
RDATE:20340312T030000
TZOFFSETFROM:-0600
TZOFFSETTO:-0700
TZNAME:America/Denver MST
END:STANDARD
BEGIN:STANDARD
DTSTART:20341105T010000
RDATE:20350311T030000
TZOFFSETFROM:-0600
TZOFFSETTO:-0700
TZNAME:America/Denver MST
END:STANDARD
BEGIN:STANDARD
DTSTART:20351104T010000
RDATE:20360309T030000
TZOFFSETFROM:-0600
TZOFFSETTO:-0700
TZNAME:America/Denver MST
END:STANDARD
BEGIN:STANDARD
DTSTART:20361102T010000
RDATE:20370308T030000
TZOFFSETFROM:-0600
TZOFFSETTO:-0700
TZNAME:America/Denver MST
END:STANDARD
BEGIN:DAYLIGHT
DTSTART:20210813T100000
RDATE:20211107T010000
TZOFFSETFROM:-0700
TZOFFSETTO:-0600
TZNAME:America/Denver MDT
END:DAYLIGHT
BEGIN:DAYLIGHT
DTSTART:20220313T030000
RDATE:20221106T010000
TZOFFSETFROM:-0700
TZOFFSETTO:-0600
TZNAME:America/Denver MDT
END:DAYLIGHT
BEGIN:DAYLIGHT
DTSTART:20230312T030000
RDATE:20231105T010000
TZOFFSETFROM:-0700
TZOFFSETTO:-0600
TZNAME:America/Denver MDT
END:DAYLIGHT
BEGIN:DAYLIGHT
DTSTART:20240310T030000
RDATE:20241103T010000
TZOFFSETFROM:-0700
TZOFFSETTO:-0600
TZNAME:America/Denver MDT
END:DAYLIGHT
BEGIN:DAYLIGHT
DTSTART:20250309T030000
RDATE:20251102T010000
TZOFFSETFROM:-0700
TZOFFSETTO:-0600
TZNAME:America/Denver MDT
END:DAYLIGHT
BEGIN:DAYLIGHT
DTSTART:20260308T030000
RDATE:20261101T010000
TZOFFSETFROM:-0700
TZOFFSETTO:-0600
TZNAME:America/Denver MDT
END:DAYLIGHT
BEGIN:DAYLIGHT
DTSTART:20270314T030000
RDATE:20271107T010000
TZOFFSETFROM:-0700
TZOFFSETTO:-0600
TZNAME:America/Denver MDT
END:DAYLIGHT
BEGIN:DAYLIGHT
DTSTART:20280312T030000
RDATE:20281105T010000
TZOFFSETFROM:-0700
TZOFFSETTO:-0600
TZNAME:America/Denver MDT
END:DAYLIGHT
BEGIN:DAYLIGHT
DTSTART:20290311T030000
RDATE:20291104T010000
TZOFFSETFROM:-0700
TZOFFSETTO:-0600
TZNAME:America/Denver MDT
END:DAYLIGHT
BEGIN:DAYLIGHT
DTSTART:20300310T030000
RDATE:20301103T010000
TZOFFSETFROM:-0700
TZOFFSETTO:-0600
TZNAME:America/Denver MDT
END:DAYLIGHT
BEGIN:DAYLIGHT
DTSTART:20310309T030000
RDATE:20311102T010000
TZOFFSETFROM:-0700
TZOFFSETTO:-0600
TZNAME:America/Denver MDT
END:DAYLIGHT
BEGIN:DAYLIGHT
DTSTART:20320314T030000
RDATE:20321107T010000
TZOFFSETFROM:-0700
TZOFFSETTO:-0600
TZNAME:America/Denver MDT
END:DAYLIGHT
BEGIN:DAYLIGHT
DTSTART:20330313T030000
RDATE:20331106T010000
TZOFFSETFROM:-0700
TZOFFSETTO:-0600
TZNAME:America/Denver MDT
END:DAYLIGHT
BEGIN:DAYLIGHT
DTSTART:20340312T030000
RDATE:20341105T010000
TZOFFSETFROM:-0700
TZOFFSETTO:-0600
TZNAME:America/Denver MDT
END:DAYLIGHT
BEGIN:DAYLIGHT
DTSTART:20350311T030000
RDATE:20351104T010000
TZOFFSETFROM:-0700
TZOFFSETTO:-0600
TZNAME:America/Denver MDT
END:DAYLIGHT
BEGIN:DAYLIGHT
DTSTART:20360309T030000
RDATE:20361102T010000
TZOFFSETFROM:-0700
TZOFFSETTO:-0600
TZNAME:America/Denver MDT
END:DAYLIGHT
END:VTIMEZONE
BEGIN:VEVENT
UID:06210b2a07667e129ef7bd1e59c582a0
CATEGORIES:Public Meetings
CREATED:20220807T210936
SUMMARY:"Artworks," with Zoe Wolfe at the Unitarian Universalist Fellowship of Silver City
LOCATION:3845 N Swan Street
DESCRIPTION:<p>Join local artist Zoe Wolfe on a journey of her work which she says cele
 brates our essential being. She will tell stories and share images of her a
 rt.</p><p>Poetic spirit describes the stories behind Wolfe’s sculptures. Wo
 rking predominantly in clay, her art is provocative, and uniquely crafted, 
 ranging in scale from intimate to installation.</p><p>Wolfe received her MF
 A from the University of Hawaii, and her BAs from San Francisco State Unive
 rsity. While employed as an arts educator she has called many places home i
 ncluding Kathmandu, New York, and Israel. She came to Silver City in 1994 a
 nd continued her teaching career with students ranging in age from kinderga
 rten to college. Currently she is a full-time artist.</p><p>Wolfe’s art has
  been widely exhibited. “I’m honored to have public art in our state, inclu
 ding the new wing at Western New Mexico’s University library,” she said.</p
 ><p>Wolfe is involved in bringing art further into the community; her invol
 vement includes working with The Clay festival, the Empty Bowls Fundraiser,
  the Youth Mural Program, and the Gila River Festival. </p><p>A historic do
 wntown Silver City warehouse is home to Wolfe’s studio, showroom, and sculp
 ture garden.</p><p>There are speakers on the patio if you wish to enjoy the
  service outside.</p><p>This Sunday there will be a Children’s Religious Ed
 ucation program. Parents are invited to bring children four years old and a
 bove to attend youth-led classes. Ninth grader Ivy Stephens-Etheridge, a fo
 rmer CRE student, will read a story and lead a lesson on the theme of “Musi
 c” this Sunday.</p><p>UUFSC Safety Protocol as pursuant to our most recent 
 UUA Guidelines:</p><p>We will not be serving food or drinks in the building
  until further notice. Masks will still need to be worn at all times indoor
 s and out, except when eating or drinking. We will continue to serve refres
 hments on the patio, weather permitting. Visitors are always welcome.</p><p
 >The Unitarian Universalist Fellowship of Silver City is a diverse group of
  religious independents seeking knowledge, spiritual sustenance, fellowship
  and opportunities for service to others. Our programs encompass Humanism, 
 liberal Christianity, earth-based spirituality, Buddhism and many other tra
 ditions. If you’d like to find out more, email <joomla-hidden-mail  is-link
 ="1" is-email="1" first="dXVmZWxsb3dzaGlwb2ZzaWx2ZXJjaXR5" last="Z21haWwuY2
 9t" text="dXVmZWxsb3dzaGlwb2ZzaWx2ZXJjaXR5QGdtYWlsLmNvbQ==" base="" >This e
 mail address is being protected from spambots. You need JavaScript enabled 
 to view it.</joomla-hidden-mail>, visit our website at www.uufsc.com or vis
 it us on Facebook at Unitarian-Universalist-Fellowship-of-Silver-City.</p>
DTSTAMP:20260420T230625
DTSTART;TZID=America/Denver:20220814T100000
SEQUENCE:0
TRANSP:OPAQUE
END:VEVENT
END:VCALENDAR