BEGIN:VCALENDAR
VERSION:2.0
PRODID:-//jEvents 2.0 for Joomla//EN
CALSCALE:GREGORIAN
METHOD:PUBLISH
BEGIN:VTIMEZONE
TZID:America/Denver
BEGIN:STANDARD
DTSTART:20211107T010000
RDATE:20220313T030000
TZOFFSETFROM:-0600
TZOFFSETTO:-0700
TZNAME:America/Denver MST
END:STANDARD
BEGIN:STANDARD
DTSTART:20221106T010000
RDATE:20230312T030000
TZOFFSETFROM:-0600
TZOFFSETTO:-0700
TZNAME:America/Denver MST
END:STANDARD
BEGIN:STANDARD
DTSTART:20231105T010000
RDATE:20240310T030000
TZOFFSETFROM:-0600
TZOFFSETTO:-0700
TZNAME:America/Denver MST
END:STANDARD
BEGIN:STANDARD
DTSTART:20241103T010000
RDATE:20250309T030000
TZOFFSETFROM:-0600
TZOFFSETTO:-0700
TZNAME:America/Denver MST
END:STANDARD
BEGIN:STANDARD
DTSTART:20251102T010000
RDATE:20260308T030000
TZOFFSETFROM:-0600
TZOFFSETTO:-0700
TZNAME:America/Denver MST
END:STANDARD
BEGIN:STANDARD
DTSTART:20261101T010000
RDATE:20270314T030000
TZOFFSETFROM:-0600
TZOFFSETTO:-0700
TZNAME:America/Denver MST
END:STANDARD
BEGIN:STANDARD
DTSTART:20271107T010000
RDATE:20280312T030000
TZOFFSETFROM:-0600
TZOFFSETTO:-0700
TZNAME:America/Denver MST
END:STANDARD
BEGIN:STANDARD
DTSTART:20281105T010000
RDATE:20290311T030000
TZOFFSETFROM:-0600
TZOFFSETTO:-0700
TZNAME:America/Denver MST
END:STANDARD
BEGIN:STANDARD
DTSTART:20291104T010000
RDATE:20300310T030000
TZOFFSETFROM:-0600
TZOFFSETTO:-0700
TZNAME:America/Denver MST
END:STANDARD
BEGIN:STANDARD
DTSTART:20301103T010000
RDATE:20310309T030000
TZOFFSETFROM:-0600
TZOFFSETTO:-0700
TZNAME:America/Denver MST
END:STANDARD
BEGIN:STANDARD
DTSTART:20311102T010000
RDATE:20320314T030000
TZOFFSETFROM:-0600
TZOFFSETTO:-0700
TZNAME:America/Denver MST
END:STANDARD
BEGIN:STANDARD
DTSTART:20321107T010000
RDATE:20330313T030000
TZOFFSETFROM:-0600
TZOFFSETTO:-0700
TZNAME:America/Denver MST
END:STANDARD
BEGIN:STANDARD
DTSTART:20331106T010000
RDATE:20340312T030000
TZOFFSETFROM:-0600
TZOFFSETTO:-0700
TZNAME:America/Denver MST
END:STANDARD
BEGIN:STANDARD
DTSTART:20341105T010000
RDATE:20350311T030000
TZOFFSETFROM:-0600
TZOFFSETTO:-0700
TZNAME:America/Denver MST
END:STANDARD
BEGIN:STANDARD
DTSTART:20351104T010000
RDATE:20360309T030000
TZOFFSETFROM:-0600
TZOFFSETTO:-0700
TZNAME:America/Denver MST
END:STANDARD
BEGIN:STANDARD
DTSTART:20361102T010000
RDATE:20370308T030000
TZOFFSETFROM:-0600
TZOFFSETTO:-0700
TZNAME:America/Denver MST
END:STANDARD
BEGIN:DAYLIGHT
DTSTART:20211018T173000
RDATE:20211107T010000
TZOFFSETFROM:-0700
TZOFFSETTO:-0600
TZNAME:America/Denver MDT
END:DAYLIGHT
BEGIN:DAYLIGHT
DTSTART:20220313T030000
RDATE:20221106T010000
TZOFFSETFROM:-0700
TZOFFSETTO:-0600
TZNAME:America/Denver MDT
END:DAYLIGHT
BEGIN:DAYLIGHT
DTSTART:20230312T030000
RDATE:20231105T010000
TZOFFSETFROM:-0700
TZOFFSETTO:-0600
TZNAME:America/Denver MDT
END:DAYLIGHT
BEGIN:DAYLIGHT
DTSTART:20240310T030000
RDATE:20241103T010000
TZOFFSETFROM:-0700
TZOFFSETTO:-0600
TZNAME:America/Denver MDT
END:DAYLIGHT
BEGIN:DAYLIGHT
DTSTART:20250309T030000
RDATE:20251102T010000
TZOFFSETFROM:-0700
TZOFFSETTO:-0600
TZNAME:America/Denver MDT
END:DAYLIGHT
BEGIN:DAYLIGHT
DTSTART:20260308T030000
RDATE:20261101T010000
TZOFFSETFROM:-0700
TZOFFSETTO:-0600
TZNAME:America/Denver MDT
END:DAYLIGHT
BEGIN:DAYLIGHT
DTSTART:20270314T030000
RDATE:20271107T010000
TZOFFSETFROM:-0700
TZOFFSETTO:-0600
TZNAME:America/Denver MDT
END:DAYLIGHT
BEGIN:DAYLIGHT
DTSTART:20280312T030000
RDATE:20281105T010000
TZOFFSETFROM:-0700
TZOFFSETTO:-0600
TZNAME:America/Denver MDT
END:DAYLIGHT
BEGIN:DAYLIGHT
DTSTART:20290311T030000
RDATE:20291104T010000
TZOFFSETFROM:-0700
TZOFFSETTO:-0600
TZNAME:America/Denver MDT
END:DAYLIGHT
BEGIN:DAYLIGHT
DTSTART:20300310T030000
RDATE:20301103T010000
TZOFFSETFROM:-0700
TZOFFSETTO:-0600
TZNAME:America/Denver MDT
END:DAYLIGHT
BEGIN:DAYLIGHT
DTSTART:20310309T030000
RDATE:20311102T010000
TZOFFSETFROM:-0700
TZOFFSETTO:-0600
TZNAME:America/Denver MDT
END:DAYLIGHT
BEGIN:DAYLIGHT
DTSTART:20320314T030000
RDATE:20321107T010000
TZOFFSETFROM:-0700
TZOFFSETTO:-0600
TZNAME:America/Denver MDT
END:DAYLIGHT
BEGIN:DAYLIGHT
DTSTART:20330313T030000
RDATE:20331106T010000
TZOFFSETFROM:-0700
TZOFFSETTO:-0600
TZNAME:America/Denver MDT
END:DAYLIGHT
BEGIN:DAYLIGHT
DTSTART:20340312T030000
RDATE:20341105T010000
TZOFFSETFROM:-0700
TZOFFSETTO:-0600
TZNAME:America/Denver MDT
END:DAYLIGHT
BEGIN:DAYLIGHT
DTSTART:20350311T030000
RDATE:20351104T010000
TZOFFSETFROM:-0700
TZOFFSETTO:-0600
TZNAME:America/Denver MDT
END:DAYLIGHT
BEGIN:DAYLIGHT
DTSTART:20360309T030000
RDATE:20361102T010000
TZOFFSETFROM:-0700
TZOFFSETTO:-0600
TZNAME:America/Denver MDT
END:DAYLIGHT
END:VTIMEZONE
BEGIN:VEVENT
UID:77943ea84cdb87f64f017398e7e4ef92
CATEGORIES:Public Meetings
CREATED:20221016T215602
SUMMARY:Bayard Council Special Meeting
LOCATION:Bayard City Hall
DESCRIPTION:<p>The Bayard City Council will conduct a Special Meeting on Wednesday, Oct
 ober 19, 2022 at 5:30 p.m. at the Bayard City Hall, 800 Central Avenue, Bay
 ard, NM 88023. The Special Meeting will include Project updates, acceptance
  of retirement/resignation letters, a Closed Executive Session/Action held 
 pursuant to 10-15-1 (H-2. H-6) pertaining to limited personnel matters and 
 purchases exceeding $2,500; The Closed Executive Session is not open to the
  public and all final actions will be taken during open session (open to th
 e public). The agenda may be altered up to seventy-two (72) hours prior to 
 the meeting; copies can be obtained from the City Clerk’s Office or viewed 
 online at www.cityofbayardnm.com.   </p><p>The public is invited to attend.
   If you are an individual with a disability who is in need of a reader, am
 plifier, qualified sign language interpreter, or any other form of auxiliar
 y aid or service to attend or participate in the hearing or meeting, please
  contact the city clerk at 800 Central Avenue (537-3327) at least one week 
 prior to the meeting or as soon as possible.</p>
DTSTAMP:20260420T134721
DTSTART;TZID=America/Denver:20221019T173000
SEQUENCE:0
TRANSP:OPAQUE
END:VEVENT
END:VCALENDAR