BEGIN:VCALENDAR
VERSION:2.0
PRODID:-//jEvents 2.0 for Joomla//EN
CALSCALE:GREGORIAN
METHOD:PUBLISH
BEGIN:VTIMEZONE
TZID:America/Denver
BEGIN:STANDARD
DTSTART:20220222T150000
RDATE:20220313T030000
TZOFFSETFROM:-0600
TZOFFSETTO:-0700
TZNAME:America/Denver MST
END:STANDARD
BEGIN:STANDARD
DTSTART:20221106T010000
RDATE:20230312T030000
TZOFFSETFROM:-0600
TZOFFSETTO:-0700
TZNAME:America/Denver MST
END:STANDARD
BEGIN:STANDARD
DTSTART:20231105T010000
RDATE:20240310T030000
TZOFFSETFROM:-0600
TZOFFSETTO:-0700
TZNAME:America/Denver MST
END:STANDARD
BEGIN:STANDARD
DTSTART:20241103T010000
RDATE:20250309T030000
TZOFFSETFROM:-0600
TZOFFSETTO:-0700
TZNAME:America/Denver MST
END:STANDARD
BEGIN:STANDARD
DTSTART:20251102T010000
RDATE:20260308T030000
TZOFFSETFROM:-0600
TZOFFSETTO:-0700
TZNAME:America/Denver MST
END:STANDARD
BEGIN:STANDARD
DTSTART:20261101T010000
RDATE:20270314T030000
TZOFFSETFROM:-0600
TZOFFSETTO:-0700
TZNAME:America/Denver MST
END:STANDARD
BEGIN:STANDARD
DTSTART:20271107T010000
RDATE:20280312T030000
TZOFFSETFROM:-0600
TZOFFSETTO:-0700
TZNAME:America/Denver MST
END:STANDARD
BEGIN:STANDARD
DTSTART:20281105T010000
RDATE:20290311T030000
TZOFFSETFROM:-0600
TZOFFSETTO:-0700
TZNAME:America/Denver MST
END:STANDARD
BEGIN:STANDARD
DTSTART:20291104T010000
RDATE:20300310T030000
TZOFFSETFROM:-0600
TZOFFSETTO:-0700
TZNAME:America/Denver MST
END:STANDARD
BEGIN:STANDARD
DTSTART:20301103T010000
RDATE:20310309T030000
TZOFFSETFROM:-0600
TZOFFSETTO:-0700
TZNAME:America/Denver MST
END:STANDARD
BEGIN:STANDARD
DTSTART:20311102T010000
RDATE:20320314T030000
TZOFFSETFROM:-0600
TZOFFSETTO:-0700
TZNAME:America/Denver MST
END:STANDARD
BEGIN:STANDARD
DTSTART:20321107T010000
RDATE:20330313T030000
TZOFFSETFROM:-0600
TZOFFSETTO:-0700
TZNAME:America/Denver MST
END:STANDARD
BEGIN:STANDARD
DTSTART:20331106T010000
RDATE:20340312T030000
TZOFFSETFROM:-0600
TZOFFSETTO:-0700
TZNAME:America/Denver MST
END:STANDARD
BEGIN:STANDARD
DTSTART:20341105T010000
RDATE:20350311T030000
TZOFFSETFROM:-0600
TZOFFSETTO:-0700
TZNAME:America/Denver MST
END:STANDARD
BEGIN:STANDARD
DTSTART:20351104T010000
RDATE:20360309T030000
TZOFFSETFROM:-0600
TZOFFSETTO:-0700
TZNAME:America/Denver MST
END:STANDARD
BEGIN:STANDARD
DTSTART:20361102T010000
RDATE:20370308T030000
TZOFFSETFROM:-0600
TZOFFSETTO:-0700
TZNAME:America/Denver MST
END:STANDARD
BEGIN:DAYLIGHT
DTSTART:20220313T030000
RDATE:20221106T010000
TZOFFSETFROM:-0700
TZOFFSETTO:-0600
TZNAME:America/Denver MDT
END:DAYLIGHT
BEGIN:DAYLIGHT
DTSTART:20230312T030000
RDATE:20231105T010000
TZOFFSETFROM:-0700
TZOFFSETTO:-0600
TZNAME:America/Denver MDT
END:DAYLIGHT
BEGIN:DAYLIGHT
DTSTART:20240310T030000
RDATE:20241103T010000
TZOFFSETFROM:-0700
TZOFFSETTO:-0600
TZNAME:America/Denver MDT
END:DAYLIGHT
BEGIN:DAYLIGHT
DTSTART:20250309T030000
RDATE:20251102T010000
TZOFFSETFROM:-0700
TZOFFSETTO:-0600
TZNAME:America/Denver MDT
END:DAYLIGHT
BEGIN:DAYLIGHT
DTSTART:20260308T030000
RDATE:20261101T010000
TZOFFSETFROM:-0700
TZOFFSETTO:-0600
TZNAME:America/Denver MDT
END:DAYLIGHT
BEGIN:DAYLIGHT
DTSTART:20270314T030000
RDATE:20271107T010000
TZOFFSETFROM:-0700
TZOFFSETTO:-0600
TZNAME:America/Denver MDT
END:DAYLIGHT
BEGIN:DAYLIGHT
DTSTART:20280312T030000
RDATE:20281105T010000
TZOFFSETFROM:-0700
TZOFFSETTO:-0600
TZNAME:America/Denver MDT
END:DAYLIGHT
BEGIN:DAYLIGHT
DTSTART:20290311T030000
RDATE:20291104T010000
TZOFFSETFROM:-0700
TZOFFSETTO:-0600
TZNAME:America/Denver MDT
END:DAYLIGHT
BEGIN:DAYLIGHT
DTSTART:20300310T030000
RDATE:20301103T010000
TZOFFSETFROM:-0700
TZOFFSETTO:-0600
TZNAME:America/Denver MDT
END:DAYLIGHT
BEGIN:DAYLIGHT
DTSTART:20310309T030000
RDATE:20311102T010000
TZOFFSETFROM:-0700
TZOFFSETTO:-0600
TZNAME:America/Denver MDT
END:DAYLIGHT
BEGIN:DAYLIGHT
DTSTART:20320314T030000
RDATE:20321107T010000
TZOFFSETFROM:-0700
TZOFFSETTO:-0600
TZNAME:America/Denver MDT
END:DAYLIGHT
BEGIN:DAYLIGHT
DTSTART:20330313T030000
RDATE:20331106T010000
TZOFFSETFROM:-0700
TZOFFSETTO:-0600
TZNAME:America/Denver MDT
END:DAYLIGHT
BEGIN:DAYLIGHT
DTSTART:20340312T030000
RDATE:20341105T010000
TZOFFSETFROM:-0700
TZOFFSETTO:-0600
TZNAME:America/Denver MDT
END:DAYLIGHT
BEGIN:DAYLIGHT
DTSTART:20350311T030000
RDATE:20351104T010000
TZOFFSETFROM:-0700
TZOFFSETTO:-0600
TZNAME:America/Denver MDT
END:DAYLIGHT
BEGIN:DAYLIGHT
DTSTART:20360309T030000
RDATE:20361102T010000
TZOFFSETFROM:-0700
TZOFFSETTO:-0600
TZNAME:America/Denver MDT
END:DAYLIGHT
END:VTIMEZONE
BEGIN:VEVENT
UID:f7fd00df17d37887838cbf9ae8b54c25
CATEGORIES:Public Meetings
CREATED:20230219T214115
SUMMARY:Grant County Water Commission regular meeting
LOCATION:Silver City Annex Building
DESCRIPTION:<p>The Grant County Water Commission will hold a regular meeting on Thursda
 y, February 23, 2023, at 3:00 PM at the Town of Silver City, City Annex – 2
 nd Floor Conference Room located at 1203 N. Hudson St., Silver City, NM. Co
 pies of the Agenda will be available at the City Hall/Town of Silver City n
 o less than 72 hours before the scheduled meeting and online at the Town's 
 website at <a href="https://www.townofsilvercity.org" target="_blank" rel="
 noopener">www.townofsilvercity.org</a> . A copy of the agenda will be poste
 d at the various Town Halls prior to the scheduled meeting.<br />Public Inp
 ut must be submitted by email by 2:00 PM on February 23, 2023 to the Assist
 ant to the Executive Department at <joomla-hidden-mail  is-link="1" is-emai
 l="1" first="YXNzaXN0YW50dG9leGVjZGVwdA==" last="c2lsdmVyY2l0eW5tLmdvdg==" 
 text="YXNzaXN0YW50dG9leGVjZGVwdEBzaWx2ZXJjaXR5bm0uZ292" base=""  target="_b
 lank">This email address is being protected from spambots. You need JavaScr
 ipt enabled to view it.</joomla-hidden-mail>. Please enter "Public Input" i
 n the Subject line of the email. The comments will be distributed to the Ch
 air and members of the Board and will be entered into the record of the Boa
 rd meeting.</p><p>Join Zoom Meeting <br /><a href="https://us02web.zoom.us/
 j/84149135747?pwd=ZnFJUHFOc2NvazFkMmIzMWg1bWJ6QT09" target="_blank" rel="no
 opener">https://us02web.zoom.us/j/84149135747?pwd=ZnFJUHFOc2NvazFkMmIzMWg1b
 WJ6QT09</a> </p><p>Meeting ID: 841 4913 5747<br />Passcode: 642590<br />One
  tap mobile<br />+12532158782,,84149135747#,,,,*642590# US (Tacoma)<br />+1
 3462487799,,84149135747#,,,,*642590# US (Houston)<br />Dial by your locatio
 n<br />+1 253 215 8782 US (Tacoma)<br />+1 346 248 7799 US (Houston)<br />+
 1 669 444 9171 US<br />+1 669 900 9128 US (San Jose)<br />+1 719 359 4580 U
 S<br />+1 253 205 0468 US<br />+1 386 347 5053 US<br />+1 507 473 4847 US<b
 r />+1 564 217 2000 US<br />+1 646 558 8656 US (New York)<br />+1 646 931 3
 860 US<br />+1 689 278 1000 US<br />+1 301 715 8592 US (Washington DC)<br /
 >+1 305 224 1968 US<br />+1 309 205 3325 US<br />+1 312 626 6799 US (Chicag
 o)<br />+1 360 209 5623 US<br />Meeting ID: 841 4913 5747<br />Passcode: 64
 2590<br />Find your local number: <a href="https://us02web.zoom.us/u/kbayOb
 OZ0v" target="_blank" rel="noopener">https://us02web.zoom.us/u/kbayObOZ0v</
 a> </p><p>If you are an individual with a disability who is in need of a re
 ader, amplifier, qualified sign language interpreter, or any other form of 
 auxiliary aid or service to attend or participate in the hearing or meeting
 , please contact the Recorder at 534-6358 at least one week prior to the me
 eting or as soon as possible. Public documents, including the agenda and mi
 nutes, can be provided in various accessible formats. Please contact the Re
 corder if a summary or other type of accessible format is needed.</p>
DTSTAMP:20260420T081339
DTSTART;TZID=America/Denver:20230223T150000
SEQUENCE:0
TRANSP:OPAQUE
END:VEVENT
END:VCALENDAR