BEGIN:VCALENDAR
VERSION:2.0
PRODID:-//jEvents 2.0 for Joomla//EN
CALSCALE:GREGORIAN
METHOD:PUBLISH
BEGIN:VTIMEZONE
TZID:America/Denver
BEGIN:STANDARD
DTSTART:20221106T010000
RDATE:20230312T030000
TZOFFSETFROM:-0600
TZOFFSETTO:-0700
TZNAME:America/Denver MST
END:STANDARD
BEGIN:STANDARD
DTSTART:20231105T010000
RDATE:20240310T030000
TZOFFSETFROM:-0600
TZOFFSETTO:-0700
TZNAME:America/Denver MST
END:STANDARD
BEGIN:STANDARD
DTSTART:20241103T010000
RDATE:20250309T030000
TZOFFSETFROM:-0600
TZOFFSETTO:-0700
TZNAME:America/Denver MST
END:STANDARD
BEGIN:STANDARD
DTSTART:20251102T010000
RDATE:20260308T030000
TZOFFSETFROM:-0600
TZOFFSETTO:-0700
TZNAME:America/Denver MST
END:STANDARD
BEGIN:STANDARD
DTSTART:20261101T010000
RDATE:20270314T030000
TZOFFSETFROM:-0600
TZOFFSETTO:-0700
TZNAME:America/Denver MST
END:STANDARD
BEGIN:STANDARD
DTSTART:20271107T010000
RDATE:20280312T030000
TZOFFSETFROM:-0600
TZOFFSETTO:-0700
TZNAME:America/Denver MST
END:STANDARD
BEGIN:STANDARD
DTSTART:20281105T010000
RDATE:20290311T030000
TZOFFSETFROM:-0600
TZOFFSETTO:-0700
TZNAME:America/Denver MST
END:STANDARD
BEGIN:STANDARD
DTSTART:20291104T010000
RDATE:20300310T030000
TZOFFSETFROM:-0600
TZOFFSETTO:-0700
TZNAME:America/Denver MST
END:STANDARD
BEGIN:STANDARD
DTSTART:20301103T010000
RDATE:20310309T030000
TZOFFSETFROM:-0600
TZOFFSETTO:-0700
TZNAME:America/Denver MST
END:STANDARD
BEGIN:STANDARD
DTSTART:20311102T010000
RDATE:20320314T030000
TZOFFSETFROM:-0600
TZOFFSETTO:-0700
TZNAME:America/Denver MST
END:STANDARD
BEGIN:STANDARD
DTSTART:20321107T010000
RDATE:20330313T030000
TZOFFSETFROM:-0600
TZOFFSETTO:-0700
TZNAME:America/Denver MST
END:STANDARD
BEGIN:STANDARD
DTSTART:20331106T010000
RDATE:20340312T030000
TZOFFSETFROM:-0600
TZOFFSETTO:-0700
TZNAME:America/Denver MST
END:STANDARD
BEGIN:STANDARD
DTSTART:20341105T010000
RDATE:20350311T030000
TZOFFSETFROM:-0600
TZOFFSETTO:-0700
TZNAME:America/Denver MST
END:STANDARD
BEGIN:STANDARD
DTSTART:20351104T010000
RDATE:20360309T030000
TZOFFSETFROM:-0600
TZOFFSETTO:-0700
TZNAME:America/Denver MST
END:STANDARD
BEGIN:STANDARD
DTSTART:20361102T010000
RDATE:20370308T030000
TZOFFSETFROM:-0600
TZOFFSETTO:-0700
TZNAME:America/Denver MST
END:STANDARD
BEGIN:DAYLIGHT
DTSTART:20221011T193000
RDATE:20221106T010000
TZOFFSETFROM:-0700
TZOFFSETTO:-0600
TZNAME:America/Denver MDT
END:DAYLIGHT
BEGIN:DAYLIGHT
DTSTART:20230312T030000
RDATE:20231105T010000
TZOFFSETFROM:-0700
TZOFFSETTO:-0600
TZNAME:America/Denver MDT
END:DAYLIGHT
BEGIN:DAYLIGHT
DTSTART:20240310T030000
RDATE:20241103T010000
TZOFFSETFROM:-0700
TZOFFSETTO:-0600
TZNAME:America/Denver MDT
END:DAYLIGHT
BEGIN:DAYLIGHT
DTSTART:20250309T030000
RDATE:20251102T010000
TZOFFSETFROM:-0700
TZOFFSETTO:-0600
TZNAME:America/Denver MDT
END:DAYLIGHT
BEGIN:DAYLIGHT
DTSTART:20260308T030000
RDATE:20261101T010000
TZOFFSETFROM:-0700
TZOFFSETTO:-0600
TZNAME:America/Denver MDT
END:DAYLIGHT
BEGIN:DAYLIGHT
DTSTART:20270314T030000
RDATE:20271107T010000
TZOFFSETFROM:-0700
TZOFFSETTO:-0600
TZNAME:America/Denver MDT
END:DAYLIGHT
BEGIN:DAYLIGHT
DTSTART:20280312T030000
RDATE:20281105T010000
TZOFFSETFROM:-0700
TZOFFSETTO:-0600
TZNAME:America/Denver MDT
END:DAYLIGHT
BEGIN:DAYLIGHT
DTSTART:20290311T030000
RDATE:20291104T010000
TZOFFSETFROM:-0700
TZOFFSETTO:-0600
TZNAME:America/Denver MDT
END:DAYLIGHT
BEGIN:DAYLIGHT
DTSTART:20300310T030000
RDATE:20301103T010000
TZOFFSETFROM:-0700
TZOFFSETTO:-0600
TZNAME:America/Denver MDT
END:DAYLIGHT
BEGIN:DAYLIGHT
DTSTART:20310309T030000
RDATE:20311102T010000
TZOFFSETFROM:-0700
TZOFFSETTO:-0600
TZNAME:America/Denver MDT
END:DAYLIGHT
BEGIN:DAYLIGHT
DTSTART:20320314T030000
RDATE:20321107T010000
TZOFFSETFROM:-0700
TZOFFSETTO:-0600
TZNAME:America/Denver MDT
END:DAYLIGHT
BEGIN:DAYLIGHT
DTSTART:20330313T030000
RDATE:20331106T010000
TZOFFSETFROM:-0700
TZOFFSETTO:-0600
TZNAME:America/Denver MDT
END:DAYLIGHT
BEGIN:DAYLIGHT
DTSTART:20340312T030000
RDATE:20341105T010000
TZOFFSETFROM:-0700
TZOFFSETTO:-0600
TZNAME:America/Denver MDT
END:DAYLIGHT
BEGIN:DAYLIGHT
DTSTART:20350311T030000
RDATE:20351104T010000
TZOFFSETFROM:-0700
TZOFFSETTO:-0600
TZNAME:America/Denver MDT
END:DAYLIGHT
BEGIN:DAYLIGHT
DTSTART:20360309T030000
RDATE:20361102T010000
TZOFFSETFROM:-0700
TZOFFSETTO:-0600
TZNAME:America/Denver MDT
END:DAYLIGHT
END:VTIMEZONE
BEGIN:VEVENT
UID:7304a5bda6087e50f8238efd267da50a
CATEGORIES:Arts & Music
CREATED:20230925T161459
SUMMARY:Whiskey Creek Zócalo - The Ephemeral Progressive Metal
DESCRIPTION:<p>Doors: 7:00pm / Music: 7:30pm<br />$10/cover  <br />Formed in the Summer
  of 2016, The Ephemeral set out to create a fresh and more lyrically-consci
 ous take on progressive metal, moving effortlessly between technical rock, 
 atmospheric ambience, 8-stringed metal, and shoegaze soundscapes. In 2019, 
 they released their first EP, Komorebi, which blended the band’s ability to
  write complex guitar passages paired with layered and soaring choruses. An
 d with <span style="text-decoration: underline;">Silver City’s own Noah She
 pard,</span> The Ephemeral is now on tour with their newly released full le
 ngth album.<br /><br />11786 HWY 180 East. Arenas Valley, NM   <a href="mai
 lto:wczocalo@gmail.com " target="_blank"><joomla-hidden-mail  is-link="1" i
 s-email="1" first="d2N6b2NhbG8=" last="Z21haWwuY29t" text="d2N6b2NhbG9AZ21h
 aWwuY29t" base="" >This email address is being protected from spambots. You
  need JavaScript enabled to view it.</joomla-hidden-mail> </a>  / 575-388-1
 266<br />Tickets &amp; Info: <a href="https://www.whiskeycreekzocalo.com" t
 arget="_blank" rel="noopener">https://www.whiskeycreekzocalo.com</a>  /</p>
 <p>See full calendar and press release:</p><p><a href="news/news-releases/8
 0402-whiskey-creek-zocalo-october-events" target="_blank" rel="noopener">ht
 tps://www.grantcountybeat.com/news/news-releases/80402-whiskey-creek-zocalo
 -october-events</a></p><p></p><p></p>
X-ALT-DESC;FMTTYPE=text/html:<p>Doors: 7:00pm / Music: 7:30pm<br />$10/cover  <br />Formed in the Summer
  of 2016, The Ephemeral set out to create a fresh and more lyrically-consci
 ous take on progressive metal, moving effortlessly between technical rock, 
 atmospheric ambience, 8-stringed metal, and shoegaze soundscapes. In 2019, 
 they released their first EP, Komorebi, which blended the band’s ability to
  write complex guitar passages paired with layered and soaring choruses. An
 d with <span style="text-decoration: underline;">Silver City’s own Noah She
 pard,</span> The Ephemeral is now on tour with their newly released full le
 ngth album.<br /><br />11786 HWY 180 East. Arenas Valley, NM   <a href="mai
 lto:wczocalo@gmail.com " target="_blank"><joomla-hidden-mail  is-link="1" i
 s-email="1" first="d2N6b2NhbG8=" last="Z21haWwuY29t" text="d2N6b2NhbG9AZ21h
 aWwuY29t" base="" >This email address is being protected from spambots. You
  need JavaScript enabled to view it.</joomla-hidden-mail> </a>  / 575-388-1
 266<br />Tickets &amp; Info: <a href="https://www.whiskeycreekzocalo.com" t
 arget="_blank" rel="noopener">https://www.whiskeycreekzocalo.com</a>  /</p>
 <p>See full calendar and press release:</p><p><a href="https://grantcountyb
 eat.com/news/news-releases/80402-whiskey-creek-zocalo-october-events" targe
 t="_blank" rel="noopener">https://www.grantcountybeat.com/news/news-release
 s/80402-whiskey-creek-zocalo-october-events</a></p><p></p><p></p>
DTSTAMP:20260424T223237
DTSTART;TZID=America/Denver:20231012T193000
SEQUENCE:0
TRANSP:OPAQUE
END:VEVENT
END:VCALENDAR