BEGIN:VCALENDAR
VERSION:2.0
PRODID:-//jEvents 2.0 for Joomla//EN
CALSCALE:GREGORIAN
METHOD:PUBLISH
BEGIN:VTIMEZONE
TZID:America/Denver
BEGIN:STANDARD
DTSTART:20241103T010000
RDATE:20250309T030000
TZOFFSETFROM:-0600
TZOFFSETTO:-0700
TZNAME:America/Denver MST
END:STANDARD
BEGIN:STANDARD
DTSTART:20251102T010000
RDATE:20260308T030000
TZOFFSETFROM:-0600
TZOFFSETTO:-0700
TZNAME:America/Denver MST
END:STANDARD
BEGIN:STANDARD
DTSTART:20261101T010000
RDATE:20270314T030000
TZOFFSETFROM:-0600
TZOFFSETTO:-0700
TZNAME:America/Denver MST
END:STANDARD
BEGIN:STANDARD
DTSTART:20271107T010000
RDATE:20280312T030000
TZOFFSETFROM:-0600
TZOFFSETTO:-0700
TZNAME:America/Denver MST
END:STANDARD
BEGIN:STANDARD
DTSTART:20281105T010000
RDATE:20290311T030000
TZOFFSETFROM:-0600
TZOFFSETTO:-0700
TZNAME:America/Denver MST
END:STANDARD
BEGIN:STANDARD
DTSTART:20291104T010000
RDATE:20300310T030000
TZOFFSETFROM:-0600
TZOFFSETTO:-0700
TZNAME:America/Denver MST
END:STANDARD
BEGIN:STANDARD
DTSTART:20301103T010000
RDATE:20310309T030000
TZOFFSETFROM:-0600
TZOFFSETTO:-0700
TZNAME:America/Denver MST
END:STANDARD
BEGIN:STANDARD
DTSTART:20311102T010000
RDATE:20320314T030000
TZOFFSETFROM:-0600
TZOFFSETTO:-0700
TZNAME:America/Denver MST
END:STANDARD
BEGIN:STANDARD
DTSTART:20321107T010000
RDATE:20330313T030000
TZOFFSETFROM:-0600
TZOFFSETTO:-0700
TZNAME:America/Denver MST
END:STANDARD
BEGIN:STANDARD
DTSTART:20331106T010000
RDATE:20340312T030000
TZOFFSETFROM:-0600
TZOFFSETTO:-0700
TZNAME:America/Denver MST
END:STANDARD
BEGIN:STANDARD
DTSTART:20341105T010000
RDATE:20350311T030000
TZOFFSETFROM:-0600
TZOFFSETTO:-0700
TZNAME:America/Denver MST
END:STANDARD
BEGIN:STANDARD
DTSTART:20351104T010000
RDATE:20360309T030000
TZOFFSETFROM:-0600
TZOFFSETTO:-0700
TZNAME:America/Denver MST
END:STANDARD
BEGIN:STANDARD
DTSTART:20361102T010000
RDATE:20370308T030000
TZOFFSETFROM:-0600
TZOFFSETTO:-0700
TZNAME:America/Denver MST
END:STANDARD
BEGIN:DAYLIGHT
DTSTART:20240901T170000
RDATE:20241103T010000
TZOFFSETFROM:-0700
TZOFFSETTO:-0600
TZNAME:America/Denver MDT
END:DAYLIGHT
BEGIN:DAYLIGHT
DTSTART:20250309T030000
RDATE:20251102T010000
TZOFFSETFROM:-0700
TZOFFSETTO:-0600
TZNAME:America/Denver MDT
END:DAYLIGHT
BEGIN:DAYLIGHT
DTSTART:20260308T030000
RDATE:20261101T010000
TZOFFSETFROM:-0700
TZOFFSETTO:-0600
TZNAME:America/Denver MDT
END:DAYLIGHT
BEGIN:DAYLIGHT
DTSTART:20270314T030000
RDATE:20271107T010000
TZOFFSETFROM:-0700
TZOFFSETTO:-0600
TZNAME:America/Denver MDT
END:DAYLIGHT
BEGIN:DAYLIGHT
DTSTART:20280312T030000
RDATE:20281105T010000
TZOFFSETFROM:-0700
TZOFFSETTO:-0600
TZNAME:America/Denver MDT
END:DAYLIGHT
BEGIN:DAYLIGHT
DTSTART:20290311T030000
RDATE:20291104T010000
TZOFFSETFROM:-0700
TZOFFSETTO:-0600
TZNAME:America/Denver MDT
END:DAYLIGHT
BEGIN:DAYLIGHT
DTSTART:20300310T030000
RDATE:20301103T010000
TZOFFSETFROM:-0700
TZOFFSETTO:-0600
TZNAME:America/Denver MDT
END:DAYLIGHT
BEGIN:DAYLIGHT
DTSTART:20310309T030000
RDATE:20311102T010000
TZOFFSETFROM:-0700
TZOFFSETTO:-0600
TZNAME:America/Denver MDT
END:DAYLIGHT
BEGIN:DAYLIGHT
DTSTART:20320314T030000
RDATE:20321107T010000
TZOFFSETFROM:-0700
TZOFFSETTO:-0600
TZNAME:America/Denver MDT
END:DAYLIGHT
BEGIN:DAYLIGHT
DTSTART:20330313T030000
RDATE:20331106T010000
TZOFFSETFROM:-0700
TZOFFSETTO:-0600
TZNAME:America/Denver MDT
END:DAYLIGHT
BEGIN:DAYLIGHT
DTSTART:20340312T030000
RDATE:20341105T010000
TZOFFSETFROM:-0700
TZOFFSETTO:-0600
TZNAME:America/Denver MDT
END:DAYLIGHT
BEGIN:DAYLIGHT
DTSTART:20350311T030000
RDATE:20351104T010000
TZOFFSETFROM:-0700
TZOFFSETTO:-0600
TZNAME:America/Denver MDT
END:DAYLIGHT
BEGIN:DAYLIGHT
DTSTART:20360309T030000
RDATE:20361102T010000
TZOFFSETFROM:-0700
TZOFFSETTO:-0600
TZNAME:America/Denver MDT
END:DAYLIGHT
END:VTIMEZONE
BEGIN:VEVENT
UID:57554b7096e12594d0173f0dc29dd4f9
CATEGORIES:Legal Notices
CREATED:20250830T101845
SUMMARY:Town of Hurley Workshop - Animal Control Ordinance 
LOCATION:Hurley Community Center
DESCRIPTION:<p>The Council of the Town of Hurley will hold a Workshop to discuss the An
 imal Control Ordinance on Tuesday, September 2, 2025 at 5:00 p.m. at the Hu
 rley Community Center at 302 Carrasco Avenue in Hurley, New Mexico. This me
 eting is open to the public and residents are encouraged to attend or strea
 m via Zoom at <a href="https://us06web.zoom.us/j/85286420108" target="_blan
 k" rel="noopener">https://us06web.zoom.us/j/85286420108</a> . A copy of the
  agenda will be available at the Hurley Town Hall and online at <a href="ht
 tps://www.townofhurley.us " target="_blank" rel="noopener">www.townofhurley
 .us </a>&nbsp;</p><p>Full legal notice</p><p><a href="community/legals/town
 -of-hurley-will-hold-a-workshop-animal-control-ordinance-september-2-2025" 
 target="_blank" rel="noopener">https://www.grantcountybeat.com/community/le
 gals/town-of-hurley-will-hold-a-workshop-animal-control-ordinance-september
 -2-2025</a></p><p>&nbsp;</p>
X-ALT-DESC;FMTTYPE=text/html:<p>The Council of the Town of Hurley will hold a Workshop to discuss the An
 imal Control Ordinance on Tuesday, September 2, 2025 at 5:00 p.m. at the Hu
 rley Community Center at 302 Carrasco Avenue in Hurley, New Mexico. This me
 eting is open to the public and residents are encouraged to attend or strea
 m via Zoom at <a href="https://us06web.zoom.us/j/85286420108" target="_blan
 k" rel="noopener">https://us06web.zoom.us/j/85286420108</a> . A copy of the
  agenda will be available at the Hurley Town Hall and online at <a href="ht
 tps://www.townofhurley.us " target="_blank" rel="noopener">www.townofhurley
 .us </a>&nbsp;</p><p>Full legal notice</p><p><a href="https://grantcountybe
 at.com/community/legals/town-of-hurley-will-hold-a-workshop-animal-control-
 ordinance-september-2-2025" target="_blank" rel="noopener">https://www.gran
 tcountybeat.com/community/legals/town-of-hurley-will-hold-a-workshop-animal
 -control-ordinance-september-2-2025</a></p><p>&nbsp;</p>
DTSTAMP:20260421T092232
DTSTART;TZID=America/Denver:20250902T170000
SEQUENCE:0
TRANSP:OPAQUE
END:VEVENT
END:VCALENDAR