BEGIN:VCALENDAR
VERSION:2.0
PRODID:-//jEvents 2.0 for Joomla//EN
CALSCALE:GREGORIAN
METHOD:PUBLISH
BEGIN:VTIMEZONE
TZID:America/Denver
BEGIN:STANDARD
DTSTART:20251102T010000
RDATE:20260308T030000
TZOFFSETFROM:-0600
TZOFFSETTO:-0700
TZNAME:America/Denver MST
END:STANDARD
BEGIN:STANDARD
DTSTART:20261101T010000
RDATE:20270314T030000
TZOFFSETFROM:-0600
TZOFFSETTO:-0700
TZNAME:America/Denver MST
END:STANDARD
BEGIN:STANDARD
DTSTART:20271107T010000
RDATE:20280312T030000
TZOFFSETFROM:-0600
TZOFFSETTO:-0700
TZNAME:America/Denver MST
END:STANDARD
BEGIN:STANDARD
DTSTART:20281105T010000
RDATE:20290311T030000
TZOFFSETFROM:-0600
TZOFFSETTO:-0700
TZNAME:America/Denver MST
END:STANDARD
BEGIN:STANDARD
DTSTART:20291104T010000
RDATE:20300310T030000
TZOFFSETFROM:-0600
TZOFFSETTO:-0700
TZNAME:America/Denver MST
END:STANDARD
BEGIN:STANDARD
DTSTART:20301103T010000
RDATE:20310309T030000
TZOFFSETFROM:-0600
TZOFFSETTO:-0700
TZNAME:America/Denver MST
END:STANDARD
BEGIN:STANDARD
DTSTART:20311102T010000
RDATE:20320314T030000
TZOFFSETFROM:-0600
TZOFFSETTO:-0700
TZNAME:America/Denver MST
END:STANDARD
BEGIN:STANDARD
DTSTART:20321107T010000
RDATE:20330313T030000
TZOFFSETFROM:-0600
TZOFFSETTO:-0700
TZNAME:America/Denver MST
END:STANDARD
BEGIN:STANDARD
DTSTART:20331106T010000
RDATE:20340312T030000
TZOFFSETFROM:-0600
TZOFFSETTO:-0700
TZNAME:America/Denver MST
END:STANDARD
BEGIN:STANDARD
DTSTART:20341105T010000
RDATE:20350311T030000
TZOFFSETFROM:-0600
TZOFFSETTO:-0700
TZNAME:America/Denver MST
END:STANDARD
BEGIN:STANDARD
DTSTART:20351104T010000
RDATE:20360309T030000
TZOFFSETFROM:-0600
TZOFFSETTO:-0700
TZNAME:America/Denver MST
END:STANDARD
BEGIN:STANDARD
DTSTART:20361102T010000
RDATE:20370308T030000
TZOFFSETFROM:-0600
TZOFFSETTO:-0700
TZNAME:America/Denver MST
END:STANDARD
BEGIN:DAYLIGHT
DTSTART:20250422T090000
RDATE:20251102T010000
TZOFFSETFROM:-0700
TZOFFSETTO:-0600
TZNAME:America/Denver MDT
END:DAYLIGHT
BEGIN:DAYLIGHT
DTSTART:20260308T030000
RDATE:20261101T010000
TZOFFSETFROM:-0700
TZOFFSETTO:-0600
TZNAME:America/Denver MDT
END:DAYLIGHT
BEGIN:DAYLIGHT
DTSTART:20270314T030000
RDATE:20271107T010000
TZOFFSETFROM:-0700
TZOFFSETTO:-0600
TZNAME:America/Denver MDT
END:DAYLIGHT
BEGIN:DAYLIGHT
DTSTART:20280312T030000
RDATE:20281105T010000
TZOFFSETFROM:-0700
TZOFFSETTO:-0600
TZNAME:America/Denver MDT
END:DAYLIGHT
BEGIN:DAYLIGHT
DTSTART:20290311T030000
RDATE:20291104T010000
TZOFFSETFROM:-0700
TZOFFSETTO:-0600
TZNAME:America/Denver MDT
END:DAYLIGHT
BEGIN:DAYLIGHT
DTSTART:20300310T030000
RDATE:20301103T010000
TZOFFSETFROM:-0700
TZOFFSETTO:-0600
TZNAME:America/Denver MDT
END:DAYLIGHT
BEGIN:DAYLIGHT
DTSTART:20310309T030000
RDATE:20311102T010000
TZOFFSETFROM:-0700
TZOFFSETTO:-0600
TZNAME:America/Denver MDT
END:DAYLIGHT
BEGIN:DAYLIGHT
DTSTART:20320314T030000
RDATE:20321107T010000
TZOFFSETFROM:-0700
TZOFFSETTO:-0600
TZNAME:America/Denver MDT
END:DAYLIGHT
BEGIN:DAYLIGHT
DTSTART:20330313T030000
RDATE:20331106T010000
TZOFFSETFROM:-0700
TZOFFSETTO:-0600
TZNAME:America/Denver MDT
END:DAYLIGHT
BEGIN:DAYLIGHT
DTSTART:20340312T030000
RDATE:20341105T010000
TZOFFSETFROM:-0700
TZOFFSETTO:-0600
TZNAME:America/Denver MDT
END:DAYLIGHT
BEGIN:DAYLIGHT
DTSTART:20350311T030000
RDATE:20351104T010000
TZOFFSETFROM:-0700
TZOFFSETTO:-0600
TZNAME:America/Denver MDT
END:DAYLIGHT
BEGIN:DAYLIGHT
DTSTART:20360309T030000
RDATE:20361102T010000
TZOFFSETFROM:-0700
TZOFFSETTO:-0600
TZNAME:America/Denver MDT
END:DAYLIGHT
END:VTIMEZONE
BEGIN:VEVENT
UID:8d5317aba68c2da699c6c716c1f9123e
CATEGORIES:Education
CREATED:20260420T164644
SUMMARY:Free Training for Downtown Merchants, Organizations, and More!Visual Branding and Social Media
LOCATION:Silco Theater
DESCRIPTION:<p>Please join us on Thursday for a casual, no-fluff presentation about vis
 ual branding and social media for small businesses and organizations by Jul
 ia + Cam Wilde, New Mexico MainStreet Marketing and Graphic Design Speciali
 sts. Learn what's working now online, what to skip, how to prioritize, and 
 how to build a presence that actually represents you and gets potential cus
 tomers to act. </p><p>This training is FREE TO ATTEND! </p><p>We know you a
 re busy! We are pleased to offer two sessions, to accommodate as many sched
 ules as possible: </p><p>Thursday, April 23, 9:00 AM</p><p>Thursday, April 
 23, 5:00 PM</p><p>Full press release</p><p><a href="local-news/local-news-r
 eleases/free-training-for-downtown-merchants-organizations-and-more-visual-
 branding-and-social-media" target="_blank" rel="noopener">https://www.grant
 countybeat.com/local-news/local-news-releases/free-training-for-downtown-me
 rchants-organizations-and-more-visual-branding-and-social-media</a></p><p><
 /p>
X-ALT-DESC;FMTTYPE=text/html:<p>Please join us on Thursday for a casual, no-fluff presentation about vis
 ual branding and social media for small businesses and organizations by Jul
 ia + Cam Wilde, New Mexico MainStreet Marketing and Graphic Design Speciali
 sts. Learn what's working now online, what to skip, how to prioritize, and 
 how to build a presence that actually represents you and gets potential cus
 tomers to act. </p><p>This training is FREE TO ATTEND! </p><p>We know you a
 re busy! We are pleased to offer two sessions, to accommodate as many sched
 ules as possible: </p><p>Thursday, April 23, 9:00 AM</p><p>Thursday, April 
 23, 5:00 PM</p><p>Full press release</p><p><a href="https://grantcountybeat
 .com/local-news/local-news-releases/free-training-for-downtown-merchants-or
 ganizations-and-more-visual-branding-and-social-media" target="_blank" rel=
 "noopener">https://www.grantcountybeat.com/local-news/local-news-releases/f
 ree-training-for-downtown-merchants-organizations-and-more-visual-branding-
 and-social-media</a></p><p></p>
DTSTAMP:20260421T021933
DTSTART;TZID=America/Denver:20260423T090000
SEQUENCE:0
TRANSP:OPAQUE
END:VEVENT
END:VCALENDAR