BEGIN:VCALENDAR
VERSION:2.0
PRODID:-//jEvents 2.0 for Joomla//EN
CALSCALE:GREGORIAN
METHOD:PUBLISH
BEGIN:VTIMEZONE
TZID:America/Denver
BEGIN:STANDARD
DTSTART:20241123T000000
RDATE:20250309T030000
TZOFFSETFROM:-0600
TZOFFSETTO:-0700
TZNAME:America/Denver MST
END:STANDARD
BEGIN:STANDARD
DTSTART:20251102T010000
RDATE:20260308T030000
TZOFFSETFROM:-0600
TZOFFSETTO:-0700
TZNAME:America/Denver MST
END:STANDARD
BEGIN:STANDARD
DTSTART:20261101T010000
RDATE:20270314T030000
TZOFFSETFROM:-0600
TZOFFSETTO:-0700
TZNAME:America/Denver MST
END:STANDARD
BEGIN:STANDARD
DTSTART:20271107T010000
RDATE:20280312T030000
TZOFFSETFROM:-0600
TZOFFSETTO:-0700
TZNAME:America/Denver MST
END:STANDARD
BEGIN:STANDARD
DTSTART:20281105T010000
RDATE:20290311T030000
TZOFFSETFROM:-0600
TZOFFSETTO:-0700
TZNAME:America/Denver MST
END:STANDARD
BEGIN:STANDARD
DTSTART:20291104T010000
RDATE:20300310T030000
TZOFFSETFROM:-0600
TZOFFSETTO:-0700
TZNAME:America/Denver MST
END:STANDARD
BEGIN:STANDARD
DTSTART:20301103T010000
RDATE:20310309T030000
TZOFFSETFROM:-0600
TZOFFSETTO:-0700
TZNAME:America/Denver MST
END:STANDARD
BEGIN:STANDARD
DTSTART:20311102T010000
RDATE:20320314T030000
TZOFFSETFROM:-0600
TZOFFSETTO:-0700
TZNAME:America/Denver MST
END:STANDARD
BEGIN:STANDARD
DTSTART:20321107T010000
RDATE:20330313T030000
TZOFFSETFROM:-0600
TZOFFSETTO:-0700
TZNAME:America/Denver MST
END:STANDARD
BEGIN:STANDARD
DTSTART:20331106T010000
RDATE:20340312T030000
TZOFFSETFROM:-0600
TZOFFSETTO:-0700
TZNAME:America/Denver MST
END:STANDARD
BEGIN:STANDARD
DTSTART:20341105T010000
RDATE:20350311T030000
TZOFFSETFROM:-0600
TZOFFSETTO:-0700
TZNAME:America/Denver MST
END:STANDARD
BEGIN:STANDARD
DTSTART:20351104T010000
RDATE:20360309T030000
TZOFFSETFROM:-0600
TZOFFSETTO:-0700
TZNAME:America/Denver MST
END:STANDARD
BEGIN:STANDARD
DTSTART:20361102T010000
RDATE:20370308T030000
TZOFFSETFROM:-0600
TZOFFSETTO:-0700
TZNAME:America/Denver MST
END:STANDARD
BEGIN:DAYLIGHT
DTSTART:20250309T030000
RDATE:20251102T010000
TZOFFSETFROM:-0700
TZOFFSETTO:-0600
TZNAME:America/Denver MDT
END:DAYLIGHT
BEGIN:DAYLIGHT
DTSTART:20260308T030000
RDATE:20261101T010000
TZOFFSETFROM:-0700
TZOFFSETTO:-0600
TZNAME:America/Denver MDT
END:DAYLIGHT
BEGIN:DAYLIGHT
DTSTART:20270314T030000
RDATE:20271107T010000
TZOFFSETFROM:-0700
TZOFFSETTO:-0600
TZNAME:America/Denver MDT
END:DAYLIGHT
BEGIN:DAYLIGHT
DTSTART:20280312T030000
RDATE:20281105T010000
TZOFFSETFROM:-0700
TZOFFSETTO:-0600
TZNAME:America/Denver MDT
END:DAYLIGHT
BEGIN:DAYLIGHT
DTSTART:20290311T030000
RDATE:20291104T010000
TZOFFSETFROM:-0700
TZOFFSETTO:-0600
TZNAME:America/Denver MDT
END:DAYLIGHT
BEGIN:DAYLIGHT
DTSTART:20300310T030000
RDATE:20301103T010000
TZOFFSETFROM:-0700
TZOFFSETTO:-0600
TZNAME:America/Denver MDT
END:DAYLIGHT
BEGIN:DAYLIGHT
DTSTART:20310309T030000
RDATE:20311102T010000
TZOFFSETFROM:-0700
TZOFFSETTO:-0600
TZNAME:America/Denver MDT
END:DAYLIGHT
BEGIN:DAYLIGHT
DTSTART:20320314T030000
RDATE:20321107T010000
TZOFFSETFROM:-0700
TZOFFSETTO:-0600
TZNAME:America/Denver MDT
END:DAYLIGHT
BEGIN:DAYLIGHT
DTSTART:20330313T030000
RDATE:20331106T010000
TZOFFSETFROM:-0700
TZOFFSETTO:-0600
TZNAME:America/Denver MDT
END:DAYLIGHT
BEGIN:DAYLIGHT
DTSTART:20340312T030000
RDATE:20341105T010000
TZOFFSETFROM:-0700
TZOFFSETTO:-0600
TZNAME:America/Denver MDT
END:DAYLIGHT
BEGIN:DAYLIGHT
DTSTART:20350311T030000
RDATE:20351104T010000
TZOFFSETFROM:-0700
TZOFFSETTO:-0600
TZNAME:America/Denver MDT
END:DAYLIGHT
BEGIN:DAYLIGHT
DTSTART:20360309T030000
RDATE:20361102T010000
TZOFFSETFROM:-0700
TZOFFSETTO:-0600
TZNAME:America/Denver MDT
END:DAYLIGHT
END:VTIMEZONE
BEGIN:VEVENT
UID:69d2cce87c603a8763c3633af750d28c
CATEGORIES:Fundraiser
CREATED:20251014T153614
SUMMARY:2025 Grant County Toys for Tots campaign
DESCRIPTION:<p>The 2025 Grant County Toys for Tots campaign is underway!  As always, To
 ys for Tots remains committed to its promise to bring each child that may b
 e experiencing his or her own troubles the joy and hope of Christmas. </p><
 p>If you live in Grant County and need to request a toy for your child, ple
 ase go to <a href="https://www.silvercity-nm.toysfortots.org" target="_blan
 k" rel="noopener">www.silvercity-nm.toysfortots.org</a>  and click on the "
 request a toy" pull down menu then enter your information. ALL applications
  must be submitted online.</p><p>We will be accepting applications through 
 Friday, December 5.  Toy distribution will be at the Santa Clara Armory on 
 Saturday, December 20.  No walk-ins will be taken.</p><p>Full press release
 </p><p><a href="events-calendars/local-events/grant-county-campaign-oftoys-
 for-tots-is-underway" target="_blank" rel="noopener">https://www.grantcount
 ybeat.com/events-calendars/local-events/grant-county-campaign-oftoys-for-to
 ts-is-underway</a></p><p></p>
X-ALT-DESC;FMTTYPE=text/html:<p>The 2025 Grant County Toys for Tots campaign is underway!  As always, To
 ys for Tots remains committed to its promise to bring each child that may b
 e experiencing his or her own troubles the joy and hope of Christmas. </p><
 p>If you live in Grant County and need to request a toy for your child, ple
 ase go to <a href="https://www.silvercity-nm.toysfortots.org" target="_blan
 k" rel="noopener">www.silvercity-nm.toysfortots.org</a>  and click on the "
 request a toy" pull down menu then enter your information. ALL applications
  must be submitted online.</p><p>We will be accepting applications through 
 Friday, December 5.  Toy distribution will be at the Santa Clara Armory on 
 Saturday, December 20.  No walk-ins will be taken.</p><p>Full press release
 </p><p><a href="https://grantcountybeat.com/events-calendars/local-events/g
 rant-county-campaign-oftoys-for-tots-is-underway" target="_blank" rel="noop
 ener">https://www.grantcountybeat.com/events-calendars/local-events/grant-c
 ounty-campaign-oftoys-for-tots-is-underway</a></p><p></p>
DTSTAMP:20260421T002417
DTSTART;TZID=America/Denver;VALUE=DATE:20251124
DTEND;TZID=America/Denver;VALUE=DATE:20251125
SEQUENCE:0
TRANSP:OPAQUE
END:VEVENT
END:VCALENDAR